BEGIN:VCALENDAR
VERSION:2.0
PRODID:-//Read Talk Play Everyday - ECPv6.15.20//NONSGML v1.0//EN
CALSCALE:GREGORIAN
METHOD:PUBLISH
X-WR-CALNAME:Read Talk Play Everyday
X-ORIGINAL-URL:https://readtalkplayeveryday.com
X-WR-CALDESC:Events for Read Talk Play Everyday
REFRESH-INTERVAL;VALUE=DURATION:PT1H
X-Robots-Tag:noindex
X-PUBLISHED-TTL:PT1H
BEGIN:VTIMEZONE
TZID:UTC
BEGIN:STANDARD
TZOFFSETFROM:+0000
TZOFFSETTO:+0000
TZNAME:UTC
DTSTART:20240101T000000
END:STANDARD
END:VTIMEZONE
BEGIN:VEVENT
DTSTART;TZID=UTC:20250821T130000
DTEND;TZID=UTC:20250821T140000
DTSTAMP:20260423T121958
CREATED:20250703T202848Z
LAST-MODIFIED:20250703T202848Z
UID:10000020-1755781200-1755784800@readtalkplayeveryday.com
SUMMARY:Story Time in the Park
DESCRIPTION:August 21\, 1-2pm\, Harry C. Moore Pavilion in Riverside Park\, 1160 S. Riverside Drive. Children ages 2-8
URL:https://readtalkplayeveryday.com/event/story-time-in-the-park/
LOCATION:Riverside Park\, 1160 S. Riverside Dr.\, Beloit\, WI\, 53511\, United States
END:VEVENT
BEGIN:VEVENT
DTSTART;TZID=UTC:20250717T130000
DTEND;TZID=UTC:20250717T140000
DTSTAMP:20260423T121958
CREATED:20250702T015604Z
LAST-MODIFIED:20250702T015604Z
UID:10000012-1752757200-1752760800@readtalkplayeveryday.com
SUMMARY:Story Time in the Parks
DESCRIPTION:Join Beloit Public Library staff for adventure\, stories and crafts! Come for the story – stay for the newly renovated Turtle Island playground!
URL:https://readtalkplayeveryday.com/event/story-time-in-the-parks/
LOCATION:Riverside Park\, 1160 S. Riverside Dr.\, Beloit\, WI\, 53511\, United States
END:VEVENT
BEGIN:VEVENT
DTSTART;TZID=UTC:20250704T103000
DTEND;TZID=UTC:20250704T103000
DTSTAMP:20260423T121958
CREATED:20250702T015247Z
LAST-MODIFIED:20250702T015336Z
UID:10000011-1751625000-1751625000@readtalkplayeveryday.com
SUMMARY:July 4th Bike Parade
DESCRIPTION:Decorate your wheels with provided supplies and then travel around the lagoon! Awards will be presented for most creative decorating. Limit to 50 pre-registered participants. \nDate: July 4\nDay: Friday\nTime: 10am; parade starts at 10:30am\nLocation: Riverside Park\, 1160 S. Riverside Dr. Meet at Harry C. Moore Pavilion.\nFees: Free\nAges: 3-12\nRegistration Deadline: Tuesday\, July 1
URL:https://readtalkplayeveryday.com/event/july-4th-bike-parade/
LOCATION:Riverside Park\, 1160 S. Riverside Dr.\, Beloit\, WI\, 53511\, United States
END:VEVENT
END:VCALENDAR