BEGIN:VCALENDAR
VERSION:2.0
PRODID:-//Read Talk Play Everyday - ECPv6.15.20//NONSGML v1.0//EN
CALSCALE:GREGORIAN
METHOD:PUBLISH
X-ORIGINAL-URL:https://readtalkplayeveryday.com
X-WR-CALDESC:Events for Read Talk Play Everyday
REFRESH-INTERVAL;VALUE=DURATION:PT1H
X-Robots-Tag:noindex
X-PUBLISHED-TTL:PT1H
BEGIN:VTIMEZONE
TZID:UTC
BEGIN:STANDARD
TZOFFSETFROM:+0000
TZOFFSETTO:+0000
TZNAME:UTC
DTSTART:20240101T000000
END:STANDARD
END:VTIMEZONE
BEGIN:VEVENT
DTSTART;VALUE=DATE:20250908
DTEND;VALUE=DATE:20260101
DTSTAMP:20260425T083726
CREATED:20250909T013503Z
LAST-MODIFIED:20250909T231650Z
UID:10000031-1757289600-1767225599@readtalkplayeveryday.com
SUMMARY:Triple P Online - Positive Parenting Program
DESCRIPTION:Free support for your positive parenting journey\nNow\, you can do Triple P programs online\, at no cost. Give your kids key life skills and help the whole family\nstay calm and positive. What to expect:\n• Easy-to-use online programs with videos and fun interactive learning.\n• Each module only takes about an hour or less. You can do them in just a few minutes at a time.\n• Do it on your phone\, computer\, or tablet\, when you can.
URL:https://readtalkplayeveryday.com/event/triple-p-online-positive-parenting-program/
LOCATION:Online\, W\, United States
ATTACH;FMTTYPE=image/jpeg:https://readtalkplayeveryday.com/wp-content/uploads/PPP-flyer.jpg
END:VEVENT
END:VCALENDAR