BEGIN:VCALENDAR
VERSION:2.0
PRODID:-//Read Talk Play Everyday - ECPv6.15.20//NONSGML v1.0//EN
CALSCALE:GREGORIAN
METHOD:PUBLISH
X-ORIGINAL-URL:https://readtalkplayeveryday.com
X-WR-CALDESC:Events for Read Talk Play Everyday
REFRESH-INTERVAL;VALUE=DURATION:PT1H
X-Robots-Tag:noindex
X-PUBLISHED-TTL:PT1H
BEGIN:VTIMEZONE
TZID:America/Chicago
BEGIN:DAYLIGHT
TZOFFSETFROM:-0600
TZOFFSETTO:-0500
TZNAME:CDT
DTSTART:20250309T080000
END:DAYLIGHT
BEGIN:STANDARD
TZOFFSETFROM:-0500
TZOFFSETTO:-0600
TZNAME:CST
DTSTART:20251102T070000
END:STANDARD
BEGIN:DAYLIGHT
TZOFFSETFROM:-0600
TZOFFSETTO:-0500
TZNAME:CDT
DTSTART:20260308T080000
END:DAYLIGHT
BEGIN:STANDARD
TZOFFSETFROM:-0500
TZOFFSETTO:-0600
TZNAME:CST
DTSTART:20261101T070000
END:STANDARD
BEGIN:DAYLIGHT
TZOFFSETFROM:-0600
TZOFFSETTO:-0500
TZNAME:CDT
DTSTART:20270314T080000
END:DAYLIGHT
BEGIN:STANDARD
TZOFFSETFROM:-0500
TZOFFSETTO:-0600
TZNAME:CST
DTSTART:20271107T070000
END:STANDARD
END:VTIMEZONE
BEGIN:VEVENT
DTSTART;TZID=America/Chicago:20260324T100000
DTEND;TZID=America/Chicago:20260324T110000
DTSTAMP:20260420T095416
CREATED:20260202T183916Z
LAST-MODIFIED:20260202T183916Z
UID:10001340-1774346400-1774350000@readtalkplayeveryday.com
SUMMARY:Baby & Me Hour
DESCRIPTION:Baby & Me Hour is a relaxed gathering for parents and their babies. It’s a comfortable space to bring your baby\, enjoy light refreshments\, and connect with other families.\nEach gathering includes one midwife and one special guest from the community who are there to chat and answer questions as they come up.\nCome hang out\, meet other parents\, ask questions\, or simply enjoy being in the space.\nThis event is free and open to families with babies.
URL:https://readtalkplayeveryday.com/event/baby-me-hour/2026-03-24/
LOCATION:NorthPointe Birth Center\, 5609 E. Rockton Rd.\, Roscoe\, IL\, 61073\, United States
END:VEVENT
BEGIN:VEVENT
DTSTART;TZID=America/Chicago:20260304T170000
DTEND;TZID=America/Chicago:20260304T180000
DTSTAMP:20260420T095416
CREATED:20260202T183846Z
LAST-MODIFIED:20260202T183846Z
UID:10001341-1772643600-1772647200@readtalkplayeveryday.com
SUMMARY:Growing Together: Pregnancy Social Hour
DESCRIPTION:A casual social hour for those who are pregnant to slow down\, connect with others in a similar season\, and feel supported.\nSnacks and drinks provided.\nFree and open to the community.\nRegistration encouraged: https://www.beloithealthsystem.org/services/northpointe-birth-center/events/
URL:https://readtalkplayeveryday.com/event/growing-together-pregnancy-social-hour/
LOCATION:NorthPointe Birth Center\, 5609 E. Rockton Rd.\, Roscoe\, IL\, 61073\, United States
END:VEVENT
BEGIN:VEVENT
DTSTART;TZID=America/Chicago:20260224T100000
DTEND;TZID=America/Chicago:20260224T110000
DTSTAMP:20260420T095416
CREATED:20260202T183916Z
LAST-MODIFIED:20260202T183916Z
UID:10001339-1771927200-1771930800@readtalkplayeveryday.com
SUMMARY:Baby & Me Hour
DESCRIPTION:Baby & Me Hour is a relaxed gathering for parents and their babies. It’s a comfortable space to bring your baby\, enjoy light refreshments\, and connect with other families.\nEach gathering includes one midwife and one special guest from the community who are there to chat and answer questions as they come up.\nCome hang out\, meet other parents\, ask questions\, or simply enjoy being in the space.\nThis event is free and open to families with babies.
URL:https://readtalkplayeveryday.com/event/baby-me-hour/2026-02-24/
LOCATION:NorthPointe Birth Center\, 5609 E. Rockton Rd.\, Roscoe\, IL\, 61073\, United States
END:VEVENT
END:VCALENDAR