BEGIN:VCALENDAR
VERSION:2.0
PRODID:-//Read Talk Play Everyday - ECPv6.15.20//NONSGML v1.0//EN
CALSCALE:GREGORIAN
METHOD:PUBLISH
X-ORIGINAL-URL:https://readtalkplayeveryday.com
X-WR-CALDESC:Events for Read Talk Play Everyday
REFRESH-INTERVAL;VALUE=DURATION:PT1H
X-Robots-Tag:noindex
X-PUBLISHED-TTL:PT1H
BEGIN:VTIMEZONE
TZID:America/Chicago
BEGIN:DAYLIGHT
TZOFFSETFROM:-0600
TZOFFSETTO:-0500
TZNAME:CDT
DTSTART:20250309T080000
END:DAYLIGHT
BEGIN:STANDARD
TZOFFSETFROM:-0500
TZOFFSETTO:-0600
TZNAME:CST
DTSTART:20251102T070000
END:STANDARD
BEGIN:DAYLIGHT
TZOFFSETFROM:-0600
TZOFFSETTO:-0500
TZNAME:CDT
DTSTART:20260308T080000
END:DAYLIGHT
BEGIN:STANDARD
TZOFFSETFROM:-0500
TZOFFSETTO:-0600
TZNAME:CST
DTSTART:20261101T070000
END:STANDARD
BEGIN:DAYLIGHT
TZOFFSETFROM:-0600
TZOFFSETTO:-0500
TZNAME:CDT
DTSTART:20270314T080000
END:DAYLIGHT
BEGIN:STANDARD
TZOFFSETFROM:-0500
TZOFFSETTO:-0600
TZNAME:CST
DTSTART:20271107T070000
END:STANDARD
END:VTIMEZONE
BEGIN:VEVENT
DTSTART;TZID=America/Chicago:20260420T173000
DTEND;TZID=America/Chicago:20260420T180000
DTSTAMP:20260420T120554
CREATED:20260126T195422Z
LAST-MODIFIED:20260126T195422Z
UID:10000707-1776706200-1776708000@readtalkplayeveryday.com
SUMMARY:Story Time
DESCRIPTION:Stories\, finger plays\, rhymes\, and songs!
URL:https://readtalkplayeveryday.com/event/story-time/2026-04-20/
LOCATION:Milton Public Library\, 430 E High St\, Milton\, Wisconsin\, 53563
END:VEVENT
BEGIN:VEVENT
DTSTART;TZID=America/Chicago:20260422T103000
DTEND;TZID=America/Chicago:20260422T110000
DTSTAMP:20260420T120554
CREATED:20260126T220934Z
LAST-MODIFIED:20260126T220934Z
UID:10000970-1776853800-1776855600@readtalkplayeveryday.com
SUMMARY:Story Time
DESCRIPTION:Stories\, finger plays\, rhymes\, and songs!
URL:https://readtalkplayeveryday.com/event/story-time-2/2026-04-22/
LOCATION:Milton Public Library\, 430 E High St\, Milton\, Wisconsin\, 53563
ORGANIZER;CN="Milton Public Library":MAILTO:mpl@miltonpubliclibrary.org
END:VEVENT
BEGIN:VEVENT
DTSTART;TZID=America/Chicago:20260427T173000
DTEND;TZID=America/Chicago:20260427T180000
DTSTAMP:20260420T120554
CREATED:20260126T195422Z
LAST-MODIFIED:20260126T195422Z
UID:10000708-1777311000-1777312800@readtalkplayeveryday.com
SUMMARY:Story Time
DESCRIPTION:Stories\, finger plays\, rhymes\, and songs!
URL:https://readtalkplayeveryday.com/event/story-time/2026-04-27/
LOCATION:Milton Public Library\, 430 E High St\, Milton\, Wisconsin\, 53563
END:VEVENT
BEGIN:VEVENT
DTSTART;TZID=America/Chicago:20260429T103000
DTEND;TZID=America/Chicago:20260429T110000
DTSTAMP:20260420T120554
CREATED:20260126T220934Z
LAST-MODIFIED:20260126T220934Z
UID:10000971-1777458600-1777460400@readtalkplayeveryday.com
SUMMARY:Story Time
DESCRIPTION:Stories\, finger plays\, rhymes\, and songs!
URL:https://readtalkplayeveryday.com/event/story-time-2/2026-04-29/
LOCATION:Milton Public Library\, 430 E High St\, Milton\, Wisconsin\, 53563
ORGANIZER;CN="Milton Public Library":MAILTO:mpl@miltonpubliclibrary.org
END:VEVENT
BEGIN:VEVENT
DTSTART;TZID=America/Chicago:20260504T173000
DTEND;TZID=America/Chicago:20260504T180000
DTSTAMP:20260420T120554
CREATED:20260126T195422Z
LAST-MODIFIED:20260126T195422Z
UID:10000709-1777915800-1777917600@readtalkplayeveryday.com
SUMMARY:Story Time
DESCRIPTION:Stories\, finger plays\, rhymes\, and songs!
URL:https://readtalkplayeveryday.com/event/story-time/2026-05-04/
LOCATION:Milton Public Library\, 430 E High St\, Milton\, Wisconsin\, 53563
END:VEVENT
BEGIN:VEVENT
DTSTART;TZID=America/Chicago:20260506T103000
DTEND;TZID=America/Chicago:20260506T110000
DTSTAMP:20260420T120554
CREATED:20260126T220934Z
LAST-MODIFIED:20260126T220934Z
UID:10000972-1778063400-1778065200@readtalkplayeveryday.com
SUMMARY:Story Time
DESCRIPTION:Stories\, finger plays\, rhymes\, and songs!
URL:https://readtalkplayeveryday.com/event/story-time-2/2026-05-06/
LOCATION:Milton Public Library\, 430 E High St\, Milton\, Wisconsin\, 53563
ORGANIZER;CN="Milton Public Library":MAILTO:mpl@miltonpubliclibrary.org
END:VEVENT
BEGIN:VEVENT
DTSTART;TZID=America/Chicago:20260511T173000
DTEND;TZID=America/Chicago:20260511T180000
DTSTAMP:20260420T120554
CREATED:20260126T195422Z
LAST-MODIFIED:20260126T195422Z
UID:10000710-1778520600-1778522400@readtalkplayeveryday.com
SUMMARY:Story Time
DESCRIPTION:Stories\, finger plays\, rhymes\, and songs!
URL:https://readtalkplayeveryday.com/event/story-time/2026-05-11/
LOCATION:Milton Public Library\, 430 E High St\, Milton\, Wisconsin\, 53563
END:VEVENT
BEGIN:VEVENT
DTSTART;TZID=America/Chicago:20260513T103000
DTEND;TZID=America/Chicago:20260513T110000
DTSTAMP:20260420T120554
CREATED:20260126T220934Z
LAST-MODIFIED:20260126T220934Z
UID:10000973-1778668200-1778670000@readtalkplayeveryday.com
SUMMARY:Story Time
DESCRIPTION:Stories\, finger plays\, rhymes\, and songs!
URL:https://readtalkplayeveryday.com/event/story-time-2/2026-05-13/
LOCATION:Milton Public Library\, 430 E High St\, Milton\, Wisconsin\, 53563
ORGANIZER;CN="Milton Public Library":MAILTO:mpl@miltonpubliclibrary.org
END:VEVENT
BEGIN:VEVENT
DTSTART;TZID=America/Chicago:20260518T173000
DTEND;TZID=America/Chicago:20260518T180000
DTSTAMP:20260420T120554
CREATED:20260126T195422Z
LAST-MODIFIED:20260126T195422Z
UID:10000711-1779125400-1779127200@readtalkplayeveryday.com
SUMMARY:Story Time
DESCRIPTION:Stories\, finger plays\, rhymes\, and songs!
URL:https://readtalkplayeveryday.com/event/story-time/2026-05-18/
LOCATION:Milton Public Library\, 430 E High St\, Milton\, Wisconsin\, 53563
END:VEVENT
BEGIN:VEVENT
DTSTART;TZID=America/Chicago:20260520T103000
DTEND;TZID=America/Chicago:20260520T110000
DTSTAMP:20260420T120554
CREATED:20260126T220934Z
LAST-MODIFIED:20260126T220934Z
UID:10000974-1779273000-1779274800@readtalkplayeveryday.com
SUMMARY:Story Time
DESCRIPTION:Stories\, finger plays\, rhymes\, and songs!
URL:https://readtalkplayeveryday.com/event/story-time-2/2026-05-20/
LOCATION:Milton Public Library\, 430 E High St\, Milton\, Wisconsin\, 53563
ORGANIZER;CN="Milton Public Library":MAILTO:mpl@miltonpubliclibrary.org
END:VEVENT
BEGIN:VEVENT
DTSTART;TZID=America/Chicago:20260525T173000
DTEND;TZID=America/Chicago:20260525T180000
DTSTAMP:20260420T120554
CREATED:20260126T195422Z
LAST-MODIFIED:20260126T195422Z
UID:10000712-1779730200-1779732000@readtalkplayeveryday.com
SUMMARY:Story Time
DESCRIPTION:Stories\, finger plays\, rhymes\, and songs!
URL:https://readtalkplayeveryday.com/event/story-time/2026-05-25/
LOCATION:Milton Public Library\, 430 E High St\, Milton\, Wisconsin\, 53563
END:VEVENT
BEGIN:VEVENT
DTSTART;TZID=America/Chicago:20260527T103000
DTEND;TZID=America/Chicago:20260527T110000
DTSTAMP:20260420T120554
CREATED:20260126T220934Z
LAST-MODIFIED:20260126T220934Z
UID:10000975-1779877800-1779879600@readtalkplayeveryday.com
SUMMARY:Story Time
DESCRIPTION:Stories\, finger plays\, rhymes\, and songs!
URL:https://readtalkplayeveryday.com/event/story-time-2/2026-05-27/
LOCATION:Milton Public Library\, 430 E High St\, Milton\, Wisconsin\, 53563
ORGANIZER;CN="Milton Public Library":MAILTO:mpl@miltonpubliclibrary.org
END:VEVENT
BEGIN:VEVENT
DTSTART;TZID=America/Chicago:20260601T173000
DTEND;TZID=America/Chicago:20260601T180000
DTSTAMP:20260420T120554
CREATED:20260126T195422Z
LAST-MODIFIED:20260126T195422Z
UID:10000713-1780335000-1780336800@readtalkplayeveryday.com
SUMMARY:Story Time
DESCRIPTION:Stories\, finger plays\, rhymes\, and songs!
URL:https://readtalkplayeveryday.com/event/story-time/2026-06-01/
LOCATION:Milton Public Library\, 430 E High St\, Milton\, Wisconsin\, 53563
END:VEVENT
BEGIN:VEVENT
DTSTART;TZID=America/Chicago:20260603T103000
DTEND;TZID=America/Chicago:20260603T110000
DTSTAMP:20260420T120554
CREATED:20260126T220934Z
LAST-MODIFIED:20260126T220934Z
UID:10000976-1780482600-1780484400@readtalkplayeveryday.com
SUMMARY:Story Time
DESCRIPTION:Stories\, finger plays\, rhymes\, and songs!
URL:https://readtalkplayeveryday.com/event/story-time-2/2026-06-03/
LOCATION:Milton Public Library\, 430 E High St\, Milton\, Wisconsin\, 53563
ORGANIZER;CN="Milton Public Library":MAILTO:mpl@miltonpubliclibrary.org
END:VEVENT
BEGIN:VEVENT
DTSTART;TZID=America/Chicago:20260608T173000
DTEND;TZID=America/Chicago:20260608T180000
DTSTAMP:20260420T120554
CREATED:20260126T195422Z
LAST-MODIFIED:20260126T195422Z
UID:10000714-1780939800-1780941600@readtalkplayeveryday.com
SUMMARY:Story Time
DESCRIPTION:Stories\, finger plays\, rhymes\, and songs!
URL:https://readtalkplayeveryday.com/event/story-time/2026-06-08/
LOCATION:Milton Public Library\, 430 E High St\, Milton\, Wisconsin\, 53563
END:VEVENT
BEGIN:VEVENT
DTSTART;TZID=America/Chicago:20260610T103000
DTEND;TZID=America/Chicago:20260610T110000
DTSTAMP:20260420T120554
CREATED:20260126T220934Z
LAST-MODIFIED:20260126T220934Z
UID:10000977-1781087400-1781089200@readtalkplayeveryday.com
SUMMARY:Story Time
DESCRIPTION:Stories\, finger plays\, rhymes\, and songs!
URL:https://readtalkplayeveryday.com/event/story-time-2/2026-06-10/
LOCATION:Milton Public Library\, 430 E High St\, Milton\, Wisconsin\, 53563
ORGANIZER;CN="Milton Public Library":MAILTO:mpl@miltonpubliclibrary.org
END:VEVENT
BEGIN:VEVENT
DTSTART;TZID=America/Chicago:20260615T173000
DTEND;TZID=America/Chicago:20260615T180000
DTSTAMP:20260420T120554
CREATED:20260126T195422Z
LAST-MODIFIED:20260126T195422Z
UID:10000715-1781544600-1781546400@readtalkplayeveryday.com
SUMMARY:Story Time
DESCRIPTION:Stories\, finger plays\, rhymes\, and songs!
URL:https://readtalkplayeveryday.com/event/story-time/2026-06-15/
LOCATION:Milton Public Library\, 430 E High St\, Milton\, Wisconsin\, 53563
END:VEVENT
BEGIN:VEVENT
DTSTART;TZID=America/Chicago:20260617T103000
DTEND;TZID=America/Chicago:20260617T110000
DTSTAMP:20260420T120554
CREATED:20260126T220934Z
LAST-MODIFIED:20260126T220934Z
UID:10000978-1781692200-1781694000@readtalkplayeveryday.com
SUMMARY:Story Time
DESCRIPTION:Stories\, finger plays\, rhymes\, and songs!
URL:https://readtalkplayeveryday.com/event/story-time-2/2026-06-17/
LOCATION:Milton Public Library\, 430 E High St\, Milton\, Wisconsin\, 53563
ORGANIZER;CN="Milton Public Library":MAILTO:mpl@miltonpubliclibrary.org
END:VEVENT
BEGIN:VEVENT
DTSTART;TZID=America/Chicago:20260622T173000
DTEND;TZID=America/Chicago:20260622T180000
DTSTAMP:20260420T120554
CREATED:20260126T195422Z
LAST-MODIFIED:20260126T195422Z
UID:10000716-1782149400-1782151200@readtalkplayeveryday.com
SUMMARY:Story Time
DESCRIPTION:Stories\, finger plays\, rhymes\, and songs!
URL:https://readtalkplayeveryday.com/event/story-time/2026-06-22/
LOCATION:Milton Public Library\, 430 E High St\, Milton\, Wisconsin\, 53563
END:VEVENT
BEGIN:VEVENT
DTSTART;TZID=America/Chicago:20260624T103000
DTEND;TZID=America/Chicago:20260624T110000
DTSTAMP:20260420T120554
CREATED:20260126T220934Z
LAST-MODIFIED:20260126T220934Z
UID:10000979-1782297000-1782298800@readtalkplayeveryday.com
SUMMARY:Story Time
DESCRIPTION:Stories\, finger plays\, rhymes\, and songs!
URL:https://readtalkplayeveryday.com/event/story-time-2/2026-06-24/
LOCATION:Milton Public Library\, 430 E High St\, Milton\, Wisconsin\, 53563
ORGANIZER;CN="Milton Public Library":MAILTO:mpl@miltonpubliclibrary.org
END:VEVENT
BEGIN:VEVENT
DTSTART;TZID=America/Chicago:20260629T173000
DTEND;TZID=America/Chicago:20260629T180000
DTSTAMP:20260420T120554
CREATED:20260126T195422Z
LAST-MODIFIED:20260126T195422Z
UID:10000717-1782754200-1782756000@readtalkplayeveryday.com
SUMMARY:Story Time
DESCRIPTION:Stories\, finger plays\, rhymes\, and songs!
URL:https://readtalkplayeveryday.com/event/story-time/2026-06-29/
LOCATION:Milton Public Library\, 430 E High St\, Milton\, Wisconsin\, 53563
END:VEVENT
BEGIN:VEVENT
DTSTART;TZID=America/Chicago:20260701T103000
DTEND;TZID=America/Chicago:20260701T110000
DTSTAMP:20260420T120554
CREATED:20260126T220934Z
LAST-MODIFIED:20260126T220934Z
UID:10000980-1782901800-1782903600@readtalkplayeveryday.com
SUMMARY:Story Time
DESCRIPTION:Stories\, finger plays\, rhymes\, and songs!
URL:https://readtalkplayeveryday.com/event/story-time-2/2026-07-01/
LOCATION:Milton Public Library\, 430 E High St\, Milton\, Wisconsin\, 53563
ORGANIZER;CN="Milton Public Library":MAILTO:mpl@miltonpubliclibrary.org
END:VEVENT
BEGIN:VEVENT
DTSTART;TZID=America/Chicago:20260706T173000
DTEND;TZID=America/Chicago:20260706T180000
DTSTAMP:20260420T120554
CREATED:20260126T195422Z
LAST-MODIFIED:20260126T195422Z
UID:10000718-1783359000-1783360800@readtalkplayeveryday.com
SUMMARY:Story Time
DESCRIPTION:Stories\, finger plays\, rhymes\, and songs!
URL:https://readtalkplayeveryday.com/event/story-time/2026-07-06/
LOCATION:Milton Public Library\, 430 E High St\, Milton\, Wisconsin\, 53563
END:VEVENT
BEGIN:VEVENT
DTSTART;TZID=America/Chicago:20260708T103000
DTEND;TZID=America/Chicago:20260708T110000
DTSTAMP:20260420T120554
CREATED:20260126T220934Z
LAST-MODIFIED:20260126T220934Z
UID:10000981-1783506600-1783508400@readtalkplayeveryday.com
SUMMARY:Story Time
DESCRIPTION:Stories\, finger plays\, rhymes\, and songs!
URL:https://readtalkplayeveryday.com/event/story-time-2/2026-07-08/
LOCATION:Milton Public Library\, 430 E High St\, Milton\, Wisconsin\, 53563
ORGANIZER;CN="Milton Public Library":MAILTO:mpl@miltonpubliclibrary.org
END:VEVENT
BEGIN:VEVENT
DTSTART;TZID=America/Chicago:20260713T173000
DTEND;TZID=America/Chicago:20260713T180000
DTSTAMP:20260420T120554
CREATED:20260126T195422Z
LAST-MODIFIED:20260126T195422Z
UID:10000719-1783963800-1783965600@readtalkplayeveryday.com
SUMMARY:Story Time
DESCRIPTION:Stories\, finger plays\, rhymes\, and songs!
URL:https://readtalkplayeveryday.com/event/story-time/2026-07-13/
LOCATION:Milton Public Library\, 430 E High St\, Milton\, Wisconsin\, 53563
END:VEVENT
BEGIN:VEVENT
DTSTART;TZID=America/Chicago:20260715T103000
DTEND;TZID=America/Chicago:20260715T110000
DTSTAMP:20260420T120554
CREATED:20260126T220934Z
LAST-MODIFIED:20260126T220934Z
UID:10000982-1784111400-1784113200@readtalkplayeveryday.com
SUMMARY:Story Time
DESCRIPTION:Stories\, finger plays\, rhymes\, and songs!
URL:https://readtalkplayeveryday.com/event/story-time-2/2026-07-15/
LOCATION:Milton Public Library\, 430 E High St\, Milton\, Wisconsin\, 53563
ORGANIZER;CN="Milton Public Library":MAILTO:mpl@miltonpubliclibrary.org
END:VEVENT
BEGIN:VEVENT
DTSTART;TZID=America/Chicago:20260720T173000
DTEND;TZID=America/Chicago:20260720T180000
DTSTAMP:20260420T120554
CREATED:20260126T195422Z
LAST-MODIFIED:20260126T195422Z
UID:10000720-1784568600-1784570400@readtalkplayeveryday.com
SUMMARY:Story Time
DESCRIPTION:Stories\, finger plays\, rhymes\, and songs!
URL:https://readtalkplayeveryday.com/event/story-time/2026-07-20/
LOCATION:Milton Public Library\, 430 E High St\, Milton\, Wisconsin\, 53563
END:VEVENT
BEGIN:VEVENT
DTSTART;TZID=America/Chicago:20260722T103000
DTEND;TZID=America/Chicago:20260722T110000
DTSTAMP:20260420T120554
CREATED:20260126T220934Z
LAST-MODIFIED:20260126T220934Z
UID:10000983-1784716200-1784718000@readtalkplayeveryday.com
SUMMARY:Story Time
DESCRIPTION:Stories\, finger plays\, rhymes\, and songs!
URL:https://readtalkplayeveryday.com/event/story-time-2/2026-07-22/
LOCATION:Milton Public Library\, 430 E High St\, Milton\, Wisconsin\, 53563
ORGANIZER;CN="Milton Public Library":MAILTO:mpl@miltonpubliclibrary.org
END:VEVENT
BEGIN:VEVENT
DTSTART;TZID=America/Chicago:20260727T173000
DTEND;TZID=America/Chicago:20260727T180000
DTSTAMP:20260420T120554
CREATED:20260126T195422Z
LAST-MODIFIED:20260126T195422Z
UID:10000721-1785173400-1785175200@readtalkplayeveryday.com
SUMMARY:Story Time
DESCRIPTION:Stories\, finger plays\, rhymes\, and songs!
URL:https://readtalkplayeveryday.com/event/story-time/2026-07-27/
LOCATION:Milton Public Library\, 430 E High St\, Milton\, Wisconsin\, 53563
END:VEVENT
BEGIN:VEVENT
DTSTART;TZID=America/Chicago:20260729T103000
DTEND;TZID=America/Chicago:20260729T110000
DTSTAMP:20260420T120554
CREATED:20260126T220934Z
LAST-MODIFIED:20260126T220934Z
UID:10000984-1785321000-1785322800@readtalkplayeveryday.com
SUMMARY:Story Time
DESCRIPTION:Stories\, finger plays\, rhymes\, and songs!
URL:https://readtalkplayeveryday.com/event/story-time-2/2026-07-29/
LOCATION:Milton Public Library\, 430 E High St\, Milton\, Wisconsin\, 53563
ORGANIZER;CN="Milton Public Library":MAILTO:mpl@miltonpubliclibrary.org
END:VEVENT
END:VCALENDAR