BEGIN:VCALENDAR
VERSION:2.0
PRODID:-//Read Talk Play Everyday - ECPv6.15.20//NONSGML v1.0//EN
CALSCALE:GREGORIAN
METHOD:PUBLISH
X-WR-CALNAME:Read Talk Play Everyday
X-ORIGINAL-URL:https://readtalkplayeveryday.com
X-WR-CALDESC:Events for Read Talk Play Everyday
REFRESH-INTERVAL;VALUE=DURATION:PT1H
X-Robots-Tag:noindex
X-PUBLISHED-TTL:PT1H
BEGIN:VTIMEZONE
TZID:America/Chicago
BEGIN:DAYLIGHT
TZOFFSETFROM:-0600
TZOFFSETTO:-0500
TZNAME:CDT
DTSTART:20250309T080000
END:DAYLIGHT
BEGIN:STANDARD
TZOFFSETFROM:-0500
TZOFFSETTO:-0600
TZNAME:CST
DTSTART:20251102T070000
END:STANDARD
BEGIN:DAYLIGHT
TZOFFSETFROM:-0600
TZOFFSETTO:-0500
TZNAME:CDT
DTSTART:20260308T080000
END:DAYLIGHT
BEGIN:STANDARD
TZOFFSETFROM:-0500
TZOFFSETTO:-0600
TZNAME:CST
DTSTART:20261101T070000
END:STANDARD
BEGIN:DAYLIGHT
TZOFFSETFROM:-0600
TZOFFSETTO:-0500
TZNAME:CDT
DTSTART:20270314T080000
END:DAYLIGHT
BEGIN:STANDARD
TZOFFSETFROM:-0500
TZOFFSETTO:-0600
TZNAME:CST
DTSTART:20271107T070000
END:STANDARD
END:VTIMEZONE
BEGIN:VEVENT
DTSTART;TZID=America/Chicago:20260420T173000
DTEND;TZID=America/Chicago:20260420T180000
DTSTAMP:20260422T050701
CREATED:20260126T195422Z
LAST-MODIFIED:20260126T195422Z
UID:10000707-1776706200-1776708000@readtalkplayeveryday.com
SUMMARY:Story Time
DESCRIPTION:Stories\, finger plays\, rhymes\, and songs!
URL:https://readtalkplayeveryday.com/event/story-time/2026-04-20/
LOCATION:Milton Public Library\, 430 E High St\, Milton\, Wisconsin\, 53563
END:VEVENT
BEGIN:VEVENT
DTSTART;TZID=America/Chicago:20260415T103000
DTEND;TZID=America/Chicago:20260415T110000
DTSTAMP:20260422T050701
CREATED:20260126T220934Z
LAST-MODIFIED:20260126T220934Z
UID:10000969-1776249000-1776250800@readtalkplayeveryday.com
SUMMARY:Story Time
DESCRIPTION:Stories\, finger plays\, rhymes\, and songs!
URL:https://readtalkplayeveryday.com/event/story-time-2/2026-04-15/
LOCATION:Milton Public Library\, 430 E High St\, Milton\, Wisconsin\, 53563
ORGANIZER;CN="Milton Public Library":MAILTO:mpl@miltonpubliclibrary.org
END:VEVENT
BEGIN:VEVENT
DTSTART;TZID=America/Chicago:20260413T173000
DTEND;TZID=America/Chicago:20260413T180000
DTSTAMP:20260422T050701
CREATED:20260126T195422Z
LAST-MODIFIED:20260126T195422Z
UID:10000706-1776101400-1776103200@readtalkplayeveryday.com
SUMMARY:Story Time
DESCRIPTION:Stories\, finger plays\, rhymes\, and songs!
URL:https://readtalkplayeveryday.com/event/story-time/2026-04-13/
LOCATION:Milton Public Library\, 430 E High St\, Milton\, Wisconsin\, 53563
END:VEVENT
BEGIN:VEVENT
DTSTART;TZID=America/Chicago:20260408T103000
DTEND;TZID=America/Chicago:20260408T110000
DTSTAMP:20260422T050701
CREATED:20260126T220934Z
LAST-MODIFIED:20260126T220934Z
UID:10000968-1775644200-1775646000@readtalkplayeveryday.com
SUMMARY:Story Time
DESCRIPTION:Stories\, finger plays\, rhymes\, and songs!
URL:https://readtalkplayeveryday.com/event/story-time-2/2026-04-08/
LOCATION:Milton Public Library\, 430 E High St\, Milton\, Wisconsin\, 53563
ORGANIZER;CN="Milton Public Library":MAILTO:mpl@miltonpubliclibrary.org
END:VEVENT
BEGIN:VEVENT
DTSTART;TZID=America/Chicago:20260406T173000
DTEND;TZID=America/Chicago:20260406T180000
DTSTAMP:20260422T050701
CREATED:20260126T195422Z
LAST-MODIFIED:20260126T195422Z
UID:10000705-1775496600-1775498400@readtalkplayeveryday.com
SUMMARY:Story Time
DESCRIPTION:Stories\, finger plays\, rhymes\, and songs!
URL:https://readtalkplayeveryday.com/event/story-time/2026-04-06/
LOCATION:Milton Public Library\, 430 E High St\, Milton\, Wisconsin\, 53563
END:VEVENT
BEGIN:VEVENT
DTSTART;TZID=America/Chicago:20260401T103000
DTEND;TZID=America/Chicago:20260401T110000
DTSTAMP:20260422T050701
CREATED:20260126T220934Z
LAST-MODIFIED:20260126T220934Z
UID:10000967-1775039400-1775041200@readtalkplayeveryday.com
SUMMARY:Story Time
DESCRIPTION:Stories\, finger plays\, rhymes\, and songs!
URL:https://readtalkplayeveryday.com/event/story-time-2/2026-04-01/
LOCATION:Milton Public Library\, 430 E High St\, Milton\, Wisconsin\, 53563
ORGANIZER;CN="Milton Public Library":MAILTO:mpl@miltonpubliclibrary.org
END:VEVENT
BEGIN:VEVENT
DTSTART;TZID=America/Chicago:20260330T173000
DTEND;TZID=America/Chicago:20260330T180000
DTSTAMP:20260422T050701
CREATED:20260126T195422Z
LAST-MODIFIED:20260126T195422Z
UID:10000704-1774891800-1774893600@readtalkplayeveryday.com
SUMMARY:Story Time
DESCRIPTION:Stories\, finger plays\, rhymes\, and songs!
URL:https://readtalkplayeveryday.com/event/story-time/2026-03-30/
LOCATION:Milton Public Library\, 430 E High St\, Milton\, Wisconsin\, 53563
END:VEVENT
BEGIN:VEVENT
DTSTART;TZID=America/Chicago:20260325T103000
DTEND;TZID=America/Chicago:20260325T110000
DTSTAMP:20260422T050701
CREATED:20260126T220934Z
LAST-MODIFIED:20260126T220934Z
UID:10000966-1774434600-1774436400@readtalkplayeveryday.com
SUMMARY:Story Time
DESCRIPTION:Stories\, finger plays\, rhymes\, and songs!
URL:https://readtalkplayeveryday.com/event/story-time-2/2026-03-25/
LOCATION:Milton Public Library\, 430 E High St\, Milton\, Wisconsin\, 53563
ORGANIZER;CN="Milton Public Library":MAILTO:mpl@miltonpubliclibrary.org
END:VEVENT
BEGIN:VEVENT
DTSTART;TZID=America/Chicago:20260323T173000
DTEND;TZID=America/Chicago:20260323T180000
DTSTAMP:20260422T050701
CREATED:20260126T195422Z
LAST-MODIFIED:20260126T195422Z
UID:10000703-1774287000-1774288800@readtalkplayeveryday.com
SUMMARY:Story Time
DESCRIPTION:Stories\, finger plays\, rhymes\, and songs!
URL:https://readtalkplayeveryday.com/event/story-time/2026-03-23/
LOCATION:Milton Public Library\, 430 E High St\, Milton\, Wisconsin\, 53563
END:VEVENT
BEGIN:VEVENT
DTSTART;TZID=America/Chicago:20260318T103000
DTEND;TZID=America/Chicago:20260318T110000
DTSTAMP:20260422T050701
CREATED:20260126T220934Z
LAST-MODIFIED:20260126T220934Z
UID:10000965-1773829800-1773831600@readtalkplayeveryday.com
SUMMARY:Story Time
DESCRIPTION:Stories\, finger plays\, rhymes\, and songs!
URL:https://readtalkplayeveryday.com/event/story-time-2/2026-03-18/
LOCATION:Milton Public Library\, 430 E High St\, Milton\, Wisconsin\, 53563
ORGANIZER;CN="Milton Public Library":MAILTO:mpl@miltonpubliclibrary.org
END:VEVENT
BEGIN:VEVENT
DTSTART;TZID=America/Chicago:20260316T173000
DTEND;TZID=America/Chicago:20260316T180000
DTSTAMP:20260422T050701
CREATED:20260126T195422Z
LAST-MODIFIED:20260126T195422Z
UID:10000702-1773682200-1773684000@readtalkplayeveryday.com
SUMMARY:Story Time
DESCRIPTION:Stories\, finger plays\, rhymes\, and songs!
URL:https://readtalkplayeveryday.com/event/story-time/2026-03-16/
LOCATION:Milton Public Library\, 430 E High St\, Milton\, Wisconsin\, 53563
END:VEVENT
BEGIN:VEVENT
DTSTART;TZID=America/Chicago:20260311T103000
DTEND;TZID=America/Chicago:20260311T110000
DTSTAMP:20260422T050701
CREATED:20260126T220934Z
LAST-MODIFIED:20260126T220934Z
UID:10000964-1773225000-1773226800@readtalkplayeveryday.com
SUMMARY:Story Time
DESCRIPTION:Stories\, finger plays\, rhymes\, and songs!
URL:https://readtalkplayeveryday.com/event/story-time-2/2026-03-11/
LOCATION:Milton Public Library\, 430 E High St\, Milton\, Wisconsin\, 53563
ORGANIZER;CN="Milton Public Library":MAILTO:mpl@miltonpubliclibrary.org
END:VEVENT
BEGIN:VEVENT
DTSTART;TZID=America/Chicago:20260310T100000
DTEND;TZID=America/Chicago:20260310T103000
DTSTAMP:20260422T050701
CREATED:20260126T220806Z
LAST-MODIFIED:20260126T220843Z
UID:10000956-1773136800-1773138600@readtalkplayeveryday.com
SUMMARY:Stuffed Animal Yoga
DESCRIPTION:Bring your favorite stuffed animal and join us for a playful stuffed animal yoga session! For ages 5 & younger. Registration required: https://events.getlocalhop.com/stuffed-animal-yoga/event/XLbixKb3mJ/
URL:https://readtalkplayeveryday.com/event/stuffed-animal-yoga/
LOCATION:Milton Public Library\, 430 E High St\, Milton\, Wisconsin\, 53563
ORGANIZER;CN="Milton Public Library":MAILTO:mpl@miltonpubliclibrary.org
END:VEVENT
BEGIN:VEVENT
DTSTART;TZID=America/Chicago:20260309T173000
DTEND;TZID=America/Chicago:20260309T180000
DTSTAMP:20260422T050701
CREATED:20260126T195422Z
LAST-MODIFIED:20260126T195422Z
UID:10000701-1773077400-1773079200@readtalkplayeveryday.com
SUMMARY:Story Time
DESCRIPTION:Stories\, finger plays\, rhymes\, and songs!
URL:https://readtalkplayeveryday.com/event/story-time/2026-03-09/
LOCATION:Milton Public Library\, 430 E High St\, Milton\, Wisconsin\, 53563
END:VEVENT
BEGIN:VEVENT
DTSTART;TZID=America/Chicago:20260304T103000
DTEND;TZID=America/Chicago:20260304T110000
DTSTAMP:20260422T050701
CREATED:20260126T220934Z
LAST-MODIFIED:20260126T220934Z
UID:10000963-1772620200-1772622000@readtalkplayeveryday.com
SUMMARY:Story Time
DESCRIPTION:Stories\, finger plays\, rhymes\, and songs!
URL:https://readtalkplayeveryday.com/event/story-time-2/2026-03-04/
LOCATION:Milton Public Library\, 430 E High St\, Milton\, Wisconsin\, 53563
ORGANIZER;CN="Milton Public Library":MAILTO:mpl@miltonpubliclibrary.org
END:VEVENT
BEGIN:VEVENT
DTSTART;TZID=America/Chicago:20260302T173000
DTEND;TZID=America/Chicago:20260302T180000
DTSTAMP:20260422T050701
CREATED:20260126T195422Z
LAST-MODIFIED:20260126T195422Z
UID:10000700-1772472600-1772474400@readtalkplayeveryday.com
SUMMARY:Story Time
DESCRIPTION:Stories\, finger plays\, rhymes\, and songs!
URL:https://readtalkplayeveryday.com/event/story-time/2026-03-02/
LOCATION:Milton Public Library\, 430 E High St\, Milton\, Wisconsin\, 53563
END:VEVENT
BEGIN:VEVENT
DTSTART;TZID=America/Chicago:20260226T100000
DTEND;TZID=America/Chicago:20260226T110000
DTSTAMP:20260422T050701
CREATED:20260126T220912Z
LAST-MODIFIED:20260126T220912Z
UID:10000957-1772100000-1772103600@readtalkplayeveryday.com
SUMMARY:The SPARK @ MPL: Huff & Puff STEAM
DESCRIPTION:Join us for a Three Little Pigs-themed STEAM adventure! For ages 4 & younger. Registration required: https://events.getlocalhop.com/the-spark-mpl-huff-and-puff-steam/event/H5mYv8Lcjg/
URL:https://readtalkplayeveryday.com/event/the-spark-mpl-huff-puff-steam/
LOCATION:Milton Public Library\, 430 E High St\, Milton\, Wisconsin\, 53563
ORGANIZER;CN="Milton Public Library":MAILTO:mpl@miltonpubliclibrary.org
END:VEVENT
BEGIN:VEVENT
DTSTART;TZID=America/Chicago:20260225T103000
DTEND;TZID=America/Chicago:20260225T110000
DTSTAMP:20260422T050701
CREATED:20260126T220934Z
LAST-MODIFIED:20260126T220934Z
UID:10000962-1772015400-1772017200@readtalkplayeveryday.com
SUMMARY:Story Time
DESCRIPTION:Stories\, finger plays\, rhymes\, and songs!
URL:https://readtalkplayeveryday.com/event/story-time-2/2026-02-25/
LOCATION:Milton Public Library\, 430 E High St\, Milton\, Wisconsin\, 53563
ORGANIZER;CN="Milton Public Library":MAILTO:mpl@miltonpubliclibrary.org
END:VEVENT
BEGIN:VEVENT
DTSTART;TZID=America/Chicago:20260223T173000
DTEND;TZID=America/Chicago:20260223T180000
DTSTAMP:20260422T050701
CREATED:20260126T195422Z
LAST-MODIFIED:20260126T195422Z
UID:10000699-1771867800-1771869600@readtalkplayeveryday.com
SUMMARY:Story Time
DESCRIPTION:Stories\, finger plays\, rhymes\, and songs!
URL:https://readtalkplayeveryday.com/event/story-time/2026-02-23/
LOCATION:Milton Public Library\, 430 E High St\, Milton\, Wisconsin\, 53563
END:VEVENT
BEGIN:VEVENT
DTSTART;TZID=America/Chicago:20260218T103000
DTEND;TZID=America/Chicago:20260218T110000
DTSTAMP:20260422T050701
CREATED:20260126T220934Z
LAST-MODIFIED:20260126T220934Z
UID:10000961-1771410600-1771412400@readtalkplayeveryday.com
SUMMARY:Story Time
DESCRIPTION:Stories\, finger plays\, rhymes\, and songs!
URL:https://readtalkplayeveryday.com/event/story-time-2/2026-02-18/
LOCATION:Milton Public Library\, 430 E High St\, Milton\, Wisconsin\, 53563
ORGANIZER;CN="Milton Public Library":MAILTO:mpl@miltonpubliclibrary.org
END:VEVENT
BEGIN:VEVENT
DTSTART;TZID=America/Chicago:20260216T173000
DTEND;TZID=America/Chicago:20260216T180000
DTSTAMP:20260422T050701
CREATED:20260126T195422Z
LAST-MODIFIED:20260126T195422Z
UID:10000698-1771263000-1771264800@readtalkplayeveryday.com
SUMMARY:Story Time
DESCRIPTION:Stories\, finger plays\, rhymes\, and songs!
URL:https://readtalkplayeveryday.com/event/story-time/2026-02-16/
LOCATION:Milton Public Library\, 430 E High St\, Milton\, Wisconsin\, 53563
END:VEVENT
BEGIN:VEVENT
DTSTART;TZID=America/Chicago:20260211T103000
DTEND;TZID=America/Chicago:20260211T110000
DTSTAMP:20260422T050701
CREATED:20260126T220934Z
LAST-MODIFIED:20260126T220934Z
UID:10000960-1770805800-1770807600@readtalkplayeveryday.com
SUMMARY:Story Time
DESCRIPTION:Stories\, finger plays\, rhymes\, and songs!
URL:https://readtalkplayeveryday.com/event/story-time-2/2026-02-11/
LOCATION:Milton Public Library\, 430 E High St\, Milton\, Wisconsin\, 53563
ORGANIZER;CN="Milton Public Library":MAILTO:mpl@miltonpubliclibrary.org
END:VEVENT
BEGIN:VEVENT
DTSTART;TZID=America/Chicago:20260209T173000
DTEND;TZID=America/Chicago:20260209T180000
DTSTAMP:20260422T050701
CREATED:20260126T195422Z
LAST-MODIFIED:20260126T195422Z
UID:10000697-1770658200-1770660000@readtalkplayeveryday.com
SUMMARY:Story Time
DESCRIPTION:Stories\, finger plays\, rhymes\, and songs!
URL:https://readtalkplayeveryday.com/event/story-time/2026-02-09/
LOCATION:Milton Public Library\, 430 E High St\, Milton\, Wisconsin\, 53563
END:VEVENT
BEGIN:VEVENT
DTSTART;TZID=America/Chicago:20260204T103000
DTEND;TZID=America/Chicago:20260204T110000
DTSTAMP:20260422T050701
CREATED:20260126T220934Z
LAST-MODIFIED:20260126T220934Z
UID:10000959-1770201000-1770202800@readtalkplayeveryday.com
SUMMARY:Story Time
DESCRIPTION:Stories\, finger plays\, rhymes\, and songs!
URL:https://readtalkplayeveryday.com/event/story-time-2/2026-02-04/
LOCATION:Milton Public Library\, 430 E High St\, Milton\, Wisconsin\, 53563
ORGANIZER;CN="Milton Public Library":MAILTO:mpl@miltonpubliclibrary.org
END:VEVENT
BEGIN:VEVENT
DTSTART;TZID=America/Chicago:20260202T173000
DTEND;TZID=America/Chicago:20260202T180000
DTSTAMP:20260422T050701
CREATED:20260126T195422Z
LAST-MODIFIED:20260126T195422Z
UID:10000696-1770053400-1770055200@readtalkplayeveryday.com
SUMMARY:Story Time
DESCRIPTION:Stories\, finger plays\, rhymes\, and songs!
URL:https://readtalkplayeveryday.com/event/story-time/2026-02-02/
LOCATION:Milton Public Library\, 430 E High St\, Milton\, Wisconsin\, 53563
END:VEVENT
BEGIN:VEVENT
DTSTART;TZID=America/Chicago:20260128T103000
DTEND;TZID=America/Chicago:20260128T110000
DTSTAMP:20260422T050701
CREATED:20260126T220934Z
LAST-MODIFIED:20260126T220934Z
UID:10000958-1769596200-1769598000@readtalkplayeveryday.com
SUMMARY:Story Time
DESCRIPTION:Stories\, finger plays\, rhymes\, and songs!
URL:https://readtalkplayeveryday.com/event/story-time-2/2026-01-28/
LOCATION:Milton Public Library\, 430 E High St\, Milton\, Wisconsin\, 53563
ORGANIZER;CN="Milton Public Library":MAILTO:mpl@miltonpubliclibrary.org
END:VEVENT
END:VCALENDAR