BEGIN:VCALENDAR
VERSION:2.0
PRODID:-//Read Talk Play Everyday - ECPv6.15.20//NONSGML v1.0//EN
CALSCALE:GREGORIAN
METHOD:PUBLISH
X-ORIGINAL-URL:https://readtalkplayeveryday.com
X-WR-CALDESC:Events for Read Talk Play Everyday
REFRESH-INTERVAL;VALUE=DURATION:PT1H
X-Robots-Tag:noindex
X-PUBLISHED-TTL:PT1H
BEGIN:VTIMEZONE
TZID:America/Chicago
BEGIN:DAYLIGHT
TZOFFSETFROM:-0600
TZOFFSETTO:-0500
TZNAME:CDT
DTSTART:20260308T080000
END:DAYLIGHT
BEGIN:STANDARD
TZOFFSETFROM:-0500
TZOFFSETTO:-0600
TZNAME:CST
DTSTART:20261101T070000
END:STANDARD
BEGIN:DAYLIGHT
TZOFFSETFROM:-0600
TZOFFSETTO:-0500
TZNAME:CDT
DTSTART:20270314T080000
END:DAYLIGHT
BEGIN:STANDARD
TZOFFSETFROM:-0500
TZOFFSETTO:-0600
TZNAME:CST
DTSTART:20271107T070000
END:STANDARD
BEGIN:DAYLIGHT
TZOFFSETFROM:-0600
TZOFFSETTO:-0500
TZNAME:CDT
DTSTART:20280312T080000
END:DAYLIGHT
BEGIN:STANDARD
TZOFFSETFROM:-0500
TZOFFSETTO:-0600
TZNAME:CST
DTSTART:20281105T070000
END:STANDARD
END:VTIMEZONE
BEGIN:VEVENT
DTSTART;TZID=America/Chicago:20270128T093000
DTEND;TZID=America/Chicago:20270128T100000
DTSTAMP:20260419T234922
CREATED:20260121T210123Z
LAST-MODIFIED:20260121T210123Z
UID:10000666-1801128600-1801130400@readtalkplayeveryday.com
SUMMARY:Wiggle & Rhyme Storytime
DESCRIPTION:Join us for a lively\, interactive storytime featuring books\, songs\, action rhymes\, puppets and more. Each storytime incorporates the five practices of early literacy: READ\, WRITE\, TALK\, SING & PLAY. This session is perfect for toddlers and preschoolers with their caregivers. \nSame program offered at 9:30 and 10:30 a.m.\nDisclaimer(s)\nAccompanying Adults \nAn adult caregiver must accompany children at this program.\nNo Registration Required
URL:https://readtalkplayeveryday.com/event/wiggle-rhyme-storytime-9/2027-01-28/
LOCATION:Hedberg Public Library\, S. Main St.\, Janesville\, WI\, 53545\, United States
END:VEVENT
BEGIN:VEVENT
DTSTART;TZID=America/Chicago:20270204T093000
DTEND;TZID=America/Chicago:20270204T100000
DTSTAMP:20260419T234922
CREATED:20260121T210123Z
LAST-MODIFIED:20260121T210123Z
UID:10000667-1801733400-1801735200@readtalkplayeveryday.com
SUMMARY:Wiggle & Rhyme Storytime
DESCRIPTION:Join us for a lively\, interactive storytime featuring books\, songs\, action rhymes\, puppets and more. Each storytime incorporates the five practices of early literacy: READ\, WRITE\, TALK\, SING & PLAY. This session is perfect for toddlers and preschoolers with their caregivers. \nSame program offered at 9:30 and 10:30 a.m.\nDisclaimer(s)\nAccompanying Adults \nAn adult caregiver must accompany children at this program.\nNo Registration Required
URL:https://readtalkplayeveryday.com/event/wiggle-rhyme-storytime-9/2027-02-04/
LOCATION:Hedberg Public Library\, S. Main St.\, Janesville\, WI\, 53545\, United States
END:VEVENT
BEGIN:VEVENT
DTSTART;TZID=America/Chicago:20270211T093000
DTEND;TZID=America/Chicago:20270211T100000
DTSTAMP:20260419T234922
CREATED:20260121T210123Z
LAST-MODIFIED:20260121T210123Z
UID:10000668-1802338200-1802340000@readtalkplayeveryday.com
SUMMARY:Wiggle & Rhyme Storytime
DESCRIPTION:Join us for a lively\, interactive storytime featuring books\, songs\, action rhymes\, puppets and more. Each storytime incorporates the five practices of early literacy: READ\, WRITE\, TALK\, SING & PLAY. This session is perfect for toddlers and preschoolers with their caregivers. \nSame program offered at 9:30 and 10:30 a.m.\nDisclaimer(s)\nAccompanying Adults \nAn adult caregiver must accompany children at this program.\nNo Registration Required
URL:https://readtalkplayeveryday.com/event/wiggle-rhyme-storytime-9/2027-02-11/
LOCATION:Hedberg Public Library\, S. Main St.\, Janesville\, WI\, 53545\, United States
END:VEVENT
BEGIN:VEVENT
DTSTART;TZID=America/Chicago:20270218T093000
DTEND;TZID=America/Chicago:20270218T100000
DTSTAMP:20260419T234922
CREATED:20260121T210123Z
LAST-MODIFIED:20260121T210123Z
UID:10000669-1802943000-1802944800@readtalkplayeveryday.com
SUMMARY:Wiggle & Rhyme Storytime
DESCRIPTION:Join us for a lively\, interactive storytime featuring books\, songs\, action rhymes\, puppets and more. Each storytime incorporates the five practices of early literacy: READ\, WRITE\, TALK\, SING & PLAY. This session is perfect for toddlers and preschoolers with their caregivers. \nSame program offered at 9:30 and 10:30 a.m.\nDisclaimer(s)\nAccompanying Adults \nAn adult caregiver must accompany children at this program.\nNo Registration Required
URL:https://readtalkplayeveryday.com/event/wiggle-rhyme-storytime-9/2027-02-18/
LOCATION:Hedberg Public Library\, S. Main St.\, Janesville\, WI\, 53545\, United States
END:VEVENT
BEGIN:VEVENT
DTSTART;TZID=America/Chicago:20270225T093000
DTEND;TZID=America/Chicago:20270225T100000
DTSTAMP:20260419T234922
CREATED:20260121T210123Z
LAST-MODIFIED:20260121T210123Z
UID:10000670-1803547800-1803549600@readtalkplayeveryday.com
SUMMARY:Wiggle & Rhyme Storytime
DESCRIPTION:Join us for a lively\, interactive storytime featuring books\, songs\, action rhymes\, puppets and more. Each storytime incorporates the five practices of early literacy: READ\, WRITE\, TALK\, SING & PLAY. This session is perfect for toddlers and preschoolers with their caregivers. \nSame program offered at 9:30 and 10:30 a.m.\nDisclaimer(s)\nAccompanying Adults \nAn adult caregiver must accompany children at this program.\nNo Registration Required
URL:https://readtalkplayeveryday.com/event/wiggle-rhyme-storytime-9/2027-02-25/
LOCATION:Hedberg Public Library\, S. Main St.\, Janesville\, WI\, 53545\, United States
END:VEVENT
END:VCALENDAR