BEGIN:VCALENDAR
VERSION:2.0
PRODID:-//Read Talk Play Everyday - ECPv6.15.20//NONSGML v1.0//EN
CALSCALE:GREGORIAN
METHOD:PUBLISH
X-ORIGINAL-URL:https://readtalkplayeveryday.com
X-WR-CALDESC:Events for Read Talk Play Everyday
REFRESH-INTERVAL;VALUE=DURATION:PT1H
X-Robots-Tag:noindex
X-PUBLISHED-TTL:PT1H
BEGIN:VTIMEZONE
TZID:America/Chicago
BEGIN:DAYLIGHT
TZOFFSETFROM:-0600
TZOFFSETTO:-0500
TZNAME:CDT
DTSTART:20240310T080000
END:DAYLIGHT
BEGIN:STANDARD
TZOFFSETFROM:-0500
TZOFFSETTO:-0600
TZNAME:CST
DTSTART:20241103T070000
END:STANDARD
BEGIN:DAYLIGHT
TZOFFSETFROM:-0600
TZOFFSETTO:-0500
TZNAME:CDT
DTSTART:20250309T080000
END:DAYLIGHT
BEGIN:STANDARD
TZOFFSETFROM:-0500
TZOFFSETTO:-0600
TZNAME:CST
DTSTART:20251102T070000
END:STANDARD
BEGIN:DAYLIGHT
TZOFFSETFROM:-0600
TZOFFSETTO:-0500
TZNAME:CDT
DTSTART:20260308T080000
END:DAYLIGHT
BEGIN:STANDARD
TZOFFSETFROM:-0500
TZOFFSETTO:-0600
TZNAME:CST
DTSTART:20261101T070000
END:STANDARD
BEGIN:DAYLIGHT
TZOFFSETFROM:-0600
TZOFFSETTO:-0500
TZNAME:CDT
DTSTART:20270314T080000
END:DAYLIGHT
BEGIN:STANDARD
TZOFFSETFROM:-0500
TZOFFSETTO:-0600
TZNAME:CST
DTSTART:20271107T070000
END:STANDARD
END:VTIMEZONE
BEGIN:VTIMEZONE
TZID:UTC
BEGIN:STANDARD
TZOFFSETFROM:+0000
TZOFFSETTO:+0000
TZNAME:UTC
DTSTART:20240101T000000
END:STANDARD
END:VTIMEZONE
BEGIN:VEVENT
DTSTART;TZID=America/Chicago:20260212T093000
DTEND;TZID=America/Chicago:20260212T100000
DTSTAMP:20260423T095034
CREATED:20260121T210123Z
LAST-MODIFIED:20260121T210123Z
UID:10000616-1770888600-1770890400@readtalkplayeveryday.com
SUMMARY:Wiggle & Rhyme Storytime
DESCRIPTION:Join us for a lively\, interactive storytime featuring books\, songs\, action rhymes\, puppets and more. Each storytime incorporates the five practices of early literacy: READ\, WRITE\, TALK\, SING & PLAY. This session is perfect for toddlers and preschoolers with their caregivers. \nSame program offered at 9:30 and 10:30 a.m.\nDisclaimer(s)\nAccompanying Adults \nAn adult caregiver must accompany children at this program.\nNo Registration Required
URL:https://readtalkplayeveryday.com/event/wiggle-rhyme-storytime-9/2026-02-12/
LOCATION:Hedberg Public Library\, S. Main St.\, Janesville\, WI\, 53545\, United States
END:VEVENT
BEGIN:VEVENT
DTSTART;TZID=America/Chicago:20260211T093000
DTEND;TZID=America/Chicago:20260211T100000
DTSTAMP:20260423T095034
CREATED:20260121T212621Z
LAST-MODIFIED:20260121T212621Z
UID:10000688-1770802200-1770804000@readtalkplayeveryday.com
SUMMARY:Babies In the Library
DESCRIPTION:Start growing your reader with rhymes\, songs\, and simple books. Develop early literacy skills at this program for our youngest patrons.\nDisclaimer(s)\nAccompanying Adults\nAn adult caregiver must accompany children at this program.\nNo Registration Required
URL:https://readtalkplayeveryday.com/event/babies-in-the-library-9/2026-02-11/
LOCATION:Hedberg Public Library\, S. Main St.\, Janesville\, WI\, 53545\, United States
END:VEVENT
BEGIN:VEVENT
DTSTART;TZID=America/Chicago:20260209T180000
DTEND;TZID=America/Chicago:20260209T183000
DTSTAMP:20260423T095035
CREATED:20260121T205837Z
LAST-MODIFIED:20260121T205837Z
UID:10000685-1770660000-1770661800@readtalkplayeveryday.com
SUMMARY:Music & Movement
DESCRIPTION:Join us for this lively\, interactive program aimed at increasing language\, social\, problem-solving\, fine/gross motor skills\, and self-confidence through music-based activities. We’ll play with the parachute\, beanbags\, rhythm instruments\, and more as we build early literacy skills and make new friends! Perfect for preschoolers and their families.\nDisclaimer(s)\nAccompanying Adults\nAn adult caregiver must accompany children at this program.
URL:https://readtalkplayeveryday.com/event/music-movement/2026-02-09/
LOCATION:Hedberg Public Library\, S. Main St.\, Janesville\, WI\, 53545\, United States
END:VEVENT
BEGIN:VEVENT
DTSTART;TZID=America/Chicago:20260209T153000
DTEND;TZID=America/Chicago:20260209T170000
DTSTAMP:20260423T095035
CREATED:20260121T205748Z
LAST-MODIFIED:20260121T205748Z
UID:10000680-1770651000-1770656400@readtalkplayeveryday.com
SUMMARY:Read-In With Mary
DESCRIPTION:Join Mary the Comfort Dog for an afternoon READ-IN in the back of the Children’s Room. Bring or choose your own reading material for some cozy silent reading with Mary the Comfort Dog. Take turns reading aloud if you’d like! Mary loves company and stories.\nDisclaimer(s)\nNo Registration Required
URL:https://readtalkplayeveryday.com/event/read-in-with-mary-4/2026-02-09/
LOCATION:Hedberg Public Library\, S. Main St.\, Janesville\, WI\, 53545\, United States
END:VEVENT
BEGIN:VEVENT
DTSTART;TZID=America/Chicago:20260206T093000
DTEND;TZID=America/Chicago:20260206T103000
DTSTAMP:20260423T095035
CREATED:20260121T210051Z
LAST-MODIFIED:20260121T210051Z
UID:10000673-1770370200-1770373800@readtalkplayeveryday.com
SUMMARY:SENSEational Storytime
DESCRIPTION:Join us for a 15-minute playtime\, followed by 30 minutes of interactive stories\, songs\, and activities. This sensory friendly storytime is specially designed for library friends with sensory processing challenges or other developmental challenges\, but all are welcome. A visual schedule\, fidgets\, and more will be provided. \nDisclaimer(s)\nAccompanying Adults \nAn adult caregiver must accompany children at this program.\nNo Registration Required
URL:https://readtalkplayeveryday.com/event/senseational-storytime-3/2026-02-06/
LOCATION:Hedberg Public Library\, S. Main St.\, Janesville\, WI\, 53545\, United States
END:VEVENT
BEGIN:VEVENT
DTSTART;TZID=America/Chicago:20260205T093000
DTEND;TZID=America/Chicago:20260205T100000
DTSTAMP:20260423T095035
CREATED:20260121T210123Z
LAST-MODIFIED:20260121T210123Z
UID:10000615-1770283800-1770285600@readtalkplayeveryday.com
SUMMARY:Wiggle & Rhyme Storytime
DESCRIPTION:Join us for a lively\, interactive storytime featuring books\, songs\, action rhymes\, puppets and more. Each storytime incorporates the five practices of early literacy: READ\, WRITE\, TALK\, SING & PLAY. This session is perfect for toddlers and preschoolers with their caregivers. \nSame program offered at 9:30 and 10:30 a.m.\nDisclaimer(s)\nAccompanying Adults \nAn adult caregiver must accompany children at this program.\nNo Registration Required
URL:https://readtalkplayeveryday.com/event/wiggle-rhyme-storytime-9/2026-02-05/
LOCATION:Hedberg Public Library\, S. Main St.\, Janesville\, WI\, 53545\, United States
END:VEVENT
BEGIN:VEVENT
DTSTART;TZID=America/Chicago:20260204T093000
DTEND;TZID=America/Chicago:20260204T100000
DTSTAMP:20260423T095035
CREATED:20260121T212621Z
LAST-MODIFIED:20260121T212621Z
UID:10000687-1770197400-1770199200@readtalkplayeveryday.com
SUMMARY:Babies In the Library
DESCRIPTION:Start growing your reader with rhymes\, songs\, and simple books. Develop early literacy skills at this program for our youngest patrons.\nDisclaimer(s)\nAccompanying Adults\nAn adult caregiver must accompany children at this program.\nNo Registration Required
URL:https://readtalkplayeveryday.com/event/babies-in-the-library-9/2026-02-04/
LOCATION:Hedberg Public Library\, S. Main St.\, Janesville\, WI\, 53545\, United States
END:VEVENT
BEGIN:VEVENT
DTSTART;TZID=America/Chicago:20260202T180000
DTEND;TZID=America/Chicago:20260202T183000
DTSTAMP:20260423T095035
CREATED:20260121T205837Z
LAST-MODIFIED:20260121T205837Z
UID:10000684-1770055200-1770057000@readtalkplayeveryday.com
SUMMARY:Music & Movement
DESCRIPTION:Join us for this lively\, interactive program aimed at increasing language\, social\, problem-solving\, fine/gross motor skills\, and self-confidence through music-based activities. We’ll play with the parachute\, beanbags\, rhythm instruments\, and more as we build early literacy skills and make new friends! Perfect for preschoolers and their families.\nDisclaimer(s)\nAccompanying Adults\nAn adult caregiver must accompany children at this program.
URL:https://readtalkplayeveryday.com/event/music-movement/2026-02-02/
LOCATION:Hedberg Public Library\, S. Main St.\, Janesville\, WI\, 53545\, United States
END:VEVENT
BEGIN:VEVENT
DTSTART;TZID=America/Chicago:20260202T153000
DTEND;TZID=America/Chicago:20260202T170000
DTSTAMP:20260423T095035
CREATED:20260121T205748Z
LAST-MODIFIED:20260121T205748Z
UID:10000679-1770046200-1770051600@readtalkplayeveryday.com
SUMMARY:Read-In With Mary
DESCRIPTION:Join Mary the Comfort Dog for an afternoon READ-IN in the back of the Children’s Room. Bring or choose your own reading material for some cozy silent reading with Mary the Comfort Dog. Take turns reading aloud if you’d like! Mary loves company and stories.\nDisclaimer(s)\nNo Registration Required
URL:https://readtalkplayeveryday.com/event/read-in-with-mary-4/2026-02-02/
LOCATION:Hedberg Public Library\, S. Main St.\, Janesville\, WI\, 53545\, United States
END:VEVENT
BEGIN:VEVENT
DTSTART;TZID=America/Chicago:20260130T093000
DTEND;TZID=America/Chicago:20260130T103000
DTSTAMP:20260423T095035
CREATED:20260121T210051Z
LAST-MODIFIED:20260121T210051Z
UID:10000672-1769765400-1769769000@readtalkplayeveryday.com
SUMMARY:SENSEational Storytime
DESCRIPTION:Join us for a 15-minute playtime\, followed by 30 minutes of interactive stories\, songs\, and activities. This sensory friendly storytime is specially designed for library friends with sensory processing challenges or other developmental challenges\, but all are welcome. A visual schedule\, fidgets\, and more will be provided. \nDisclaimer(s)\nAccompanying Adults \nAn adult caregiver must accompany children at this program.\nNo Registration Required
URL:https://readtalkplayeveryday.com/event/senseational-storytime-3/2026-01-30/
LOCATION:Hedberg Public Library\, S. Main St.\, Janesville\, WI\, 53545\, United States
END:VEVENT
BEGIN:VEVENT
DTSTART;TZID=America/Chicago:20260129T093000
DTEND;TZID=America/Chicago:20260129T100000
DTSTAMP:20260423T095035
CREATED:20260121T210123Z
LAST-MODIFIED:20260121T210123Z
UID:10000614-1769679000-1769680800@readtalkplayeveryday.com
SUMMARY:Wiggle & Rhyme Storytime
DESCRIPTION:Join us for a lively\, interactive storytime featuring books\, songs\, action rhymes\, puppets and more. Each storytime incorporates the five practices of early literacy: READ\, WRITE\, TALK\, SING & PLAY. This session is perfect for toddlers and preschoolers with their caregivers. \nSame program offered at 9:30 and 10:30 a.m.\nDisclaimer(s)\nAccompanying Adults \nAn adult caregiver must accompany children at this program.\nNo Registration Required
URL:https://readtalkplayeveryday.com/event/wiggle-rhyme-storytime-9/2026-01-29/
LOCATION:Hedberg Public Library\, S. Main St.\, Janesville\, WI\, 53545\, United States
END:VEVENT
BEGIN:VEVENT
DTSTART;TZID=America/Chicago:20260128T093000
DTEND;TZID=America/Chicago:20260128T100000
DTSTAMP:20260423T095035
CREATED:20260121T212621Z
LAST-MODIFIED:20260121T212621Z
UID:10000686-1769592600-1769594400@readtalkplayeveryday.com
SUMMARY:Babies In the Library
DESCRIPTION:Start growing your reader with rhymes\, songs\, and simple books. Develop early literacy skills at this program for our youngest patrons.\nDisclaimer(s)\nAccompanying Adults\nAn adult caregiver must accompany children at this program.\nNo Registration Required
URL:https://readtalkplayeveryday.com/event/babies-in-the-library-9/2026-01-28/
LOCATION:Hedberg Public Library\, S. Main St.\, Janesville\, WI\, 53545\, United States
END:VEVENT
BEGIN:VEVENT
DTSTART;TZID=America/Chicago:20260126T180000
DTEND;TZID=America/Chicago:20260126T183000
DTSTAMP:20260423T095035
CREATED:20260121T205837Z
LAST-MODIFIED:20260121T205837Z
UID:10000683-1769450400-1769452200@readtalkplayeveryday.com
SUMMARY:Music & Movement
DESCRIPTION:Join us for this lively\, interactive program aimed at increasing language\, social\, problem-solving\, fine/gross motor skills\, and self-confidence through music-based activities. We’ll play with the parachute\, beanbags\, rhythm instruments\, and more as we build early literacy skills and make new friends! Perfect for preschoolers and their families.\nDisclaimer(s)\nAccompanying Adults\nAn adult caregiver must accompany children at this program.
URL:https://readtalkplayeveryday.com/event/music-movement/2026-01-26/
LOCATION:Hedberg Public Library\, S. Main St.\, Janesville\, WI\, 53545\, United States
END:VEVENT
BEGIN:VEVENT
DTSTART;TZID=America/Chicago:20260126T153000
DTEND;TZID=America/Chicago:20260126T170000
DTSTAMP:20260423T095035
CREATED:20260121T205748Z
LAST-MODIFIED:20260121T205748Z
UID:10000678-1769441400-1769446800@readtalkplayeveryday.com
SUMMARY:Read-In With Mary
DESCRIPTION:Join Mary the Comfort Dog for an afternoon READ-IN in the back of the Children’s Room. Bring or choose your own reading material for some cozy silent reading with Mary the Comfort Dog. Take turns reading aloud if you’d like! Mary loves company and stories.\nDisclaimer(s)\nNo Registration Required
URL:https://readtalkplayeveryday.com/event/read-in-with-mary-4/2026-01-26/
LOCATION:Hedberg Public Library\, S. Main St.\, Janesville\, WI\, 53545\, United States
END:VEVENT
BEGIN:VEVENT
DTSTART;TZID=America/Chicago:20260123T140000
DTEND;TZID=America/Chicago:20260123T160000
DTSTAMP:20260423T095035
CREATED:20260121T205902Z
LAST-MODIFIED:20260121T210031Z
UID:10000677-1769176800-1769184000@readtalkplayeveryday.com
SUMMARY:No School Movie- ELEMENTAL (2023)
DESCRIPTION:Kick back on your day off from school with a movie on a big screen at the library! Children under 8 will need to be accompanied by a grown up or caregiver. Come for the whole thing\, or pop in for your favorite part.\nDisclaimer(s)\nNo Registration Required
URL:https://readtalkplayeveryday.com/event/no-school-movie-elemental-2023/
LOCATION:Hedberg Public Library\, S. Main St.\, Janesville\, WI\, 53545\, United States
END:VEVENT
BEGIN:VEVENT
DTSTART;TZID=America/Chicago:20260123T093000
DTEND;TZID=America/Chicago:20260123T103000
DTSTAMP:20260423T095035
CREATED:20260121T210051Z
LAST-MODIFIED:20260121T210051Z
UID:10000671-1769160600-1769164200@readtalkplayeveryday.com
SUMMARY:SENSEational Storytime
DESCRIPTION:Join us for a 15-minute playtime\, followed by 30 minutes of interactive stories\, songs\, and activities. This sensory friendly storytime is specially designed for library friends with sensory processing challenges or other developmental challenges\, but all are welcome. A visual schedule\, fidgets\, and more will be provided. \nDisclaimer(s)\nAccompanying Adults \nAn adult caregiver must accompany children at this program.\nNo Registration Required
URL:https://readtalkplayeveryday.com/event/senseational-storytime-3/2026-01-23/
LOCATION:Hedberg Public Library\, S. Main St.\, Janesville\, WI\, 53545\, United States
END:VEVENT
BEGIN:VEVENT
DTSTART;TZID=America/Chicago:20260122T093000
DTEND;TZID=America/Chicago:20260122T100000
DTSTAMP:20260423T095035
CREATED:20260121T210123Z
LAST-MODIFIED:20260121T210123Z
UID:10000613-1769074200-1769076000@readtalkplayeveryday.com
SUMMARY:Wiggle & Rhyme Storytime
DESCRIPTION:Join us for a lively\, interactive storytime featuring books\, songs\, action rhymes\, puppets and more. Each storytime incorporates the five practices of early literacy: READ\, WRITE\, TALK\, SING & PLAY. This session is perfect for toddlers and preschoolers with their caregivers. \nSame program offered at 9:30 and 10:30 a.m.\nDisclaimer(s)\nAccompanying Adults \nAn adult caregiver must accompany children at this program.\nNo Registration Required
URL:https://readtalkplayeveryday.com/event/wiggle-rhyme-storytime-9/2026-01-22/
LOCATION:Hedberg Public Library\, S. Main St.\, Janesville\, WI\, 53545\, United States
END:VEVENT
BEGIN:VEVENT
DTSTART;TZID=America/Chicago:20251118T123000
DTEND;TZID=America/Chicago:20251118T133000
DTSTAMP:20260423T095035
CREATED:20251105T211756Z
LAST-MODIFIED:20251105T211756Z
UID:10000081-1763469000-1763472600@readtalkplayeveryday.com
SUMMARY:Breastfeeding Village
DESCRIPTION:Learn the ‘How Tos’ of nursing and pumping!\nFind comradery with other moms\, explore common questions and concerns\,\nand overcome those obstacles as a breastfeeding community. \nRegistration required. Call Nutrition and Health Associates at 608-893-7014 or email annikard@nhawic.org
URL:https://readtalkplayeveryday.com/event/breastfeeding-village/
LOCATION:Hedberg Public Library\, S. Main St.\, Janesville\, WI\, 53545\, United States
ATTACH;FMTTYPE=image/png:https://readtalkplayeveryday.com/wp-content/uploads/Screenshot-2025-11-05-151257.png
ORGANIZER;CN="Nutrition and Health Associates- WIC":MAILTO:annikard@nhawic.org
END:VEVENT
BEGIN:VEVENT
DTSTART;TZID=America/Chicago:20251003T094500
DTEND;TZID=America/Chicago:20251003T103000
DTSTAMP:20260423T095035
CREATED:20250909T201720Z
LAST-MODIFIED:20250909T201720Z
UID:10000073-1759484700-1759487400@readtalkplayeveryday.com
SUMMARY:SENSEsational Storytime
DESCRIPTION:Join us for a 15-minute playtime\, followed by 30 minutes of interactive stories\, songs\, and activities. This sensory friendly storytime is specially designed for library friends with sensory processing challenges or other developmental challenges\, but all are welcome. A visual schedule\, fidgets\, and more will be provided.
URL:https://readtalkplayeveryday.com/event/sensesational-storytime-2/
LOCATION:Hedberg Public Library\, S. Main St.\, Janesville\, WI\, 53545\, United States
END:VEVENT
BEGIN:VEVENT
DTSTART;TZID=America/Chicago:20251002T103000
DTEND;TZID=America/Chicago:20251002T110000
DTSTAMP:20260423T095035
CREATED:20250909T201610Z
LAST-MODIFIED:20250909T201610Z
UID:10000072-1759401000-1759402800@readtalkplayeveryday.com
SUMMARY:Wiggle & Rhyme Storytime
DESCRIPTION:Join us for a lively\, interactive storytime featuring books\, songs\, action rhymes\, puppets and more. Each storytime incorporates the five practices of early literacy: READ\, WRITE\, TALK\, SING & PLAY. This session is perfect for toddlers and preschoolers with their caregivers.
URL:https://readtalkplayeveryday.com/event/wiggle-rhyme-storytime-8/
LOCATION:Hedberg Public Library\, S. Main St.\, Janesville\, WI\, 53545\, United States
END:VEVENT
BEGIN:VEVENT
DTSTART;TZID=America/Chicago:20251002T093000
DTEND;TZID=America/Chicago:20251002T100000
DTSTAMP:20260423T095035
CREATED:20250909T194043Z
LAST-MODIFIED:20250909T194043Z
UID:10000065-1759397400-1759399200@readtalkplayeveryday.com
SUMMARY:Wiggle & Rhyme Storytime
DESCRIPTION:Join us for a lively\, interactive storytime featuring books\, songs\, action rhymes\, puppets and more. Each storytime incorporates the five practices of early literacy: READ\, WRITE\, TALK\, SING & PLAY. This session is perfect for toddlers and preschoolers with their caregivers.
URL:https://readtalkplayeveryday.com/event/wiggle-rhyme-storytime-5/
LOCATION:Hedberg Public Library\, S. Main St.\, Janesville\, WI\, 53545\, United States
END:VEVENT
BEGIN:VEVENT
DTSTART;TZID=America/Chicago:20251001T103000
DTEND;TZID=America/Chicago:20251001T110000
DTSTAMP:20260423T095035
CREATED:20250909T201520Z
LAST-MODIFIED:20250909T201520Z
UID:10000071-1759314600-1759316400@readtalkplayeveryday.com
SUMMARY:Babies in the Library
DESCRIPTION:Start growing your reader with rhymes\, songs\, and simple books. Develop early literacy skills at this program for our youngest patrons.  The same program is offered at 9:30 am and 10:30 am.
URL:https://readtalkplayeveryday.com/event/babies-in-the-library-8/
LOCATION:Hedberg Public Library\, S. Main St.\, Janesville\, WI\, 53545\, United States
END:VEVENT
BEGIN:VEVENT
DTSTART;TZID=America/Chicago:20251001T093000
DTEND;TZID=America/Chicago:20251001T100000
DTSTAMP:20260423T095035
CREATED:20250909T201427Z
LAST-MODIFIED:20250909T201427Z
UID:10000070-1759311000-1759312800@readtalkplayeveryday.com
SUMMARY:Babies in the Library
DESCRIPTION:Start growing your reader with rhymes\, songs\, and simple books. Develop early literacy skills at this program for our youngest patrons.  The same program is offered at 9:30 and 10:30 am.  
URL:https://readtalkplayeveryday.com/event/babies-in-the-library-7/
LOCATION:Hedberg Public Library\, S. Main St.\, Janesville\, WI\, 53545\, United States
END:VEVENT
BEGIN:VEVENT
DTSTART;TZID=America/Chicago:20250929T153000
DTEND;TZID=America/Chicago:20250929T170000
DTSTAMP:20260423T095035
CREATED:20250909T201328Z
LAST-MODIFIED:20250909T201328Z
UID:10000069-1759159800-1759165200@readtalkplayeveryday.com
SUMMARY:Read-In with Mary
DESCRIPTION:Join Mary the Comfort Dog for an afternoon READ-IN in the back of the Children’s Room.  Bring or choose your own reading material for some cozy silent reading with Mary the Comfort Dog.  Take turns reading aloud if you’d like!  Mary loves company and stories.
URL:https://readtalkplayeveryday.com/event/read-in-with-mary-3/
LOCATION:Hedberg Public Library\, S. Main St.\, Janesville\, WI\, 53545\, United States
END:VEVENT
BEGIN:VEVENT
DTSTART;TZID=America/Chicago:20250926T094500
DTEND;TZID=America/Chicago:20250926T103000
DTSTAMP:20260423T095035
CREATED:20250909T201237Z
LAST-MODIFIED:20250909T201237Z
UID:10000068-1758879900-1758882600@readtalkplayeveryday.com
SUMMARY:SENSEsational Storytime
DESCRIPTION:Join us for a 15-minute playtime\, followed by 30 minutes of interactive stories\, songs\, and activities. This sensory friendly storytime is specially designed for library friends with sensory processing challenges or other developmental challenges\, but all are welcome. A visual schedule\, fidgets\, and more will be provided.
URL:https://readtalkplayeveryday.com/event/sensesational-storytime/
LOCATION:Hedberg Public Library\, S. Main St.\, Janesville\, WI\, 53545\, United States
END:VEVENT
BEGIN:VEVENT
DTSTART;TZID=America/Chicago:20250925T103000
DTEND;TZID=America/Chicago:20250925T110000
DTSTAMP:20260423T095035
CREATED:20250909T200729Z
LAST-MODIFIED:20250909T200729Z
UID:10000067-1758796200-1758798000@readtalkplayeveryday.com
SUMMARY:Wiggle & Rhyme Storytime
DESCRIPTION:Join us for a lively\, interactive storytime featuring books\, songs\, action rhymes\, puppets and more. Each storytime incorporates the five practices of early literacy: READ\, WRITE\, TALK\, SING & PLAY. This session is perfect for toddlers and preschoolers with their caregivers.
URL:https://readtalkplayeveryday.com/event/wiggle-rhyme-storytime-7/
LOCATION:Hedberg Public Library\, S. Main St.\, Janesville\, WI\, 53545\, United States
END:VEVENT
BEGIN:VEVENT
DTSTART;TZID=America/Chicago:20250925T093000
DTEND;TZID=America/Chicago:20250925T100000
DTSTAMP:20260423T095035
CREATED:20250909T200644Z
LAST-MODIFIED:20250909T200644Z
UID:10000066-1758792600-1758794400@readtalkplayeveryday.com
SUMMARY:Wiggle & Rhyme Storytime
DESCRIPTION:Join us for a lively\, interactive storytime featuring books\, songs\, action rhymes\, puppets and more. Each storytime incorporates the five practices of early literacy: READ\, WRITE\, TALK\, SING & PLAY. This session is perfect for toddlers and preschoolers with their caregivers.
URL:https://readtalkplayeveryday.com/event/wiggle-rhyme-storytime-6/
LOCATION:Hedberg Public Library\, S. Main St.\, Janesville\, WI\, 53545\, United States
END:VEVENT
BEGIN:VEVENT
DTSTART;TZID=America/Chicago:20250924T103000
DTEND;TZID=America/Chicago:20250924T110000
DTSTAMP:20260423T095035
CREATED:20250909T193930Z
LAST-MODIFIED:20250909T193930Z
UID:10000064-1758709800-1758711600@readtalkplayeveryday.com
SUMMARY:Babies in the Library
DESCRIPTION:Start growing your reader with rhymes\, songs\, and simple books. Develop early literacy skills at this program for our youngest patrons.
URL:https://readtalkplayeveryday.com/event/babies-in-the-library-6/
LOCATION:Hedberg Public Library\, S. Main St.\, Janesville\, WI\, 53545\, United States
END:VEVENT
BEGIN:VEVENT
DTSTART;TZID=America/Chicago:20250924T093000
DTEND;TZID=America/Chicago:20250924T100000
DTSTAMP:20260423T095035
CREATED:20250909T193759Z
LAST-MODIFIED:20250909T193759Z
UID:10000063-1758706200-1758708000@readtalkplayeveryday.com
SUMMARY:Babies in the Library
DESCRIPTION:Start growing your reader with rhymes\, songs\, and simple books. Develop early literacy skills at this program for our youngest patrons.  The same program is offered at 9:30 and 10:30 am.  
URL:https://readtalkplayeveryday.com/event/babies-in-the-library-5/
LOCATION:Hedberg Public Library\, S. Main St.\, Janesville\, WI\, 53545\, United States
END:VEVENT
BEGIN:VEVENT
DTSTART;TZID=UTC:20250923T153000
DTEND;TZID=UTC:20250923T180000
DTSTAMP:20260423T095035
CREATED:20250909T235856Z
LAST-MODIFIED:20250909T235856Z
UID:10000049-1758641400-1758650400@readtalkplayeveryday.com
SUMMARY:Rock County Community Baby Shower
DESCRIPTION:Expectant parents and families who have welcomed a baby in the last 12months are invited to join us at the Rock County Community Baby Shower to learn about organizations that support the health and well-being of infants and those who care for them. We’ll share information\, offer hands-on learning experiences\, and give away free first-year essentials!
URL:https://readtalkplayeveryday.com/event/rock-county-community-baby-shower/
LOCATION:Hedberg Public Library\, S. Main St.\, Janesville\, WI\, 53545\, United States
END:VEVENT
END:VCALENDAR