BEGIN:VCALENDAR
VERSION:2.0
PRODID:-//Read Talk Play Everyday - ECPv6.15.20//NONSGML v1.0//EN
CALSCALE:GREGORIAN
METHOD:PUBLISH
X-WR-CALNAME:Read Talk Play Everyday
X-ORIGINAL-URL:https://readtalkplayeveryday.com
X-WR-CALDESC:Events for Read Talk Play Everyday
REFRESH-INTERVAL;VALUE=DURATION:PT1H
X-Robots-Tag:noindex
X-PUBLISHED-TTL:PT1H
BEGIN:VTIMEZONE
TZID:America/Chicago
BEGIN:DAYLIGHT
TZOFFSETFROM:-0600
TZOFFSETTO:-0500
TZNAME:CDT
DTSTART:20250309T080000
END:DAYLIGHT
BEGIN:STANDARD
TZOFFSETFROM:-0500
TZOFFSETTO:-0600
TZNAME:CST
DTSTART:20251102T070000
END:STANDARD
BEGIN:DAYLIGHT
TZOFFSETFROM:-0600
TZOFFSETTO:-0500
TZNAME:CDT
DTSTART:20260308T080000
END:DAYLIGHT
BEGIN:STANDARD
TZOFFSETFROM:-0500
TZOFFSETTO:-0600
TZNAME:CST
DTSTART:20261101T070000
END:STANDARD
BEGIN:DAYLIGHT
TZOFFSETFROM:-0600
TZOFFSETTO:-0500
TZNAME:CDT
DTSTART:20270314T080000
END:DAYLIGHT
BEGIN:STANDARD
TZOFFSETFROM:-0500
TZOFFSETTO:-0600
TZNAME:CST
DTSTART:20271107T070000
END:STANDARD
BEGIN:DAYLIGHT
TZOFFSETFROM:-0600
TZOFFSETTO:-0500
TZNAME:CDT
DTSTART:20280312T080000
END:DAYLIGHT
BEGIN:STANDARD
TZOFFSETFROM:-0500
TZOFFSETTO:-0600
TZNAME:CST
DTSTART:20281105T070000
END:STANDARD
END:VTIMEZONE
BEGIN:VEVENT
DTSTART;TZID=America/Chicago:20260702T093000
DTEND;TZID=America/Chicago:20260702T100000
DTSTAMP:20260419T190427
CREATED:20260121T210123Z
LAST-MODIFIED:20260121T210123Z
UID:10000636-1782984600-1782986400@readtalkplayeveryday.com
SUMMARY:Wiggle & Rhyme Storytime
DESCRIPTION:Join us for a lively\, interactive storytime featuring books\, songs\, action rhymes\, puppets and more. Each storytime incorporates the five practices of early literacy: READ\, WRITE\, TALK\, SING & PLAY. This session is perfect for toddlers and preschoolers with their caregivers. \nSame program offered at 9:30 and 10:30 a.m.\nDisclaimer(s)\nAccompanying Adults \nAn adult caregiver must accompany children at this program.\nNo Registration Required
URL:https://readtalkplayeveryday.com/event/wiggle-rhyme-storytime-9/2026-07-02/
LOCATION:Hedberg Public Library\, S. Main St.\, Janesville\, WI\, 53545\, United States
END:VEVENT
BEGIN:VEVENT
DTSTART;TZID=America/Chicago:20260709T093000
DTEND;TZID=America/Chicago:20260709T100000
DTSTAMP:20260419T190427
CREATED:20260121T210123Z
LAST-MODIFIED:20260121T210123Z
UID:10000637-1783589400-1783591200@readtalkplayeveryday.com
SUMMARY:Wiggle & Rhyme Storytime
DESCRIPTION:Join us for a lively\, interactive storytime featuring books\, songs\, action rhymes\, puppets and more. Each storytime incorporates the five practices of early literacy: READ\, WRITE\, TALK\, SING & PLAY. This session is perfect for toddlers and preschoolers with their caregivers. \nSame program offered at 9:30 and 10:30 a.m.\nDisclaimer(s)\nAccompanying Adults \nAn adult caregiver must accompany children at this program.\nNo Registration Required
URL:https://readtalkplayeveryday.com/event/wiggle-rhyme-storytime-9/2026-07-09/
LOCATION:Hedberg Public Library\, S. Main St.\, Janesville\, WI\, 53545\, United States
END:VEVENT
BEGIN:VEVENT
DTSTART;TZID=America/Chicago:20260716T093000
DTEND;TZID=America/Chicago:20260716T100000
DTSTAMP:20260419T190427
CREATED:20260121T210123Z
LAST-MODIFIED:20260121T210123Z
UID:10000638-1784194200-1784196000@readtalkplayeveryday.com
SUMMARY:Wiggle & Rhyme Storytime
DESCRIPTION:Join us for a lively\, interactive storytime featuring books\, songs\, action rhymes\, puppets and more. Each storytime incorporates the five practices of early literacy: READ\, WRITE\, TALK\, SING & PLAY. This session is perfect for toddlers and preschoolers with their caregivers. \nSame program offered at 9:30 and 10:30 a.m.\nDisclaimer(s)\nAccompanying Adults \nAn adult caregiver must accompany children at this program.\nNo Registration Required
URL:https://readtalkplayeveryday.com/event/wiggle-rhyme-storytime-9/2026-07-16/
LOCATION:Hedberg Public Library\, S. Main St.\, Janesville\, WI\, 53545\, United States
END:VEVENT
BEGIN:VEVENT
DTSTART;TZID=America/Chicago:20260723T093000
DTEND;TZID=America/Chicago:20260723T100000
DTSTAMP:20260419T190427
CREATED:20260121T210123Z
LAST-MODIFIED:20260121T210123Z
UID:10000639-1784799000-1784800800@readtalkplayeveryday.com
SUMMARY:Wiggle & Rhyme Storytime
DESCRIPTION:Join us for a lively\, interactive storytime featuring books\, songs\, action rhymes\, puppets and more. Each storytime incorporates the five practices of early literacy: READ\, WRITE\, TALK\, SING & PLAY. This session is perfect for toddlers and preschoolers with their caregivers. \nSame program offered at 9:30 and 10:30 a.m.\nDisclaimer(s)\nAccompanying Adults \nAn adult caregiver must accompany children at this program.\nNo Registration Required
URL:https://readtalkplayeveryday.com/event/wiggle-rhyme-storytime-9/2026-07-23/
LOCATION:Hedberg Public Library\, S. Main St.\, Janesville\, WI\, 53545\, United States
END:VEVENT
BEGIN:VEVENT
DTSTART;TZID=America/Chicago:20260730T093000
DTEND;TZID=America/Chicago:20260730T100000
DTSTAMP:20260419T190427
CREATED:20260121T210123Z
LAST-MODIFIED:20260121T210123Z
UID:10000640-1785403800-1785405600@readtalkplayeveryday.com
SUMMARY:Wiggle & Rhyme Storytime
DESCRIPTION:Join us for a lively\, interactive storytime featuring books\, songs\, action rhymes\, puppets and more. Each storytime incorporates the five practices of early literacy: READ\, WRITE\, TALK\, SING & PLAY. This session is perfect for toddlers and preschoolers with their caregivers. \nSame program offered at 9:30 and 10:30 a.m.\nDisclaimer(s)\nAccompanying Adults \nAn adult caregiver must accompany children at this program.\nNo Registration Required
URL:https://readtalkplayeveryday.com/event/wiggle-rhyme-storytime-9/2026-07-30/
LOCATION:Hedberg Public Library\, S. Main St.\, Janesville\, WI\, 53545\, United States
END:VEVENT
BEGIN:VEVENT
DTSTART;TZID=America/Chicago:20260806T093000
DTEND;TZID=America/Chicago:20260806T100000
DTSTAMP:20260419T190427
CREATED:20260121T210123Z
LAST-MODIFIED:20260121T210123Z
UID:10000641-1786008600-1786010400@readtalkplayeveryday.com
SUMMARY:Wiggle & Rhyme Storytime
DESCRIPTION:Join us for a lively\, interactive storytime featuring books\, songs\, action rhymes\, puppets and more. Each storytime incorporates the five practices of early literacy: READ\, WRITE\, TALK\, SING & PLAY. This session is perfect for toddlers and preschoolers with their caregivers. \nSame program offered at 9:30 and 10:30 a.m.\nDisclaimer(s)\nAccompanying Adults \nAn adult caregiver must accompany children at this program.\nNo Registration Required
URL:https://readtalkplayeveryday.com/event/wiggle-rhyme-storytime-9/2026-08-06/
LOCATION:Hedberg Public Library\, S. Main St.\, Janesville\, WI\, 53545\, United States
END:VEVENT
BEGIN:VEVENT
DTSTART;TZID=America/Chicago:20260813T093000
DTEND;TZID=America/Chicago:20260813T100000
DTSTAMP:20260419T190427
CREATED:20260121T210123Z
LAST-MODIFIED:20260121T210123Z
UID:10000642-1786613400-1786615200@readtalkplayeveryday.com
SUMMARY:Wiggle & Rhyme Storytime
DESCRIPTION:Join us for a lively\, interactive storytime featuring books\, songs\, action rhymes\, puppets and more. Each storytime incorporates the five practices of early literacy: READ\, WRITE\, TALK\, SING & PLAY. This session is perfect for toddlers and preschoolers with their caregivers. \nSame program offered at 9:30 and 10:30 a.m.\nDisclaimer(s)\nAccompanying Adults \nAn adult caregiver must accompany children at this program.\nNo Registration Required
URL:https://readtalkplayeveryday.com/event/wiggle-rhyme-storytime-9/2026-08-13/
LOCATION:Hedberg Public Library\, S. Main St.\, Janesville\, WI\, 53545\, United States
END:VEVENT
BEGIN:VEVENT
DTSTART;TZID=America/Chicago:20260820T093000
DTEND;TZID=America/Chicago:20260820T100000
DTSTAMP:20260419T190427
CREATED:20260121T210123Z
LAST-MODIFIED:20260121T210123Z
UID:10000643-1787218200-1787220000@readtalkplayeveryday.com
SUMMARY:Wiggle & Rhyme Storytime
DESCRIPTION:Join us for a lively\, interactive storytime featuring books\, songs\, action rhymes\, puppets and more. Each storytime incorporates the five practices of early literacy: READ\, WRITE\, TALK\, SING & PLAY. This session is perfect for toddlers and preschoolers with their caregivers. \nSame program offered at 9:30 and 10:30 a.m.\nDisclaimer(s)\nAccompanying Adults \nAn adult caregiver must accompany children at this program.\nNo Registration Required
URL:https://readtalkplayeveryday.com/event/wiggle-rhyme-storytime-9/2026-08-20/
LOCATION:Hedberg Public Library\, S. Main St.\, Janesville\, WI\, 53545\, United States
END:VEVENT
BEGIN:VEVENT
DTSTART;TZID=America/Chicago:20260827T093000
DTEND;TZID=America/Chicago:20260827T100000
DTSTAMP:20260419T190427
CREATED:20260121T210123Z
LAST-MODIFIED:20260121T210123Z
UID:10000644-1787823000-1787824800@readtalkplayeveryday.com
SUMMARY:Wiggle & Rhyme Storytime
DESCRIPTION:Join us for a lively\, interactive storytime featuring books\, songs\, action rhymes\, puppets and more. Each storytime incorporates the five practices of early literacy: READ\, WRITE\, TALK\, SING & PLAY. This session is perfect for toddlers and preschoolers with their caregivers. \nSame program offered at 9:30 and 10:30 a.m.\nDisclaimer(s)\nAccompanying Adults \nAn adult caregiver must accompany children at this program.\nNo Registration Required
URL:https://readtalkplayeveryday.com/event/wiggle-rhyme-storytime-9/2026-08-27/
LOCATION:Hedberg Public Library\, S. Main St.\, Janesville\, WI\, 53545\, United States
END:VEVENT
BEGIN:VEVENT
DTSTART;TZID=America/Chicago:20260903T093000
DTEND;TZID=America/Chicago:20260903T100000
DTSTAMP:20260419T190427
CREATED:20260121T210123Z
LAST-MODIFIED:20260121T210123Z
UID:10000645-1788427800-1788429600@readtalkplayeveryday.com
SUMMARY:Wiggle & Rhyme Storytime
DESCRIPTION:Join us for a lively\, interactive storytime featuring books\, songs\, action rhymes\, puppets and more. Each storytime incorporates the five practices of early literacy: READ\, WRITE\, TALK\, SING & PLAY. This session is perfect for toddlers and preschoolers with their caregivers. \nSame program offered at 9:30 and 10:30 a.m.\nDisclaimer(s)\nAccompanying Adults \nAn adult caregiver must accompany children at this program.\nNo Registration Required
URL:https://readtalkplayeveryday.com/event/wiggle-rhyme-storytime-9/2026-09-03/
LOCATION:Hedberg Public Library\, S. Main St.\, Janesville\, WI\, 53545\, United States
END:VEVENT
BEGIN:VEVENT
DTSTART;TZID=America/Chicago:20260910T093000
DTEND;TZID=America/Chicago:20260910T100000
DTSTAMP:20260419T190427
CREATED:20260121T210123Z
LAST-MODIFIED:20260121T210123Z
UID:10000646-1789032600-1789034400@readtalkplayeveryday.com
SUMMARY:Wiggle & Rhyme Storytime
DESCRIPTION:Join us for a lively\, interactive storytime featuring books\, songs\, action rhymes\, puppets and more. Each storytime incorporates the five practices of early literacy: READ\, WRITE\, TALK\, SING & PLAY. This session is perfect for toddlers and preschoolers with their caregivers. \nSame program offered at 9:30 and 10:30 a.m.\nDisclaimer(s)\nAccompanying Adults \nAn adult caregiver must accompany children at this program.\nNo Registration Required
URL:https://readtalkplayeveryday.com/event/wiggle-rhyme-storytime-9/2026-09-10/
LOCATION:Hedberg Public Library\, S. Main St.\, Janesville\, WI\, 53545\, United States
END:VEVENT
BEGIN:VEVENT
DTSTART;TZID=America/Chicago:20260917T093000
DTEND;TZID=America/Chicago:20260917T100000
DTSTAMP:20260419T190427
CREATED:20260121T210123Z
LAST-MODIFIED:20260121T210123Z
UID:10000647-1789637400-1789639200@readtalkplayeveryday.com
SUMMARY:Wiggle & Rhyme Storytime
DESCRIPTION:Join us for a lively\, interactive storytime featuring books\, songs\, action rhymes\, puppets and more. Each storytime incorporates the five practices of early literacy: READ\, WRITE\, TALK\, SING & PLAY. This session is perfect for toddlers and preschoolers with their caregivers. \nSame program offered at 9:30 and 10:30 a.m.\nDisclaimer(s)\nAccompanying Adults \nAn adult caregiver must accompany children at this program.\nNo Registration Required
URL:https://readtalkplayeveryday.com/event/wiggle-rhyme-storytime-9/2026-09-17/
LOCATION:Hedberg Public Library\, S. Main St.\, Janesville\, WI\, 53545\, United States
END:VEVENT
BEGIN:VEVENT
DTSTART;TZID=America/Chicago:20260924T093000
DTEND;TZID=America/Chicago:20260924T100000
DTSTAMP:20260419T190427
CREATED:20260121T210123Z
LAST-MODIFIED:20260121T210123Z
UID:10000648-1790242200-1790244000@readtalkplayeveryday.com
SUMMARY:Wiggle & Rhyme Storytime
DESCRIPTION:Join us for a lively\, interactive storytime featuring books\, songs\, action rhymes\, puppets and more. Each storytime incorporates the five practices of early literacy: READ\, WRITE\, TALK\, SING & PLAY. This session is perfect for toddlers and preschoolers with their caregivers. \nSame program offered at 9:30 and 10:30 a.m.\nDisclaimer(s)\nAccompanying Adults \nAn adult caregiver must accompany children at this program.\nNo Registration Required
URL:https://readtalkplayeveryday.com/event/wiggle-rhyme-storytime-9/2026-09-24/
LOCATION:Hedberg Public Library\, S. Main St.\, Janesville\, WI\, 53545\, United States
END:VEVENT
BEGIN:VEVENT
DTSTART;TZID=America/Chicago:20261001T093000
DTEND;TZID=America/Chicago:20261001T100000
DTSTAMP:20260419T190427
CREATED:20260121T210123Z
LAST-MODIFIED:20260121T210123Z
UID:10000649-1790847000-1790848800@readtalkplayeveryday.com
SUMMARY:Wiggle & Rhyme Storytime
DESCRIPTION:Join us for a lively\, interactive storytime featuring books\, songs\, action rhymes\, puppets and more. Each storytime incorporates the five practices of early literacy: READ\, WRITE\, TALK\, SING & PLAY. This session is perfect for toddlers and preschoolers with their caregivers. \nSame program offered at 9:30 and 10:30 a.m.\nDisclaimer(s)\nAccompanying Adults \nAn adult caregiver must accompany children at this program.\nNo Registration Required
URL:https://readtalkplayeveryday.com/event/wiggle-rhyme-storytime-9/2026-10-01/
LOCATION:Hedberg Public Library\, S. Main St.\, Janesville\, WI\, 53545\, United States
END:VEVENT
BEGIN:VEVENT
DTSTART;TZID=America/Chicago:20261008T093000
DTEND;TZID=America/Chicago:20261008T100000
DTSTAMP:20260419T190427
CREATED:20260121T210123Z
LAST-MODIFIED:20260121T210123Z
UID:10000650-1791451800-1791453600@readtalkplayeveryday.com
SUMMARY:Wiggle & Rhyme Storytime
DESCRIPTION:Join us for a lively\, interactive storytime featuring books\, songs\, action rhymes\, puppets and more. Each storytime incorporates the five practices of early literacy: READ\, WRITE\, TALK\, SING & PLAY. This session is perfect for toddlers and preschoolers with their caregivers. \nSame program offered at 9:30 and 10:30 a.m.\nDisclaimer(s)\nAccompanying Adults \nAn adult caregiver must accompany children at this program.\nNo Registration Required
URL:https://readtalkplayeveryday.com/event/wiggle-rhyme-storytime-9/2026-10-08/
LOCATION:Hedberg Public Library\, S. Main St.\, Janesville\, WI\, 53545\, United States
END:VEVENT
BEGIN:VEVENT
DTSTART;TZID=America/Chicago:20261015T093000
DTEND;TZID=America/Chicago:20261015T100000
DTSTAMP:20260419T190427
CREATED:20260121T210123Z
LAST-MODIFIED:20260121T210123Z
UID:10000651-1792056600-1792058400@readtalkplayeveryday.com
SUMMARY:Wiggle & Rhyme Storytime
DESCRIPTION:Join us for a lively\, interactive storytime featuring books\, songs\, action rhymes\, puppets and more. Each storytime incorporates the five practices of early literacy: READ\, WRITE\, TALK\, SING & PLAY. This session is perfect for toddlers and preschoolers with their caregivers. \nSame program offered at 9:30 and 10:30 a.m.\nDisclaimer(s)\nAccompanying Adults \nAn adult caregiver must accompany children at this program.\nNo Registration Required
URL:https://readtalkplayeveryday.com/event/wiggle-rhyme-storytime-9/2026-10-15/
LOCATION:Hedberg Public Library\, S. Main St.\, Janesville\, WI\, 53545\, United States
END:VEVENT
BEGIN:VEVENT
DTSTART;TZID=America/Chicago:20261022T093000
DTEND;TZID=America/Chicago:20261022T100000
DTSTAMP:20260419T190427
CREATED:20260121T210123Z
LAST-MODIFIED:20260121T210123Z
UID:10000652-1792661400-1792663200@readtalkplayeveryday.com
SUMMARY:Wiggle & Rhyme Storytime
DESCRIPTION:Join us for a lively\, interactive storytime featuring books\, songs\, action rhymes\, puppets and more. Each storytime incorporates the five practices of early literacy: READ\, WRITE\, TALK\, SING & PLAY. This session is perfect for toddlers and preschoolers with their caregivers. \nSame program offered at 9:30 and 10:30 a.m.\nDisclaimer(s)\nAccompanying Adults \nAn adult caregiver must accompany children at this program.\nNo Registration Required
URL:https://readtalkplayeveryday.com/event/wiggle-rhyme-storytime-9/2026-10-22/
LOCATION:Hedberg Public Library\, S. Main St.\, Janesville\, WI\, 53545\, United States
END:VEVENT
BEGIN:VEVENT
DTSTART;TZID=America/Chicago:20261029T093000
DTEND;TZID=America/Chicago:20261029T100000
DTSTAMP:20260419T190427
CREATED:20260121T210123Z
LAST-MODIFIED:20260121T210123Z
UID:10000653-1793266200-1793268000@readtalkplayeveryday.com
SUMMARY:Wiggle & Rhyme Storytime
DESCRIPTION:Join us for a lively\, interactive storytime featuring books\, songs\, action rhymes\, puppets and more. Each storytime incorporates the five practices of early literacy: READ\, WRITE\, TALK\, SING & PLAY. This session is perfect for toddlers and preschoolers with their caregivers. \nSame program offered at 9:30 and 10:30 a.m.\nDisclaimer(s)\nAccompanying Adults \nAn adult caregiver must accompany children at this program.\nNo Registration Required
URL:https://readtalkplayeveryday.com/event/wiggle-rhyme-storytime-9/2026-10-29/
LOCATION:Hedberg Public Library\, S. Main St.\, Janesville\, WI\, 53545\, United States
END:VEVENT
BEGIN:VEVENT
DTSTART;TZID=America/Chicago:20261105T093000
DTEND;TZID=America/Chicago:20261105T100000
DTSTAMP:20260419T190427
CREATED:20260121T210123Z
LAST-MODIFIED:20260121T210123Z
UID:10000654-1793871000-1793872800@readtalkplayeveryday.com
SUMMARY:Wiggle & Rhyme Storytime
DESCRIPTION:Join us for a lively\, interactive storytime featuring books\, songs\, action rhymes\, puppets and more. Each storytime incorporates the five practices of early literacy: READ\, WRITE\, TALK\, SING & PLAY. This session is perfect for toddlers and preschoolers with their caregivers. \nSame program offered at 9:30 and 10:30 a.m.\nDisclaimer(s)\nAccompanying Adults \nAn adult caregiver must accompany children at this program.\nNo Registration Required
URL:https://readtalkplayeveryday.com/event/wiggle-rhyme-storytime-9/2026-11-05/
LOCATION:Hedberg Public Library\, S. Main St.\, Janesville\, WI\, 53545\, United States
END:VEVENT
BEGIN:VEVENT
DTSTART;TZID=America/Chicago:20261112T093000
DTEND;TZID=America/Chicago:20261112T100000
DTSTAMP:20260419T190427
CREATED:20260121T210123Z
LAST-MODIFIED:20260121T210123Z
UID:10000655-1794475800-1794477600@readtalkplayeveryday.com
SUMMARY:Wiggle & Rhyme Storytime
DESCRIPTION:Join us for a lively\, interactive storytime featuring books\, songs\, action rhymes\, puppets and more. Each storytime incorporates the five practices of early literacy: READ\, WRITE\, TALK\, SING & PLAY. This session is perfect for toddlers and preschoolers with their caregivers. \nSame program offered at 9:30 and 10:30 a.m.\nDisclaimer(s)\nAccompanying Adults \nAn adult caregiver must accompany children at this program.\nNo Registration Required
URL:https://readtalkplayeveryday.com/event/wiggle-rhyme-storytime-9/2026-11-12/
LOCATION:Hedberg Public Library\, S. Main St.\, Janesville\, WI\, 53545\, United States
END:VEVENT
BEGIN:VEVENT
DTSTART;TZID=America/Chicago:20261119T093000
DTEND;TZID=America/Chicago:20261119T100000
DTSTAMP:20260419T190427
CREATED:20260121T210123Z
LAST-MODIFIED:20260121T210123Z
UID:10000656-1795080600-1795082400@readtalkplayeveryday.com
SUMMARY:Wiggle & Rhyme Storytime
DESCRIPTION:Join us for a lively\, interactive storytime featuring books\, songs\, action rhymes\, puppets and more. Each storytime incorporates the five practices of early literacy: READ\, WRITE\, TALK\, SING & PLAY. This session is perfect for toddlers and preschoolers with their caregivers. \nSame program offered at 9:30 and 10:30 a.m.\nDisclaimer(s)\nAccompanying Adults \nAn adult caregiver must accompany children at this program.\nNo Registration Required
URL:https://readtalkplayeveryday.com/event/wiggle-rhyme-storytime-9/2026-11-19/
LOCATION:Hedberg Public Library\, S. Main St.\, Janesville\, WI\, 53545\, United States
END:VEVENT
BEGIN:VEVENT
DTSTART;TZID=America/Chicago:20261126T093000
DTEND;TZID=America/Chicago:20261126T100000
DTSTAMP:20260419T190427
CREATED:20260121T210123Z
LAST-MODIFIED:20260121T210123Z
UID:10000657-1795685400-1795687200@readtalkplayeveryday.com
SUMMARY:Wiggle & Rhyme Storytime
DESCRIPTION:Join us for a lively\, interactive storytime featuring books\, songs\, action rhymes\, puppets and more. Each storytime incorporates the five practices of early literacy: READ\, WRITE\, TALK\, SING & PLAY. This session is perfect for toddlers and preschoolers with their caregivers. \nSame program offered at 9:30 and 10:30 a.m.\nDisclaimer(s)\nAccompanying Adults \nAn adult caregiver must accompany children at this program.\nNo Registration Required
URL:https://readtalkplayeveryday.com/event/wiggle-rhyme-storytime-9/2026-11-26/
LOCATION:Hedberg Public Library\, S. Main St.\, Janesville\, WI\, 53545\, United States
END:VEVENT
BEGIN:VEVENT
DTSTART;TZID=America/Chicago:20261203T093000
DTEND;TZID=America/Chicago:20261203T100000
DTSTAMP:20260419T190427
CREATED:20260121T210123Z
LAST-MODIFIED:20260121T210123Z
UID:10000658-1796290200-1796292000@readtalkplayeveryday.com
SUMMARY:Wiggle & Rhyme Storytime
DESCRIPTION:Join us for a lively\, interactive storytime featuring books\, songs\, action rhymes\, puppets and more. Each storytime incorporates the five practices of early literacy: READ\, WRITE\, TALK\, SING & PLAY. This session is perfect for toddlers and preschoolers with their caregivers. \nSame program offered at 9:30 and 10:30 a.m.\nDisclaimer(s)\nAccompanying Adults \nAn adult caregiver must accompany children at this program.\nNo Registration Required
URL:https://readtalkplayeveryday.com/event/wiggle-rhyme-storytime-9/2026-12-03/
LOCATION:Hedberg Public Library\, S. Main St.\, Janesville\, WI\, 53545\, United States
END:VEVENT
BEGIN:VEVENT
DTSTART;TZID=America/Chicago:20261210T093000
DTEND;TZID=America/Chicago:20261210T100000
DTSTAMP:20260419T190427
CREATED:20260121T210123Z
LAST-MODIFIED:20260121T210123Z
UID:10000659-1796895000-1796896800@readtalkplayeveryday.com
SUMMARY:Wiggle & Rhyme Storytime
DESCRIPTION:Join us for a lively\, interactive storytime featuring books\, songs\, action rhymes\, puppets and more. Each storytime incorporates the five practices of early literacy: READ\, WRITE\, TALK\, SING & PLAY. This session is perfect for toddlers and preschoolers with their caregivers. \nSame program offered at 9:30 and 10:30 a.m.\nDisclaimer(s)\nAccompanying Adults \nAn adult caregiver must accompany children at this program.\nNo Registration Required
URL:https://readtalkplayeveryday.com/event/wiggle-rhyme-storytime-9/2026-12-10/
LOCATION:Hedberg Public Library\, S. Main St.\, Janesville\, WI\, 53545\, United States
END:VEVENT
BEGIN:VEVENT
DTSTART;TZID=America/Chicago:20261217T093000
DTEND;TZID=America/Chicago:20261217T100000
DTSTAMP:20260419T190427
CREATED:20260121T210123Z
LAST-MODIFIED:20260121T210123Z
UID:10000660-1797499800-1797501600@readtalkplayeveryday.com
SUMMARY:Wiggle & Rhyme Storytime
DESCRIPTION:Join us for a lively\, interactive storytime featuring books\, songs\, action rhymes\, puppets and more. Each storytime incorporates the five practices of early literacy: READ\, WRITE\, TALK\, SING & PLAY. This session is perfect for toddlers and preschoolers with their caregivers. \nSame program offered at 9:30 and 10:30 a.m.\nDisclaimer(s)\nAccompanying Adults \nAn adult caregiver must accompany children at this program.\nNo Registration Required
URL:https://readtalkplayeveryday.com/event/wiggle-rhyme-storytime-9/2026-12-17/
LOCATION:Hedberg Public Library\, S. Main St.\, Janesville\, WI\, 53545\, United States
END:VEVENT
BEGIN:VEVENT
DTSTART;TZID=America/Chicago:20261224T093000
DTEND;TZID=America/Chicago:20261224T100000
DTSTAMP:20260419T190428
CREATED:20260121T210123Z
LAST-MODIFIED:20260121T210123Z
UID:10000661-1798104600-1798106400@readtalkplayeveryday.com
SUMMARY:Wiggle & Rhyme Storytime
DESCRIPTION:Join us for a lively\, interactive storytime featuring books\, songs\, action rhymes\, puppets and more. Each storytime incorporates the five practices of early literacy: READ\, WRITE\, TALK\, SING & PLAY. This session is perfect for toddlers and preschoolers with their caregivers. \nSame program offered at 9:30 and 10:30 a.m.\nDisclaimer(s)\nAccompanying Adults \nAn adult caregiver must accompany children at this program.\nNo Registration Required
URL:https://readtalkplayeveryday.com/event/wiggle-rhyme-storytime-9/2026-12-24/
LOCATION:Hedberg Public Library\, S. Main St.\, Janesville\, WI\, 53545\, United States
END:VEVENT
BEGIN:VEVENT
DTSTART;TZID=America/Chicago:20261231T093000
DTEND;TZID=America/Chicago:20261231T100000
DTSTAMP:20260419T190428
CREATED:20260121T210123Z
LAST-MODIFIED:20260121T210123Z
UID:10000662-1798709400-1798711200@readtalkplayeveryday.com
SUMMARY:Wiggle & Rhyme Storytime
DESCRIPTION:Join us for a lively\, interactive storytime featuring books\, songs\, action rhymes\, puppets and more. Each storytime incorporates the five practices of early literacy: READ\, WRITE\, TALK\, SING & PLAY. This session is perfect for toddlers and preschoolers with their caregivers. \nSame program offered at 9:30 and 10:30 a.m.\nDisclaimer(s)\nAccompanying Adults \nAn adult caregiver must accompany children at this program.\nNo Registration Required
URL:https://readtalkplayeveryday.com/event/wiggle-rhyme-storytime-9/2026-12-31/
LOCATION:Hedberg Public Library\, S. Main St.\, Janesville\, WI\, 53545\, United States
END:VEVENT
BEGIN:VEVENT
DTSTART;TZID=America/Chicago:20270107T093000
DTEND;TZID=America/Chicago:20270107T100000
DTSTAMP:20260419T190428
CREATED:20260121T210123Z
LAST-MODIFIED:20260121T210123Z
UID:10000663-1799314200-1799316000@readtalkplayeveryday.com
SUMMARY:Wiggle & Rhyme Storytime
DESCRIPTION:Join us for a lively\, interactive storytime featuring books\, songs\, action rhymes\, puppets and more. Each storytime incorporates the five practices of early literacy: READ\, WRITE\, TALK\, SING & PLAY. This session is perfect for toddlers and preschoolers with their caregivers. \nSame program offered at 9:30 and 10:30 a.m.\nDisclaimer(s)\nAccompanying Adults \nAn adult caregiver must accompany children at this program.\nNo Registration Required
URL:https://readtalkplayeveryday.com/event/wiggle-rhyme-storytime-9/2027-01-07/
LOCATION:Hedberg Public Library\, S. Main St.\, Janesville\, WI\, 53545\, United States
END:VEVENT
BEGIN:VEVENT
DTSTART;TZID=America/Chicago:20270114T093000
DTEND;TZID=America/Chicago:20270114T100000
DTSTAMP:20260419T190428
CREATED:20260121T210123Z
LAST-MODIFIED:20260121T210123Z
UID:10000664-1799919000-1799920800@readtalkplayeveryday.com
SUMMARY:Wiggle & Rhyme Storytime
DESCRIPTION:Join us for a lively\, interactive storytime featuring books\, songs\, action rhymes\, puppets and more. Each storytime incorporates the five practices of early literacy: READ\, WRITE\, TALK\, SING & PLAY. This session is perfect for toddlers and preschoolers with their caregivers. \nSame program offered at 9:30 and 10:30 a.m.\nDisclaimer(s)\nAccompanying Adults \nAn adult caregiver must accompany children at this program.\nNo Registration Required
URL:https://readtalkplayeveryday.com/event/wiggle-rhyme-storytime-9/2027-01-14/
LOCATION:Hedberg Public Library\, S. Main St.\, Janesville\, WI\, 53545\, United States
END:VEVENT
BEGIN:VEVENT
DTSTART;TZID=America/Chicago:20270121T093000
DTEND;TZID=America/Chicago:20270121T100000
DTSTAMP:20260419T190428
CREATED:20260121T210123Z
LAST-MODIFIED:20260121T210123Z
UID:10000665-1800523800-1800525600@readtalkplayeveryday.com
SUMMARY:Wiggle & Rhyme Storytime
DESCRIPTION:Join us for a lively\, interactive storytime featuring books\, songs\, action rhymes\, puppets and more. Each storytime incorporates the five practices of early literacy: READ\, WRITE\, TALK\, SING & PLAY. This session is perfect for toddlers and preschoolers with their caregivers. \nSame program offered at 9:30 and 10:30 a.m.\nDisclaimer(s)\nAccompanying Adults \nAn adult caregiver must accompany children at this program.\nNo Registration Required
URL:https://readtalkplayeveryday.com/event/wiggle-rhyme-storytime-9/2027-01-21/
LOCATION:Hedberg Public Library\, S. Main St.\, Janesville\, WI\, 53545\, United States
END:VEVENT
END:VCALENDAR