BEGIN:VCALENDAR
VERSION:2.0
PRODID:-//Read Talk Play Everyday - ECPv6.15.20//NONSGML v1.0//EN
CALSCALE:GREGORIAN
METHOD:PUBLISH
X-ORIGINAL-URL:https://readtalkplayeveryday.com
X-WR-CALDESC:Events for Read Talk Play Everyday
REFRESH-INTERVAL;VALUE=DURATION:PT1H
X-Robots-Tag:noindex
X-PUBLISHED-TTL:PT1H
BEGIN:VTIMEZONE
TZID:America/Chicago
BEGIN:DAYLIGHT
TZOFFSETFROM:-0600
TZOFFSETTO:-0500
TZNAME:CDT
DTSTART:20250309T080000
END:DAYLIGHT
BEGIN:STANDARD
TZOFFSETFROM:-0500
TZOFFSETTO:-0600
TZNAME:CST
DTSTART:20251102T070000
END:STANDARD
BEGIN:DAYLIGHT
TZOFFSETFROM:-0600
TZOFFSETTO:-0500
TZNAME:CDT
DTSTART:20260308T080000
END:DAYLIGHT
BEGIN:STANDARD
TZOFFSETFROM:-0500
TZOFFSETTO:-0600
TZNAME:CST
DTSTART:20261101T070000
END:STANDARD
BEGIN:DAYLIGHT
TZOFFSETFROM:-0600
TZOFFSETTO:-0500
TZNAME:CDT
DTSTART:20270314T080000
END:DAYLIGHT
BEGIN:STANDARD
TZOFFSETFROM:-0500
TZOFFSETTO:-0600
TZNAME:CST
DTSTART:20271107T070000
END:STANDARD
END:VTIMEZONE
BEGIN:VEVENT
DTSTART;TZID=America/Chicago:20260331T100000
DTEND;TZID=America/Chicago:20260331T110000
DTSTAMP:20260420T122405
CREATED:20260128T202028Z
LAST-MODIFIED:20260128T202028Z
UID:10001296-1774951200-1774954800@readtalkplayeveryday.com
SUMMARY:Storytime
DESCRIPTION:Bring your small human to the library for some fun stories\, songs\, and movement every Tuesday at 10am.
URL:https://readtalkplayeveryday.com/event/storytime/2026-03-31/
LOCATION:Edgerton Public Library\, 101 Albion Street\, Edgerton\, WI\, 53534\, United States
ORGANIZER;CN="Edgerton Public Library":MAILTO:smith.beth@edgertonpubliclibrary.org
END:VEVENT
BEGIN:VEVENT
DTSTART;TZID=America/Chicago:20260324T100000
DTEND;TZID=America/Chicago:20260324T110000
DTSTAMP:20260420T122405
CREATED:20260128T202028Z
LAST-MODIFIED:20260128T202028Z
UID:10001295-1774346400-1774350000@readtalkplayeveryday.com
SUMMARY:Storytime
DESCRIPTION:Bring your small human to the library for some fun stories\, songs\, and movement every Tuesday at 10am.
URL:https://readtalkplayeveryday.com/event/storytime/2026-03-24/
LOCATION:Edgerton Public Library\, 101 Albion Street\, Edgerton\, WI\, 53534\, United States
ORGANIZER;CN="Edgerton Public Library":MAILTO:smith.beth@edgertonpubliclibrary.org
END:VEVENT
BEGIN:VEVENT
DTSTART;TZID=America/Chicago:20260317T100000
DTEND;TZID=America/Chicago:20260317T110000
DTSTAMP:20260420T122405
CREATED:20260128T202028Z
LAST-MODIFIED:20260128T202028Z
UID:10001294-1773741600-1773745200@readtalkplayeveryday.com
SUMMARY:Storytime
DESCRIPTION:Bring your small human to the library for some fun stories\, songs\, and movement every Tuesday at 10am.
URL:https://readtalkplayeveryday.com/event/storytime/2026-03-17/
LOCATION:Edgerton Public Library\, 101 Albion Street\, Edgerton\, WI\, 53534\, United States
ORGANIZER;CN="Edgerton Public Library":MAILTO:smith.beth@edgertonpubliclibrary.org
END:VEVENT
BEGIN:VEVENT
DTSTART;TZID=America/Chicago:20260310T100000
DTEND;TZID=America/Chicago:20260310T110000
DTSTAMP:20260420T122405
CREATED:20260128T202028Z
LAST-MODIFIED:20260128T202028Z
UID:10001293-1773136800-1773140400@readtalkplayeveryday.com
SUMMARY:Storytime
DESCRIPTION:Bring your small human to the library for some fun stories\, songs\, and movement every Tuesday at 10am.
URL:https://readtalkplayeveryday.com/event/storytime/2026-03-10/
LOCATION:Edgerton Public Library\, 101 Albion Street\, Edgerton\, WI\, 53534\, United States
ORGANIZER;CN="Edgerton Public Library":MAILTO:smith.beth@edgertonpubliclibrary.org
END:VEVENT
BEGIN:VEVENT
DTSTART;TZID=America/Chicago:20260303T100000
DTEND;TZID=America/Chicago:20260303T110000
DTSTAMP:20260420T122405
CREATED:20260128T202028Z
LAST-MODIFIED:20260128T202028Z
UID:10001292-1772532000-1772535600@readtalkplayeveryday.com
SUMMARY:Storytime
DESCRIPTION:Bring your small human to the library for some fun stories\, songs\, and movement every Tuesday at 10am.
URL:https://readtalkplayeveryday.com/event/storytime/2026-03-03/
LOCATION:Edgerton Public Library\, 101 Albion Street\, Edgerton\, WI\, 53534\, United States
ORGANIZER;CN="Edgerton Public Library":MAILTO:smith.beth@edgertonpubliclibrary.org
END:VEVENT
BEGIN:VEVENT
DTSTART;TZID=America/Chicago:20260226T100000
DTEND;TZID=America/Chicago:20260226T110000
DTSTAMP:20260420T122405
CREATED:20260128T201846Z
LAST-MODIFIED:20260128T201846Z
UID:10001300-1772100000-1772103600@readtalkplayeveryday.com
SUMMARY:Preschool Party
DESCRIPTION:Preschool Party is an hour of themed playtime designed especially for toddlers and their grown ups that takes place every other Thursday.
URL:https://readtalkplayeveryday.com/event/preschool-party/
LOCATION:Edgerton Public Library\, 101 Albion Street\, Edgerton\, WI\, 53534\, United States
ORGANIZER;CN="Edgerton Public Library":MAILTO:smith.beth@edgertonpubliclibrary.org
END:VEVENT
BEGIN:VEVENT
DTSTART;TZID=America/Chicago:20260224T160000
DTEND;TZID=America/Chicago:20260224T170000
DTSTAMP:20260420T122405
CREATED:20260128T220448Z
LAST-MODIFIED:20260128T220448Z
UID:10001301-1771948800-1771952400@readtalkplayeveryday.com
SUMMARY:Pet a Pup
DESCRIPTION:Join us on the 2nd and 4th Tuesdays of the month to interact with dogs from the Janesville-Beloit Kennel Club. Talk to their handlers about the breed or anything else dog related. Get some petting time in to help reduce stress. Children are also welcome to read to the dogs.
URL:https://readtalkplayeveryday.com/event/pet-a-pup-2/
LOCATION:Edgerton Public Library\, 101 Albion Street\, Edgerton\, WI\, 53534\, United States
ORGANIZER;CN="Edgerton Public Library":MAILTO:smith.beth@edgertonpubliclibrary.org
END:VEVENT
BEGIN:VEVENT
DTSTART;TZID=America/Chicago:20260224T100000
DTEND;TZID=America/Chicago:20260224T110000
DTSTAMP:20260420T122405
CREATED:20260128T202028Z
LAST-MODIFIED:20260128T202028Z
UID:10001291-1771927200-1771930800@readtalkplayeveryday.com
SUMMARY:Storytime
DESCRIPTION:Bring your small human to the library for some fun stories\, songs\, and movement every Tuesday at 10am.
URL:https://readtalkplayeveryday.com/event/storytime/2026-02-24/
LOCATION:Edgerton Public Library\, 101 Albion Street\, Edgerton\, WI\, 53534\, United States
ORGANIZER;CN="Edgerton Public Library":MAILTO:smith.beth@edgertonpubliclibrary.org
END:VEVENT
BEGIN:VEVENT
DTSTART;TZID=America/Chicago:20260217T100000
DTEND;TZID=America/Chicago:20260217T110000
DTSTAMP:20260420T122405
CREATED:20260128T202028Z
LAST-MODIFIED:20260128T202028Z
UID:10001290-1771322400-1771326000@readtalkplayeveryday.com
SUMMARY:Storytime
DESCRIPTION:Bring your small human to the library for some fun stories\, songs\, and movement every Tuesday at 10am.
URL:https://readtalkplayeveryday.com/event/storytime/2026-02-17/
LOCATION:Edgerton Public Library\, 101 Albion Street\, Edgerton\, WI\, 53534\, United States
ORGANIZER;CN="Edgerton Public Library":MAILTO:smith.beth@edgertonpubliclibrary.org
END:VEVENT
BEGIN:VEVENT
DTSTART;TZID=America/Chicago:20260212T100000
DTEND;TZID=America/Chicago:20260212T110000
DTSTAMP:20260420T122405
CREATED:20260128T201910Z
LAST-MODIFIED:20260128T201910Z
UID:10001298-1770890400-1770894000@readtalkplayeveryday.com
SUMMARY:Preschool Party
DESCRIPTION:Preschool Party is an hour of themed playtime designed especially for toddlers and their grown ups that takes place every other Thursday.
URL:https://readtalkplayeveryday.com/event/preschool-party-2/
LOCATION:Edgerton Public Library\, 101 Albion Street\, Edgerton\, WI\, 53534\, United States
ORGANIZER;CN="Edgerton Public LIbrary":MAILTO:smith.beth@edgertonpubliclibrary.org
END:VEVENT
BEGIN:VEVENT
DTSTART;TZID=America/Chicago:20260210T160000
DTEND;TZID=America/Chicago:20260210T170000
DTSTAMP:20260420T122405
CREATED:20260128T201937Z
LAST-MODIFIED:20260128T201937Z
UID:10001299-1770739200-1770742800@readtalkplayeveryday.com
SUMMARY:Pet a Pup
DESCRIPTION:Join us on the 2nd and 4th Tuesdays of the month to interact with dogs from the Janesville-Beloit Kennel Club. Talk to their handlers about the breed or anything else dog related. Get some petting time in to help reduce stress. Children are also welcome to read to the dogs.
URL:https://readtalkplayeveryday.com/event/pet-a-pup/
LOCATION:Edgerton Public Library\, 101 Albion Street\, Edgerton\, WI\, 53534\, United States
ORGANIZER;CN="Edgerton Public Library":MAILTO:smith.beth@edgertonpubliclibrary.org
END:VEVENT
BEGIN:VEVENT
DTSTART;TZID=America/Chicago:20260210T100000
DTEND;TZID=America/Chicago:20260210T110000
DTSTAMP:20260420T122405
CREATED:20260128T202028Z
LAST-MODIFIED:20260128T202028Z
UID:10001289-1770717600-1770721200@readtalkplayeveryday.com
SUMMARY:Storytime
DESCRIPTION:Bring your small human to the library for some fun stories\, songs\, and movement every Tuesday at 10am.
URL:https://readtalkplayeveryday.com/event/storytime/2026-02-10/
LOCATION:Edgerton Public Library\, 101 Albion Street\, Edgerton\, WI\, 53534\, United States
ORGANIZER;CN="Edgerton Public Library":MAILTO:smith.beth@edgertonpubliclibrary.org
END:VEVENT
BEGIN:VEVENT
DTSTART;TZID=America/Chicago:20260209T170000
DTEND;TZID=America/Chicago:20260209T180000
DTSTAMP:20260420T122405
CREATED:20260128T202003Z
LAST-MODIFIED:20260128T202003Z
UID:10001297-1770656400-1770660000@readtalkplayeveryday.com
SUMMARY:Family Fun Night: Valentine's Day Cards & Treats
DESCRIPTION:Drop in and make a few Valentines’ day cards and some chocolate/candy dipped pretzels to gift (or to eat). Registration required. Please register each person who will be making cards and treats. Register here: https://edgertonpubliclibrary.org/events/#/events/wVtirTawAj/instances/Eucxl9aETv/
URL:https://readtalkplayeveryday.com/event/family-fun-night-valentines-day-cards-treats/
LOCATION:Edgerton Public Library\, 101 Albion Street\, Edgerton\, WI\, 53534\, United States
ORGANIZER;CN="Edgerton Public Library":MAILTO:smith.beth@edgertonpubliclibrary.org
END:VEVENT
BEGIN:VEVENT
DTSTART;TZID=America/Chicago:20260203T100000
DTEND;TZID=America/Chicago:20260203T110000
DTSTAMP:20260420T122405
CREATED:20260128T202028Z
LAST-MODIFIED:20260128T202028Z
UID:10001288-1770112800-1770116400@readtalkplayeveryday.com
SUMMARY:Storytime
DESCRIPTION:Bring your small human to the library for some fun stories\, songs\, and movement every Tuesday at 10am.
URL:https://readtalkplayeveryday.com/event/storytime/2026-02-03/
LOCATION:Edgerton Public Library\, 101 Albion Street\, Edgerton\, WI\, 53534\, United States
ORGANIZER;CN="Edgerton Public Library":MAILTO:smith.beth@edgertonpubliclibrary.org
END:VEVENT
END:VCALENDAR