BEGIN:VCALENDAR
VERSION:2.0
PRODID:-//Read Talk Play Everyday - ECPv6.15.20//NONSGML v1.0//EN
CALSCALE:GREGORIAN
METHOD:PUBLISH
X-WR-CALNAME:Read Talk Play Everyday
X-ORIGINAL-URL:https://readtalkplayeveryday.com
X-WR-CALDESC:Events for Read Talk Play Everyday
REFRESH-INTERVAL;VALUE=DURATION:PT1H
X-Robots-Tag:noindex
X-PUBLISHED-TTL:PT1H
BEGIN:VTIMEZONE
TZID:America/Chicago
BEGIN:DAYLIGHT
TZOFFSETFROM:-0600
TZOFFSETTO:-0500
TZNAME:CDT
DTSTART:20250309T080000
END:DAYLIGHT
BEGIN:STANDARD
TZOFFSETFROM:-0500
TZOFFSETTO:-0600
TZNAME:CST
DTSTART:20251102T070000
END:STANDARD
BEGIN:DAYLIGHT
TZOFFSETFROM:-0600
TZOFFSETTO:-0500
TZNAME:CDT
DTSTART:20260308T080000
END:DAYLIGHT
BEGIN:STANDARD
TZOFFSETFROM:-0500
TZOFFSETTO:-0600
TZNAME:CST
DTSTART:20261101T070000
END:STANDARD
BEGIN:DAYLIGHT
TZOFFSETFROM:-0600
TZOFFSETTO:-0500
TZNAME:CDT
DTSTART:20270314T080000
END:DAYLIGHT
BEGIN:STANDARD
TZOFFSETFROM:-0500
TZOFFSETTO:-0600
TZNAME:CST
DTSTART:20271107T070000
END:STANDARD
END:VTIMEZONE
BEGIN:VEVENT
DTSTART;TZID=America/Chicago:20260210T093000
DTEND;TZID=America/Chicago:20260210T110000
DTSTAMP:20260420T121450
CREATED:20260202T215850Z
LAST-MODIFIED:20260202T215850Z
UID:10001343-1770715800-1770721200@readtalkplayeveryday.com
SUMMARY:Open Play Time
DESCRIPTION:Drop in for Open Play Time. Make new friends . Geared to ages 0-5 with caregiver. Older siblings are welcome.
URL:https://readtalkplayeveryday.com/event/open-play-time/2026-02-10/
LOCATION:Eager Free Public Library\, 39 W. Main Street\, Evansville\, WI\, 53536\, United States
ORGANIZER;CN="Eager Free Public Library":MAILTO:eagerfree@eagerfreelibrary.org
END:VEVENT
BEGIN:VEVENT
DTSTART;TZID=America/Chicago:20260206T100000
DTEND;TZID=America/Chicago:20260206T103000
DTSTAMP:20260420T121450
CREATED:20260202T215752Z
LAST-MODIFIED:20260202T215752Z
UID:10001367-1770372000-1770373800@readtalkplayeveryday.com
SUMMARY:Baby/Toddler Storytime
DESCRIPTION:Lapsit stories\, songs\, and fingerplays that help develop pre-reading skills. For babies 0-2 with a caregiver.
URL:https://readtalkplayeveryday.com/event/baby-toddler-storytime/2026-02-06/
LOCATION:Eager Free Public Library\, 39 W. Main Street\, Evansville\, WI\, 53536\, United States
ORGANIZER;CN="Eager Free Public Library":MAILTO:eagerfree@eagerfreelibrary.org
END:VEVENT
BEGIN:VEVENT
DTSTART;TZID=America/Chicago:20260204T100000
DTEND;TZID=America/Chicago:20260204T103000
DTSTAMP:20260420T121450
CREATED:20260202T215811Z
LAST-MODIFIED:20260204T214029Z
UID:10001351-1770199200-1770201000@readtalkplayeveryday.com
SUMMARY:Storytime
DESCRIPTION:Stories\, songs\, and other early literacy activities that help develop pre-reading skills for children ages 2-5 with caregivers.
URL:https://readtalkplayeveryday.com/event/storytime-2/2026-02-04/
LOCATION:Eager Free Public Library\, 39 W. Main Street\, Evansville\, WI\, 53536\, United States
ORGANIZER;CN="Eager Free Public Library":MAILTO:eagerfree@eagerfreelibrary.org
END:VEVENT
BEGIN:VEVENT
DTSTART;TZID=America/Chicago:20260203T093000
DTEND;TZID=America/Chicago:20260203T110000
DTSTAMP:20260420T121450
CREATED:20260202T215850Z
LAST-MODIFIED:20260202T215850Z
UID:10001342-1770111000-1770116400@readtalkplayeveryday.com
SUMMARY:Open Play Time
DESCRIPTION:Drop in for Open Play Time. Make new friends . Geared to ages 0-5 with caregiver. Older siblings are welcome.
URL:https://readtalkplayeveryday.com/event/open-play-time/2026-02-03/
LOCATION:Eager Free Public Library\, 39 W. Main Street\, Evansville\, WI\, 53536\, United States
ORGANIZER;CN="Eager Free Public Library":MAILTO:eagerfree@eagerfreelibrary.org
END:VEVENT
END:VCALENDAR