BEGIN:VCALENDAR
VERSION:2.0
PRODID:-//Read Talk Play Everyday - ECPv6.15.20//NONSGML v1.0//EN
CALSCALE:GREGORIAN
METHOD:PUBLISH
X-WR-CALNAME:Read Talk Play Everyday
X-ORIGINAL-URL:https://readtalkplayeveryday.com
X-WR-CALDESC:Events for Read Talk Play Everyday
REFRESH-INTERVAL;VALUE=DURATION:PT1H
X-Robots-Tag:noindex
X-PUBLISHED-TTL:PT1H
BEGIN:VTIMEZONE
TZID:America/Chicago
BEGIN:DAYLIGHT
TZOFFSETFROM:-0600
TZOFFSETTO:-0500
TZNAME:CDT
DTSTART:20250309T080000
END:DAYLIGHT
BEGIN:STANDARD
TZOFFSETFROM:-0500
TZOFFSETTO:-0600
TZNAME:CST
DTSTART:20251102T070000
END:STANDARD
BEGIN:DAYLIGHT
TZOFFSETFROM:-0600
TZOFFSETTO:-0500
TZNAME:CDT
DTSTART:20260308T080000
END:DAYLIGHT
BEGIN:STANDARD
TZOFFSETFROM:-0500
TZOFFSETTO:-0600
TZNAME:CST
DTSTART:20261101T070000
END:STANDARD
BEGIN:DAYLIGHT
TZOFFSETFROM:-0600
TZOFFSETTO:-0500
TZNAME:CDT
DTSTART:20270314T080000
END:DAYLIGHT
BEGIN:STANDARD
TZOFFSETFROM:-0500
TZOFFSETTO:-0600
TZNAME:CST
DTSTART:20271107T070000
END:STANDARD
END:VTIMEZONE
BEGIN:VEVENT
DTSTART;TZID=America/Chicago:20260417T100000
DTEND;TZID=America/Chicago:20260417T103000
DTSTAMP:20260420T080320
CREATED:20260202T215752Z
LAST-MODIFIED:20260202T215752Z
UID:10001377-1776420000-1776421800@readtalkplayeveryday.com
SUMMARY:Baby/Toddler Storytime
DESCRIPTION:Lapsit stories\, songs\, and fingerplays that help develop pre-reading skills. For babies 0-2 with a caregiver.
URL:https://readtalkplayeveryday.com/event/baby-toddler-storytime/2026-04-17/
LOCATION:Eager Free Public Library\, 39 W. Main Street\, Evansville\, WI\, 53536\, United States
ORGANIZER;CN="Eager Free Public Library":MAILTO:eagerfree@eagerfreelibrary.org
END:VEVENT
BEGIN:VEVENT
DTSTART;TZID=America/Chicago:20260415T100000
DTEND;TZID=America/Chicago:20260415T103000
DTSTAMP:20260420T080320
CREATED:20260202T215811Z
LAST-MODIFIED:20260204T214029Z
UID:10001361-1776247200-1776249000@readtalkplayeveryday.com
SUMMARY:Storytime
DESCRIPTION:Stories\, songs\, and other early literacy activities that help develop pre-reading skills for children ages 2-5 with caregivers.
URL:https://readtalkplayeveryday.com/event/storytime-2/2026-04-15/
LOCATION:Eager Free Public Library\, 39 W. Main Street\, Evansville\, WI\, 53536\, United States
ORGANIZER;CN="Eager Free Public Library":MAILTO:eagerfree@eagerfreelibrary.org
END:VEVENT
BEGIN:VEVENT
DTSTART;TZID=America/Chicago:20260410T100000
DTEND;TZID=America/Chicago:20260410T103000
DTSTAMP:20260420T080320
CREATED:20260202T215752Z
LAST-MODIFIED:20260202T215752Z
UID:10001376-1775815200-1775817000@readtalkplayeveryday.com
SUMMARY:Baby/Toddler Storytime
DESCRIPTION:Lapsit stories\, songs\, and fingerplays that help develop pre-reading skills. For babies 0-2 with a caregiver.
URL:https://readtalkplayeveryday.com/event/baby-toddler-storytime/2026-04-10/
LOCATION:Eager Free Public Library\, 39 W. Main Street\, Evansville\, WI\, 53536\, United States
ORGANIZER;CN="Eager Free Public Library":MAILTO:eagerfree@eagerfreelibrary.org
END:VEVENT
BEGIN:VEVENT
DTSTART;TZID=America/Chicago:20260408T100000
DTEND;TZID=America/Chicago:20260408T103000
DTSTAMP:20260420T080320
CREATED:20260202T215811Z
LAST-MODIFIED:20260204T214029Z
UID:10001360-1775642400-1775644200@readtalkplayeveryday.com
SUMMARY:Storytime
DESCRIPTION:Stories\, songs\, and other early literacy activities that help develop pre-reading skills for children ages 2-5 with caregivers.
URL:https://readtalkplayeveryday.com/event/storytime-2/2026-04-08/
LOCATION:Eager Free Public Library\, 39 W. Main Street\, Evansville\, WI\, 53536\, United States
ORGANIZER;CN="Eager Free Public Library":MAILTO:eagerfree@eagerfreelibrary.org
END:VEVENT
BEGIN:VEVENT
DTSTART;TZID=America/Chicago:20260403T100000
DTEND;TZID=America/Chicago:20260403T103000
DTSTAMP:20260420T080320
CREATED:20260202T215752Z
LAST-MODIFIED:20260202T215752Z
UID:10001375-1775210400-1775212200@readtalkplayeveryday.com
SUMMARY:Baby/Toddler Storytime
DESCRIPTION:Lapsit stories\, songs\, and fingerplays that help develop pre-reading skills. For babies 0-2 with a caregiver.
URL:https://readtalkplayeveryday.com/event/baby-toddler-storytime/2026-04-03/
LOCATION:Eager Free Public Library\, 39 W. Main Street\, Evansville\, WI\, 53536\, United States
ORGANIZER;CN="Eager Free Public Library":MAILTO:eagerfree@eagerfreelibrary.org
END:VEVENT
BEGIN:VEVENT
DTSTART;TZID=America/Chicago:20260401T100000
DTEND;TZID=America/Chicago:20260401T103000
DTSTAMP:20260420T080320
CREATED:20260202T215811Z
LAST-MODIFIED:20260204T214029Z
UID:10001359-1775037600-1775039400@readtalkplayeveryday.com
SUMMARY:Storytime
DESCRIPTION:Stories\, songs\, and other early literacy activities that help develop pre-reading skills for children ages 2-5 with caregivers.
URL:https://readtalkplayeveryday.com/event/storytime-2/2026-04-01/
LOCATION:Eager Free Public Library\, 39 W. Main Street\, Evansville\, WI\, 53536\, United States
ORGANIZER;CN="Eager Free Public Library":MAILTO:eagerfree@eagerfreelibrary.org
END:VEVENT
BEGIN:VEVENT
DTSTART;TZID=America/Chicago:20260331T093000
DTEND;TZID=America/Chicago:20260331T110000
DTSTAMP:20260420T080320
CREATED:20260202T215850Z
LAST-MODIFIED:20260202T215850Z
UID:10001350-1774949400-1774954800@readtalkplayeveryday.com
SUMMARY:Open Play Time
DESCRIPTION:Drop in for Open Play Time. Make new friends . Geared to ages 0-5 with caregiver. Older siblings are welcome.
URL:https://readtalkplayeveryday.com/event/open-play-time/2026-03-31/
LOCATION:Eager Free Public Library\, 39 W. Main Street\, Evansville\, WI\, 53536\, United States
ORGANIZER;CN="Eager Free Public Library":MAILTO:eagerfree@eagerfreelibrary.org
END:VEVENT
BEGIN:VEVENT
DTSTART;TZID=America/Chicago:20260327T100000
DTEND;TZID=America/Chicago:20260327T103000
DTSTAMP:20260420T080320
CREATED:20260202T215752Z
LAST-MODIFIED:20260202T215752Z
UID:10001374-1774605600-1774607400@readtalkplayeveryday.com
SUMMARY:Baby/Toddler Storytime
DESCRIPTION:Lapsit stories\, songs\, and fingerplays that help develop pre-reading skills. For babies 0-2 with a caregiver.
URL:https://readtalkplayeveryday.com/event/baby-toddler-storytime/2026-03-27/
LOCATION:Eager Free Public Library\, 39 W. Main Street\, Evansville\, WI\, 53536\, United States
ORGANIZER;CN="Eager Free Public Library":MAILTO:eagerfree@eagerfreelibrary.org
END:VEVENT
BEGIN:VEVENT
DTSTART;TZID=America/Chicago:20260325T100000
DTEND;TZID=America/Chicago:20260325T103000
DTSTAMP:20260420T080320
CREATED:20260202T215811Z
LAST-MODIFIED:20260204T214029Z
UID:10001358-1774432800-1774434600@readtalkplayeveryday.com
SUMMARY:Storytime
DESCRIPTION:Stories\, songs\, and other early literacy activities that help develop pre-reading skills for children ages 2-5 with caregivers.
URL:https://readtalkplayeveryday.com/event/storytime-2/2026-03-25/
LOCATION:Eager Free Public Library\, 39 W. Main Street\, Evansville\, WI\, 53536\, United States
ORGANIZER;CN="Eager Free Public Library":MAILTO:eagerfree@eagerfreelibrary.org
END:VEVENT
BEGIN:VEVENT
DTSTART;TZID=America/Chicago:20260324T093000
DTEND;TZID=America/Chicago:20260324T110000
DTSTAMP:20260420T080320
CREATED:20260202T215850Z
LAST-MODIFIED:20260202T215850Z
UID:10001349-1774344600-1774350000@readtalkplayeveryday.com
SUMMARY:Open Play Time
DESCRIPTION:Drop in for Open Play Time. Make new friends . Geared to ages 0-5 with caregiver. Older siblings are welcome.
URL:https://readtalkplayeveryday.com/event/open-play-time/2026-03-24/
LOCATION:Eager Free Public Library\, 39 W. Main Street\, Evansville\, WI\, 53536\, United States
ORGANIZER;CN="Eager Free Public Library":MAILTO:eagerfree@eagerfreelibrary.org
END:VEVENT
BEGIN:VEVENT
DTSTART;TZID=America/Chicago:20260320T100000
DTEND;TZID=America/Chicago:20260320T103000
DTSTAMP:20260420T080320
CREATED:20260202T215752Z
LAST-MODIFIED:20260202T215752Z
UID:10001373-1774000800-1774002600@readtalkplayeveryday.com
SUMMARY:Baby/Toddler Storytime
DESCRIPTION:Lapsit stories\, songs\, and fingerplays that help develop pre-reading skills. For babies 0-2 with a caregiver.
URL:https://readtalkplayeveryday.com/event/baby-toddler-storytime/2026-03-20/
LOCATION:Eager Free Public Library\, 39 W. Main Street\, Evansville\, WI\, 53536\, United States
ORGANIZER;CN="Eager Free Public Library":MAILTO:eagerfree@eagerfreelibrary.org
END:VEVENT
BEGIN:VEVENT
DTSTART;TZID=America/Chicago:20260318T100000
DTEND;TZID=America/Chicago:20260318T103000
DTSTAMP:20260420T080320
CREATED:20260202T215811Z
LAST-MODIFIED:20260204T214029Z
UID:10001357-1773828000-1773829800@readtalkplayeveryday.com
SUMMARY:Storytime
DESCRIPTION:Stories\, songs\, and other early literacy activities that help develop pre-reading skills for children ages 2-5 with caregivers.
URL:https://readtalkplayeveryday.com/event/storytime-2/2026-03-18/
LOCATION:Eager Free Public Library\, 39 W. Main Street\, Evansville\, WI\, 53536\, United States
ORGANIZER;CN="Eager Free Public Library":MAILTO:eagerfree@eagerfreelibrary.org
END:VEVENT
BEGIN:VEVENT
DTSTART;TZID=America/Chicago:20260317T093000
DTEND;TZID=America/Chicago:20260317T110000
DTSTAMP:20260420T080320
CREATED:20260202T215850Z
LAST-MODIFIED:20260202T215850Z
UID:10001348-1773739800-1773745200@readtalkplayeveryday.com
SUMMARY:Open Play Time
DESCRIPTION:Drop in for Open Play Time. Make new friends . Geared to ages 0-5 with caregiver. Older siblings are welcome.
URL:https://readtalkplayeveryday.com/event/open-play-time/2026-03-17/
LOCATION:Eager Free Public Library\, 39 W. Main Street\, Evansville\, WI\, 53536\, United States
ORGANIZER;CN="Eager Free Public Library":MAILTO:eagerfree@eagerfreelibrary.org
END:VEVENT
BEGIN:VEVENT
DTSTART;TZID=America/Chicago:20260313T100000
DTEND;TZID=America/Chicago:20260313T103000
DTSTAMP:20260420T080320
CREATED:20260202T215752Z
LAST-MODIFIED:20260202T215752Z
UID:10001372-1773396000-1773397800@readtalkplayeveryday.com
SUMMARY:Baby/Toddler Storytime
DESCRIPTION:Lapsit stories\, songs\, and fingerplays that help develop pre-reading skills. For babies 0-2 with a caregiver.
URL:https://readtalkplayeveryday.com/event/baby-toddler-storytime/2026-03-13/
LOCATION:Eager Free Public Library\, 39 W. Main Street\, Evansville\, WI\, 53536\, United States
ORGANIZER;CN="Eager Free Public Library":MAILTO:eagerfree@eagerfreelibrary.org
END:VEVENT
BEGIN:VEVENT
DTSTART;TZID=America/Chicago:20260311T103000
DTEND;TZID=America/Chicago:20260311T110000
DTSTAMP:20260420T080320
CREATED:20260204T213946Z
LAST-MODIFIED:20260204T213946Z
UID:10001384-1773225000-1773226800@readtalkplayeveryday.com
SUMMARY:Storybook Craft Series- Alphabet Trees
DESCRIPTION:Join us after story time as we make Alphabet Trees inspired by the book\, Chicka chicka boom boom.
URL:https://readtalkplayeveryday.com/event/storybook-craft-series-alphabet-trees/
LOCATION:Eager Free Public Library\, 39 W. Main Street\, Evansville\, WI\, 53536\, United States
ORGANIZER;CN="Eager Free Public Library":MAILTO:eagerfree@eagerfreelibrary.org
END:VEVENT
BEGIN:VEVENT
DTSTART;TZID=America/Chicago:20260311T100000
DTEND;TZID=America/Chicago:20260311T103000
DTSTAMP:20260420T080320
CREATED:20260202T215811Z
LAST-MODIFIED:20260204T214029Z
UID:10001356-1773223200-1773225000@readtalkplayeveryday.com
SUMMARY:Storytime
DESCRIPTION:Stories\, songs\, and other early literacy activities that help develop pre-reading skills for children ages 2-5 with caregivers.
URL:https://readtalkplayeveryday.com/event/storytime-2/2026-03-11/
LOCATION:Eager Free Public Library\, 39 W. Main Street\, Evansville\, WI\, 53536\, United States
ORGANIZER;CN="Eager Free Public Library":MAILTO:eagerfree@eagerfreelibrary.org
END:VEVENT
BEGIN:VEVENT
DTSTART;TZID=America/Chicago:20260310T093000
DTEND;TZID=America/Chicago:20260310T110000
DTSTAMP:20260420T080320
CREATED:20260202T215850Z
LAST-MODIFIED:20260202T215850Z
UID:10001347-1773135000-1773140400@readtalkplayeveryday.com
SUMMARY:Open Play Time
DESCRIPTION:Drop in for Open Play Time. Make new friends . Geared to ages 0-5 with caregiver. Older siblings are welcome.
URL:https://readtalkplayeveryday.com/event/open-play-time/2026-03-10/
LOCATION:Eager Free Public Library\, 39 W. Main Street\, Evansville\, WI\, 53536\, United States
ORGANIZER;CN="Eager Free Public Library":MAILTO:eagerfree@eagerfreelibrary.org
END:VEVENT
BEGIN:VEVENT
DTSTART;TZID=America/Chicago:20260306T100000
DTEND;TZID=America/Chicago:20260306T103000
DTSTAMP:20260420T080320
CREATED:20260202T215752Z
LAST-MODIFIED:20260202T215752Z
UID:10001371-1772791200-1772793000@readtalkplayeveryday.com
SUMMARY:Baby/Toddler Storytime
DESCRIPTION:Lapsit stories\, songs\, and fingerplays that help develop pre-reading skills. For babies 0-2 with a caregiver.
URL:https://readtalkplayeveryday.com/event/baby-toddler-storytime/2026-03-06/
LOCATION:Eager Free Public Library\, 39 W. Main Street\, Evansville\, WI\, 53536\, United States
ORGANIZER;CN="Eager Free Public Library":MAILTO:eagerfree@eagerfreelibrary.org
END:VEVENT
BEGIN:VEVENT
DTSTART;TZID=America/Chicago:20260304T100000
DTEND;TZID=America/Chicago:20260304T103000
DTSTAMP:20260420T080320
CREATED:20260202T215811Z
LAST-MODIFIED:20260204T214029Z
UID:10001355-1772618400-1772620200@readtalkplayeveryday.com
SUMMARY:Storytime
DESCRIPTION:Stories\, songs\, and other early literacy activities that help develop pre-reading skills for children ages 2-5 with caregivers.
URL:https://readtalkplayeveryday.com/event/storytime-2/2026-03-04/
LOCATION:Eager Free Public Library\, 39 W. Main Street\, Evansville\, WI\, 53536\, United States
ORGANIZER;CN="Eager Free Public Library":MAILTO:eagerfree@eagerfreelibrary.org
END:VEVENT
BEGIN:VEVENT
DTSTART;TZID=America/Chicago:20260303T093000
DTEND;TZID=America/Chicago:20260303T110000
DTSTAMP:20260420T080320
CREATED:20260202T215850Z
LAST-MODIFIED:20260202T215850Z
UID:10001346-1772530200-1772535600@readtalkplayeveryday.com
SUMMARY:Open Play Time
DESCRIPTION:Drop in for Open Play Time. Make new friends . Geared to ages 0-5 with caregiver. Older siblings are welcome.
URL:https://readtalkplayeveryday.com/event/open-play-time/2026-03-03/
LOCATION:Eager Free Public Library\, 39 W. Main Street\, Evansville\, WI\, 53536\, United States
ORGANIZER;CN="Eager Free Public Library":MAILTO:eagerfree@eagerfreelibrary.org
END:VEVENT
BEGIN:VEVENT
DTSTART;TZID=America/Chicago:20260227T100000
DTEND;TZID=America/Chicago:20260227T103000
DTSTAMP:20260420T080320
CREATED:20260202T215752Z
LAST-MODIFIED:20260202T215752Z
UID:10001370-1772186400-1772188200@readtalkplayeveryday.com
SUMMARY:Baby/Toddler Storytime
DESCRIPTION:Lapsit stories\, songs\, and fingerplays that help develop pre-reading skills. For babies 0-2 with a caregiver.
URL:https://readtalkplayeveryday.com/event/baby-toddler-storytime/2026-02-27/
LOCATION:Eager Free Public Library\, 39 W. Main Street\, Evansville\, WI\, 53536\, United States
ORGANIZER;CN="Eager Free Public Library":MAILTO:eagerfree@eagerfreelibrary.org
END:VEVENT
BEGIN:VEVENT
DTSTART;TZID=America/Chicago:20260225T100000
DTEND;TZID=America/Chicago:20260225T103000
DTSTAMP:20260420T080320
CREATED:20260202T215811Z
LAST-MODIFIED:20260204T214029Z
UID:10001354-1772013600-1772015400@readtalkplayeveryday.com
SUMMARY:Storytime
DESCRIPTION:Stories\, songs\, and other early literacy activities that help develop pre-reading skills for children ages 2-5 with caregivers.
URL:https://readtalkplayeveryday.com/event/storytime-2/2026-02-25/
LOCATION:Eager Free Public Library\, 39 W. Main Street\, Evansville\, WI\, 53536\, United States
ORGANIZER;CN="Eager Free Public Library":MAILTO:eagerfree@eagerfreelibrary.org
END:VEVENT
BEGIN:VEVENT
DTSTART;TZID=America/Chicago:20260224T093000
DTEND;TZID=America/Chicago:20260224T110000
DTSTAMP:20260420T080320
CREATED:20260202T215850Z
LAST-MODIFIED:20260202T215850Z
UID:10001345-1771925400-1771930800@readtalkplayeveryday.com
SUMMARY:Open Play Time
DESCRIPTION:Drop in for Open Play Time. Make new friends . Geared to ages 0-5 with caregiver. Older siblings are welcome.
URL:https://readtalkplayeveryday.com/event/open-play-time/2026-02-24/
LOCATION:Eager Free Public Library\, 39 W. Main Street\, Evansville\, WI\, 53536\, United States
ORGANIZER;CN="Eager Free Public Library":MAILTO:eagerfree@eagerfreelibrary.org
END:VEVENT
BEGIN:VEVENT
DTSTART;TZID=America/Chicago:20260220T100000
DTEND;TZID=America/Chicago:20260220T103000
DTSTAMP:20260420T080320
CREATED:20260202T215752Z
LAST-MODIFIED:20260202T215752Z
UID:10001369-1771581600-1771583400@readtalkplayeveryday.com
SUMMARY:Baby/Toddler Storytime
DESCRIPTION:Lapsit stories\, songs\, and fingerplays that help develop pre-reading skills. For babies 0-2 with a caregiver.
URL:https://readtalkplayeveryday.com/event/baby-toddler-storytime/2026-02-20/
LOCATION:Eager Free Public Library\, 39 W. Main Street\, Evansville\, WI\, 53536\, United States
ORGANIZER;CN="Eager Free Public Library":MAILTO:eagerfree@eagerfreelibrary.org
END:VEVENT
BEGIN:VEVENT
DTSTART;TZID=America/Chicago:20260219T180000
DTEND;TZID=America/Chicago:20260219T183000
DTSTAMP:20260420T080320
CREATED:20260204T214003Z
LAST-MODIFIED:20260204T214003Z
UID:10001383-1771524000-1771525800@readtalkplayeveryday.com
SUMMARY:Evening Storytime
DESCRIPTION:Stories\, songs\, and other early literacy activities that help develop pre-reading skills for children ages 2-5 with caregivers.
URL:https://readtalkplayeveryday.com/event/evening-storytime/
LOCATION:Eager Free Public Library\, 39 W. Main Street\, Evansville\, WI\, 53536\, United States
ORGANIZER;CN="Eager Free Public Library":MAILTO:eagerfree@eagerfreelibrary.org
END:VEVENT
BEGIN:VEVENT
DTSTART;TZID=America/Chicago:20260218T100000
DTEND;TZID=America/Chicago:20260218T103000
DTSTAMP:20260420T080320
CREATED:20260202T215811Z
LAST-MODIFIED:20260204T214029Z
UID:10001353-1771408800-1771410600@readtalkplayeveryday.com
SUMMARY:Storytime
DESCRIPTION:Stories\, songs\, and other early literacy activities that help develop pre-reading skills for children ages 2-5 with caregivers.
URL:https://readtalkplayeveryday.com/event/storytime-2/2026-02-18/
LOCATION:Eager Free Public Library\, 39 W. Main Street\, Evansville\, WI\, 53536\, United States
ORGANIZER;CN="Eager Free Public Library":MAILTO:eagerfree@eagerfreelibrary.org
END:VEVENT
BEGIN:VEVENT
DTSTART;TZID=America/Chicago:20260217T093000
DTEND;TZID=America/Chicago:20260217T110000
DTSTAMP:20260420T080321
CREATED:20260202T215850Z
LAST-MODIFIED:20260202T215850Z
UID:10001344-1771320600-1771326000@readtalkplayeveryday.com
SUMMARY:Open Play Time
DESCRIPTION:Drop in for Open Play Time. Make new friends . Geared to ages 0-5 with caregiver. Older siblings are welcome.
URL:https://readtalkplayeveryday.com/event/open-play-time/2026-02-17/
LOCATION:Eager Free Public Library\, 39 W. Main Street\, Evansville\, WI\, 53536\, United States
ORGANIZER;CN="Eager Free Public Library":MAILTO:eagerfree@eagerfreelibrary.org
END:VEVENT
BEGIN:VEVENT
DTSTART;TZID=America/Chicago:20260213T100000
DTEND;TZID=America/Chicago:20260213T103000
DTSTAMP:20260420T080321
CREATED:20260202T215752Z
LAST-MODIFIED:20260202T215752Z
UID:10001368-1770976800-1770978600@readtalkplayeveryday.com
SUMMARY:Baby/Toddler Storytime
DESCRIPTION:Lapsit stories\, songs\, and fingerplays that help develop pre-reading skills. For babies 0-2 with a caregiver.
URL:https://readtalkplayeveryday.com/event/baby-toddler-storytime/2026-02-13/
LOCATION:Eager Free Public Library\, 39 W. Main Street\, Evansville\, WI\, 53536\, United States
ORGANIZER;CN="Eager Free Public Library":MAILTO:eagerfree@eagerfreelibrary.org
END:VEVENT
BEGIN:VEVENT
DTSTART;TZID=America/Chicago:20260211T103000
DTEND;TZID=America/Chicago:20260211T113000
DTSTAMP:20260420T080321
CREATED:20260202T215729Z
LAST-MODIFIED:20260202T215729Z
UID:10001382-1770805800-1770809400@readtalkplayeveryday.com
SUMMARY:Silly Heart Puppets
DESCRIPTION:Make a silly puppet with all the fun supplies at the library. We’ll get out the paint\, glitter\, googly eyes and more!
URL:https://readtalkplayeveryday.com/event/silly-heart-puppets/
LOCATION:Eager Free Public Library\, 39 W. Main Street\, Evansville\, WI\, 53536\, United States
ORGANIZER;CN="Eager Free Public Library":MAILTO:eagerfree@eagerfreelibrary.org
END:VEVENT
BEGIN:VEVENT
DTSTART;TZID=America/Chicago:20260211T100000
DTEND;TZID=America/Chicago:20260211T103000
DTSTAMP:20260420T080321
CREATED:20260202T215811Z
LAST-MODIFIED:20260204T214029Z
UID:10001352-1770804000-1770805800@readtalkplayeveryday.com
SUMMARY:Storytime
DESCRIPTION:Stories\, songs\, and other early literacy activities that help develop pre-reading skills for children ages 2-5 with caregivers.
URL:https://readtalkplayeveryday.com/event/storytime-2/2026-02-11/
LOCATION:Eager Free Public Library\, 39 W. Main Street\, Evansville\, WI\, 53536\, United States
ORGANIZER;CN="Eager Free Public Library":MAILTO:eagerfree@eagerfreelibrary.org
END:VEVENT
END:VCALENDAR