BEGIN:VCALENDAR
VERSION:2.0
PRODID:-//Read Talk Play Everyday - ECPv6.15.20//NONSGML v1.0//EN
CALSCALE:GREGORIAN
METHOD:PUBLISH
X-WR-CALNAME:Read Talk Play Everyday
X-ORIGINAL-URL:https://readtalkplayeveryday.com
X-WR-CALDESC:Events for Read Talk Play Everyday
REFRESH-INTERVAL;VALUE=DURATION:PT1H
X-Robots-Tag:noindex
X-PUBLISHED-TTL:PT1H
BEGIN:VTIMEZONE
TZID:America/Chicago
BEGIN:DAYLIGHT
TZOFFSETFROM:-0600
TZOFFSETTO:-0500
TZNAME:CDT
DTSTART:20250309T080000
END:DAYLIGHT
BEGIN:STANDARD
TZOFFSETFROM:-0500
TZOFFSETTO:-0600
TZNAME:CST
DTSTART:20251102T070000
END:STANDARD
BEGIN:DAYLIGHT
TZOFFSETFROM:-0600
TZOFFSETTO:-0500
TZNAME:CDT
DTSTART:20260308T080000
END:DAYLIGHT
BEGIN:STANDARD
TZOFFSETFROM:-0500
TZOFFSETTO:-0600
TZNAME:CST
DTSTART:20261101T070000
END:STANDARD
BEGIN:DAYLIGHT
TZOFFSETFROM:-0600
TZOFFSETTO:-0500
TZNAME:CDT
DTSTART:20270314T080000
END:DAYLIGHT
BEGIN:STANDARD
TZOFFSETFROM:-0500
TZOFFSETTO:-0600
TZNAME:CST
DTSTART:20271107T070000
END:STANDARD
END:VTIMEZONE
BEGIN:VEVENT
DTSTART;TZID=America/Chicago:20260207T090000
DTEND;TZID=America/Chicago:20260207T233000
DTSTAMP:20260422T111358
CREATED:20260128T202053Z
LAST-MODIFIED:20260128T202053Z
UID:10001223-1770454800-1770507000@readtalkplayeveryday.com
SUMMARY:Beloit Winter Crafter & Farmers Market
DESCRIPTION:Join us for our Beloit WINTER Crafter & Farmers Market every Saturday November through April from 9 am to 12 pm.\nWe will have vendors inside\, food trucks outside\, and free family-friendly activities! Participating Vendors will be announced each week on our Beloit Farmers’ Market page and in the Beloit Winter Crafter & Farmers Market event. \nThank you to our sponsors for their support! \n2025 Sponsors:\nBeloit Daily News\, Educators Credit Union\, Geronimo Hospitality Group\, Hendricks Commercial Properties\, Iron Country\, Kerry\, Nowlan Law\, SSM Health\, Stateline Buzz\, Stateline Mental Health Services\, The Beat 92.3 FM & 98.9 FM\, Visit Beloit\, WCLO\, WJVL\nBucciferro Family McDonald’s\, Cornellier Fireworks\, First Community Credit Union\, International Flavors & Fragrances
URL:https://readtalkplayeveryday.com/event/beloit-winter-crafter-farmers-market/2026-02-07/
LOCATION:Downtown Beloit Association\, 557 E Grand Ave\, Beloit\, WI\, 53511\, United States
END:VEVENT
BEGIN:VEVENT
DTSTART;TZID=America/Chicago:20260131T090000
DTEND;TZID=America/Chicago:20260131T233000
DTSTAMP:20260422T111358
CREATED:20260128T202053Z
LAST-MODIFIED:20260128T202053Z
UID:10001222-1769850000-1769902200@readtalkplayeveryday.com
SUMMARY:Beloit Winter Crafter & Farmers Market
DESCRIPTION:Join us for our Beloit WINTER Crafter & Farmers Market every Saturday November through April from 9 am to 12 pm.\nWe will have vendors inside\, food trucks outside\, and free family-friendly activities! Participating Vendors will be announced each week on our Beloit Farmers’ Market page and in the Beloit Winter Crafter & Farmers Market event. \nThank you to our sponsors for their support! \n2025 Sponsors:\nBeloit Daily News\, Educators Credit Union\, Geronimo Hospitality Group\, Hendricks Commercial Properties\, Iron Country\, Kerry\, Nowlan Law\, SSM Health\, Stateline Buzz\, Stateline Mental Health Services\, The Beat 92.3 FM & 98.9 FM\, Visit Beloit\, WCLO\, WJVL\nBucciferro Family McDonald’s\, Cornellier Fireworks\, First Community Credit Union\, International Flavors & Fragrances
URL:https://readtalkplayeveryday.com/event/beloit-winter-crafter-farmers-market/2026-01-31/
LOCATION:Downtown Beloit Association\, 557 E Grand Ave\, Beloit\, WI\, 53511\, United States
END:VEVENT
END:VCALENDAR