BEGIN:VCALENDAR
VERSION:2.0
PRODID:-//Read Talk Play Everyday - ECPv6.15.20//NONSGML v1.0//EN
CALSCALE:GREGORIAN
METHOD:PUBLISH
X-ORIGINAL-URL:https://readtalkplayeveryday.com
X-WR-CALDESC:Events for Read Talk Play Everyday
REFRESH-INTERVAL;VALUE=DURATION:PT1H
X-Robots-Tag:noindex
X-PUBLISHED-TTL:PT1H
BEGIN:VTIMEZONE
TZID:UTC
BEGIN:STANDARD
TZOFFSETFROM:+0000
TZOFFSETTO:+0000
TZNAME:UTC
DTSTART:20240101T000000
END:STANDARD
END:VTIMEZONE
BEGIN:VEVENT
DTSTART;TZID=UTC:20250823T100000
DTEND;TZID=UTC:20250823T130000
DTSTAMP:20260423T121532
CREATED:20250703T203227Z
LAST-MODIFIED:20250703T203227Z
UID:10000021-1755943200-1755954000@readtalkplayeveryday.com
SUMMARY:3rd Annual Back to School CommUNITY Health Fair
DESCRIPTION:We’re excited to invite you to the School District of Beloit’s 3rd Annual Community Health Fair happening on:\n\n\n Saturday\, August 23rd\n 10:00 a.m. – 1:00 p.m.\n Beloit Memorial High School Field House\n\n\nThis free event is open to all and includes:\n Free School Supplies\n Free Food\n Free Immunizations\n Vision & Dental Screenings\n Games\, Activities\, and Performances\n Local Resource Booths\n\n\nA fun and helpful way to kick off the school year—we hope to see you there!
URL:https://readtalkplayeveryday.com/event/3rd-annual-back-to-school-community-health-fair/
LOCATION:Beloit Memorial High School\, 1225 Fourth St.\, Beloit\, WI\, 53511\, United States
END:VEVENT
END:VCALENDAR