BEGIN:VCALENDAR
VERSION:2.0
PRODID:-//Read Talk Play Everyday - ECPv6.15.20//NONSGML v1.0//EN
CALSCALE:GREGORIAN
METHOD:PUBLISH
X-ORIGINAL-URL:https://readtalkplayeveryday.com
X-WR-CALDESC:Events for Read Talk Play Everyday
REFRESH-INTERVAL;VALUE=DURATION:PT1H
X-Robots-Tag:noindex
X-PUBLISHED-TTL:PT1H
BEGIN:VTIMEZONE
TZID:UTC
BEGIN:STANDARD
TZOFFSETFROM:+0000
TZOFFSETTO:+0000
TZNAME:UTC
DTSTART:20240101T000000
END:STANDARD
END:VTIMEZONE
BEGIN:VEVENT
DTSTART;TZID=UTC:20250712T110000
DTEND;TZID=UTC:20250712T120000
DTSTAMP:20260425T120223
CREATED:20250702T013801Z
LAST-MODIFIED:20250702T013801Z
UID:10000008-1752318000-1752321600@readtalkplayeveryday.com
SUMMARY:Uke Circle
DESCRIPTION:Bring your ukulele (or borrow one from Knapton Music Knotes) and join in on a uke circle. All abilities are welcome. Space is limited\, so registration is required.
URL:https://readtalkplayeveryday.com/event/uke-circle/
LOCATION:2475 Milton Ave. Janesville WI 53545\, 2475 Milton Ave\, Janesville\, WI\, 53545\, United States
END:VEVENT
END:VCALENDAR