BEGIN:VCALENDAR
VERSION:2.0
PRODID:-//Read Talk Play Everyday - ECPv6.15.20//NONSGML v1.0//EN
CALSCALE:GREGORIAN
METHOD:PUBLISH
X-ORIGINAL-URL:https://readtalkplayeveryday.com
X-WR-CALDESC:Events for Read Talk Play Everyday
REFRESH-INTERVAL;VALUE=DURATION:PT1H
X-Robots-Tag:noindex
X-PUBLISHED-TTL:PT1H
BEGIN:VTIMEZONE
TZID:America/Chicago
BEGIN:DAYLIGHT
TZOFFSETFROM:-0600
TZOFFSETTO:-0500
TZNAME:CDT
DTSTART:20250309T080000
END:DAYLIGHT
BEGIN:STANDARD
TZOFFSETFROM:-0500
TZOFFSETTO:-0600
TZNAME:CST
DTSTART:20251102T070000
END:STANDARD
BEGIN:DAYLIGHT
TZOFFSETFROM:-0600
TZOFFSETTO:-0500
TZNAME:CDT
DTSTART:20260308T080000
END:DAYLIGHT
BEGIN:STANDARD
TZOFFSETFROM:-0500
TZOFFSETTO:-0600
TZNAME:CST
DTSTART:20261101T070000
END:STANDARD
BEGIN:DAYLIGHT
TZOFFSETFROM:-0600
TZOFFSETTO:-0500
TZNAME:CDT
DTSTART:20270314T080000
END:DAYLIGHT
BEGIN:STANDARD
TZOFFSETFROM:-0500
TZOFFSETTO:-0600
TZNAME:CST
DTSTART:20271107T070000
END:STANDARD
END:VTIMEZONE
BEGIN:VEVENT
DTSTART;TZID=America/Chicago:20260523T090000
DTEND;TZID=America/Chicago:20260523T123000
DTSTAMP:20260420T123245
CREATED:20260121T205808Z
LAST-MODIFIED:20260121T205808Z
UID:10000609-1779526800-1779539400@readtalkplayeveryday.com
SUMMARY:Child Birth Preparation Class
DESCRIPTION:Our free\, all-in-one program includes research-based\,\nup-to-date information for expectant parents. \nTopics include:\n• Understanding pregnancy and labor\n• A birth story\n• Comfort techniques\n• Understanding medical procedures\n• Cesarean birth\n• Intervention alternatives and non-medicated births\n• Postpartum care including breastfeeding basics\n• What to expect with immediate newborn care \nChoose from one of our every-other-month\,\n“Weekend Express” classes\, from 9 am – 12:30 pm\non Saturday. \nThe class is held in the Conference\nRooms on the Garden Level at SSM Health\nDean Medical Group – Janesville East. \nClass sizes may be limited. \nPlease call 608-373-8200 to sign up.
URL:https://readtalkplayeveryday.com/event/child-birth-preparation-class/2026-05-23/
LOCATION:SSM Health St. Mary’s Hospital Janesville\, 3400 E. Racine St.\, Janesville\, WI\, 53546\, United States
ATTACH;FMTTYPE=image/jpeg:https://readtalkplayeveryday.com/wp-content/uploads/2026-Flyer-1.jpg
END:VEVENT
BEGIN:VEVENT
DTSTART;TZID=America/Chicago:20260725T090000
DTEND;TZID=America/Chicago:20260725T123000
DTSTAMP:20260420T123245
CREATED:20260121T205808Z
LAST-MODIFIED:20260121T205808Z
UID:10000610-1784970000-1784982600@readtalkplayeveryday.com
SUMMARY:Child Birth Preparation Class
DESCRIPTION:Our free\, all-in-one program includes research-based\,\nup-to-date information for expectant parents. \nTopics include:\n• Understanding pregnancy and labor\n• A birth story\n• Comfort techniques\n• Understanding medical procedures\n• Cesarean birth\n• Intervention alternatives and non-medicated births\n• Postpartum care including breastfeeding basics\n• What to expect with immediate newborn care \nChoose from one of our every-other-month\,\n“Weekend Express” classes\, from 9 am – 12:30 pm\non Saturday. \nThe class is held in the Conference\nRooms on the Garden Level at SSM Health\nDean Medical Group – Janesville East. \nClass sizes may be limited. \nPlease call 608-373-8200 to sign up.
URL:https://readtalkplayeveryday.com/event/child-birth-preparation-class/2026-07-25/
LOCATION:SSM Health St. Mary’s Hospital Janesville\, 3400 E. Racine St.\, Janesville\, WI\, 53546\, United States
ATTACH;FMTTYPE=image/jpeg:https://readtalkplayeveryday.com/wp-content/uploads/2026-Flyer-1.jpg
END:VEVENT
BEGIN:VEVENT
DTSTART;TZID=America/Chicago:20260926T090000
DTEND;TZID=America/Chicago:20260926T123000
DTSTAMP:20260420T123245
CREATED:20260121T205808Z
LAST-MODIFIED:20260121T205808Z
UID:10000611-1790413200-1790425800@readtalkplayeveryday.com
SUMMARY:Child Birth Preparation Class
DESCRIPTION:Our free\, all-in-one program includes research-based\,\nup-to-date information for expectant parents. \nTopics include:\n• Understanding pregnancy and labor\n• A birth story\n• Comfort techniques\n• Understanding medical procedures\n• Cesarean birth\n• Intervention alternatives and non-medicated births\n• Postpartum care including breastfeeding basics\n• What to expect with immediate newborn care \nChoose from one of our every-other-month\,\n“Weekend Express” classes\, from 9 am – 12:30 pm\non Saturday. \nThe class is held in the Conference\nRooms on the Garden Level at SSM Health\nDean Medical Group – Janesville East. \nClass sizes may be limited. \nPlease call 608-373-8200 to sign up.
URL:https://readtalkplayeveryday.com/event/child-birth-preparation-class/2026-09-26/
LOCATION:SSM Health St. Mary’s Hospital Janesville\, 3400 E. Racine St.\, Janesville\, WI\, 53546\, United States
ATTACH;FMTTYPE=image/jpeg:https://readtalkplayeveryday.com/wp-content/uploads/2026-Flyer-1.jpg
END:VEVENT
BEGIN:VEVENT
DTSTART;TZID=America/Chicago:20261114T090000
DTEND;TZID=America/Chicago:20261114T123000
DTSTAMP:20260420T123245
CREATED:20260121T205808Z
LAST-MODIFIED:20260121T205808Z
UID:10000612-1794646800-1794659400@readtalkplayeveryday.com
SUMMARY:Child Birth Preparation Class
DESCRIPTION:Our free\, all-in-one program includes research-based\,\nup-to-date information for expectant parents. \nTopics include:\n• Understanding pregnancy and labor\n• A birth story\n• Comfort techniques\n• Understanding medical procedures\n• Cesarean birth\n• Intervention alternatives and non-medicated births\n• Postpartum care including breastfeeding basics\n• What to expect with immediate newborn care \nChoose from one of our every-other-month\,\n“Weekend Express” classes\, from 9 am – 12:30 pm\non Saturday. \nThe class is held in the Conference\nRooms on the Garden Level at SSM Health\nDean Medical Group – Janesville East. \nClass sizes may be limited. \nPlease call 608-373-8200 to sign up.
URL:https://readtalkplayeveryday.com/event/child-birth-preparation-class/2026-11-14/
LOCATION:SSM Health St. Mary’s Hospital Janesville\, 3400 E. Racine St.\, Janesville\, WI\, 53546\, United States
ATTACH;FMTTYPE=image/jpeg:https://readtalkplayeveryday.com/wp-content/uploads/2026-Flyer-1.jpg
END:VEVENT
END:VCALENDAR