BEGIN:VCALENDAR
VERSION:2.0
PRODID:-//Read Talk Play Everyday - ECPv6.15.20//NONSGML v1.0//EN
CALSCALE:GREGORIAN
METHOD:PUBLISH
X-WR-CALNAME:Read Talk Play Everyday
X-ORIGINAL-URL:https://readtalkplayeveryday.com
X-WR-CALDESC:Events for Read Talk Play Everyday
REFRESH-INTERVAL;VALUE=DURATION:PT1H
X-Robots-Tag:noindex
X-PUBLISHED-TTL:PT1H
BEGIN:VTIMEZONE
TZID:America/Chicago
BEGIN:DAYLIGHT
TZOFFSETFROM:-0600
TZOFFSETTO:-0500
TZNAME:CDT
DTSTART:20260308T080000
END:DAYLIGHT
BEGIN:STANDARD
TZOFFSETFROM:-0500
TZOFFSETTO:-0600
TZNAME:CST
DTSTART:20261101T070000
END:STANDARD
BEGIN:DAYLIGHT
TZOFFSETFROM:-0600
TZOFFSETTO:-0500
TZNAME:CDT
DTSTART:20270314T080000
END:DAYLIGHT
BEGIN:STANDARD
TZOFFSETFROM:-0500
TZOFFSETTO:-0600
TZNAME:CST
DTSTART:20271107T070000
END:STANDARD
BEGIN:DAYLIGHT
TZOFFSETFROM:-0600
TZOFFSETTO:-0500
TZNAME:CDT
DTSTART:20280312T080000
END:DAYLIGHT
BEGIN:STANDARD
TZOFFSETFROM:-0500
TZOFFSETTO:-0600
TZNAME:CST
DTSTART:20281105T070000
END:STANDARD
BEGIN:DAYLIGHT
TZOFFSETFROM:-0600
TZOFFSETTO:-0500
TZNAME:CDT
DTSTART:20290311T080000
END:DAYLIGHT
BEGIN:STANDARD
TZOFFSETFROM:-0500
TZOFFSETTO:-0600
TZNAME:CST
DTSTART:20291104T070000
END:STANDARD
END:VTIMEZONE
BEGIN:VEVENT
DTSTART;TZID=America/Chicago:20270901T100000
DTEND;TZID=America/Chicago:20270901T110000
DTSTAMP:20260423T134140
CREATED:20251106T221822Z
LAST-MODIFIED:20251106T221822Z
UID:10000439-1819792800-1819796400@readtalkplayeveryday.com
SUMMARY:Preschool Story Time
DESCRIPTION:Explore a new theme every week through stories\, songs\, rhymes\, and hands-on fun! This is a wonderful time for preschoolers to practice listening\, interacting\, and imagining—together. Ages 2-6.
URL:https://readtalkplayeveryday.com/event/preschool-story-time-5/2027-09-01/
LOCATION:Beloit Public Library\, 605 Eclipse Blvd\, Beloit\, WI\, 53511\, United States
ATTACH;FMTTYPE=image/jpeg:https://readtalkplayeveryday.com/wp-content/uploads/LibCal-Graphics-PreschoolStoryTime.jpg
ORGANIZER;CN="Belot Public Library":MAILTO:pserve@beloitlibrary.org
END:VEVENT
BEGIN:VEVENT
DTSTART;TZID=America/Chicago:20270908T100000
DTEND;TZID=America/Chicago:20270908T110000
DTSTAMP:20260423T134140
CREATED:20251106T221822Z
LAST-MODIFIED:20251106T221822Z
UID:10000440-1820397600-1820401200@readtalkplayeveryday.com
SUMMARY:Preschool Story Time
DESCRIPTION:Explore a new theme every week through stories\, songs\, rhymes\, and hands-on fun! This is a wonderful time for preschoolers to practice listening\, interacting\, and imagining—together. Ages 2-6.
URL:https://readtalkplayeveryday.com/event/preschool-story-time-5/2027-09-08/
LOCATION:Beloit Public Library\, 605 Eclipse Blvd\, Beloit\, WI\, 53511\, United States
ATTACH;FMTTYPE=image/jpeg:https://readtalkplayeveryday.com/wp-content/uploads/LibCal-Graphics-PreschoolStoryTime.jpg
ORGANIZER;CN="Belot Public Library":MAILTO:pserve@beloitlibrary.org
END:VEVENT
BEGIN:VEVENT
DTSTART;TZID=America/Chicago:20270915T100000
DTEND;TZID=America/Chicago:20270915T110000
DTSTAMP:20260423T134140
CREATED:20251106T221822Z
LAST-MODIFIED:20251106T221822Z
UID:10000441-1821002400-1821006000@readtalkplayeveryday.com
SUMMARY:Preschool Story Time
DESCRIPTION:Explore a new theme every week through stories\, songs\, rhymes\, and hands-on fun! This is a wonderful time for preschoolers to practice listening\, interacting\, and imagining—together. Ages 2-6.
URL:https://readtalkplayeveryday.com/event/preschool-story-time-5/2027-09-15/
LOCATION:Beloit Public Library\, 605 Eclipse Blvd\, Beloit\, WI\, 53511\, United States
ATTACH;FMTTYPE=image/jpeg:https://readtalkplayeveryday.com/wp-content/uploads/LibCal-Graphics-PreschoolStoryTime.jpg
ORGANIZER;CN="Belot Public Library":MAILTO:pserve@beloitlibrary.org
END:VEVENT
BEGIN:VEVENT
DTSTART;TZID=America/Chicago:20270922T100000
DTEND;TZID=America/Chicago:20270922T110000
DTSTAMP:20260423T134140
CREATED:20251106T221822Z
LAST-MODIFIED:20251106T221822Z
UID:10000442-1821607200-1821610800@readtalkplayeveryday.com
SUMMARY:Preschool Story Time
DESCRIPTION:Explore a new theme every week through stories\, songs\, rhymes\, and hands-on fun! This is a wonderful time for preschoolers to practice listening\, interacting\, and imagining—together. Ages 2-6.
URL:https://readtalkplayeveryday.com/event/preschool-story-time-5/2027-09-22/
LOCATION:Beloit Public Library\, 605 Eclipse Blvd\, Beloit\, WI\, 53511\, United States
ATTACH;FMTTYPE=image/jpeg:https://readtalkplayeveryday.com/wp-content/uploads/LibCal-Graphics-PreschoolStoryTime.jpg
ORGANIZER;CN="Belot Public Library":MAILTO:pserve@beloitlibrary.org
END:VEVENT
BEGIN:VEVENT
DTSTART;TZID=America/Chicago:20270929T100000
DTEND;TZID=America/Chicago:20270929T110000
DTSTAMP:20260423T134140
CREATED:20251106T221822Z
LAST-MODIFIED:20251106T221822Z
UID:10000443-1822212000-1822215600@readtalkplayeveryday.com
SUMMARY:Preschool Story Time
DESCRIPTION:Explore a new theme every week through stories\, songs\, rhymes\, and hands-on fun! This is a wonderful time for preschoolers to practice listening\, interacting\, and imagining—together. Ages 2-6.
URL:https://readtalkplayeveryday.com/event/preschool-story-time-5/2027-09-29/
LOCATION:Beloit Public Library\, 605 Eclipse Blvd\, Beloit\, WI\, 53511\, United States
ATTACH;FMTTYPE=image/jpeg:https://readtalkplayeveryday.com/wp-content/uploads/LibCal-Graphics-PreschoolStoryTime.jpg
ORGANIZER;CN="Belot Public Library":MAILTO:pserve@beloitlibrary.org
END:VEVENT
BEGIN:VEVENT
DTSTART;TZID=America/Chicago:20271006T100000
DTEND;TZID=America/Chicago:20271006T110000
DTSTAMP:20260423T134140
CREATED:20251106T221822Z
LAST-MODIFIED:20251106T221822Z
UID:10000444-1822816800-1822820400@readtalkplayeveryday.com
SUMMARY:Preschool Story Time
DESCRIPTION:Explore a new theme every week through stories\, songs\, rhymes\, and hands-on fun! This is a wonderful time for preschoolers to practice listening\, interacting\, and imagining—together. Ages 2-6.
URL:https://readtalkplayeveryday.com/event/preschool-story-time-5/2027-10-06/
LOCATION:Beloit Public Library\, 605 Eclipse Blvd\, Beloit\, WI\, 53511\, United States
ATTACH;FMTTYPE=image/jpeg:https://readtalkplayeveryday.com/wp-content/uploads/LibCal-Graphics-PreschoolStoryTime.jpg
ORGANIZER;CN="Belot Public Library":MAILTO:pserve@beloitlibrary.org
END:VEVENT
BEGIN:VEVENT
DTSTART;TZID=America/Chicago:20271013T100000
DTEND;TZID=America/Chicago:20271013T110000
DTSTAMP:20260423T134140
CREATED:20251106T221822Z
LAST-MODIFIED:20251106T221822Z
UID:10000445-1823421600-1823425200@readtalkplayeveryday.com
SUMMARY:Preschool Story Time
DESCRIPTION:Explore a new theme every week through stories\, songs\, rhymes\, and hands-on fun! This is a wonderful time for preschoolers to practice listening\, interacting\, and imagining—together. Ages 2-6.
URL:https://readtalkplayeveryday.com/event/preschool-story-time-5/2027-10-13/
LOCATION:Beloit Public Library\, 605 Eclipse Blvd\, Beloit\, WI\, 53511\, United States
ATTACH;FMTTYPE=image/jpeg:https://readtalkplayeveryday.com/wp-content/uploads/LibCal-Graphics-PreschoolStoryTime.jpg
ORGANIZER;CN="Belot Public Library":MAILTO:pserve@beloitlibrary.org
END:VEVENT
BEGIN:VEVENT
DTSTART;TZID=America/Chicago:20271020T100000
DTEND;TZID=America/Chicago:20271020T110000
DTSTAMP:20260423T134140
CREATED:20251106T221822Z
LAST-MODIFIED:20251106T221822Z
UID:10000446-1824026400-1824030000@readtalkplayeveryday.com
SUMMARY:Preschool Story Time
DESCRIPTION:Explore a new theme every week through stories\, songs\, rhymes\, and hands-on fun! This is a wonderful time for preschoolers to practice listening\, interacting\, and imagining—together. Ages 2-6.
URL:https://readtalkplayeveryday.com/event/preschool-story-time-5/2027-10-20/
LOCATION:Beloit Public Library\, 605 Eclipse Blvd\, Beloit\, WI\, 53511\, United States
ATTACH;FMTTYPE=image/jpeg:https://readtalkplayeveryday.com/wp-content/uploads/LibCal-Graphics-PreschoolStoryTime.jpg
ORGANIZER;CN="Belot Public Library":MAILTO:pserve@beloitlibrary.org
END:VEVENT
BEGIN:VEVENT
DTSTART;TZID=America/Chicago:20271027T100000
DTEND;TZID=America/Chicago:20271027T110000
DTSTAMP:20260423T134140
CREATED:20251106T221822Z
LAST-MODIFIED:20251106T221822Z
UID:10000447-1824631200-1824634800@readtalkplayeveryday.com
SUMMARY:Preschool Story Time
DESCRIPTION:Explore a new theme every week through stories\, songs\, rhymes\, and hands-on fun! This is a wonderful time for preschoolers to practice listening\, interacting\, and imagining—together. Ages 2-6.
URL:https://readtalkplayeveryday.com/event/preschool-story-time-5/2027-10-27/
LOCATION:Beloit Public Library\, 605 Eclipse Blvd\, Beloit\, WI\, 53511\, United States
ATTACH;FMTTYPE=image/jpeg:https://readtalkplayeveryday.com/wp-content/uploads/LibCal-Graphics-PreschoolStoryTime.jpg
ORGANIZER;CN="Belot Public Library":MAILTO:pserve@beloitlibrary.org
END:VEVENT
BEGIN:VEVENT
DTSTART;TZID=America/Chicago:20271103T100000
DTEND;TZID=America/Chicago:20271103T110000
DTSTAMP:20260423T134140
CREATED:20251106T221822Z
LAST-MODIFIED:20251106T221822Z
UID:10000448-1825236000-1825239600@readtalkplayeveryday.com
SUMMARY:Preschool Story Time
DESCRIPTION:Explore a new theme every week through stories\, songs\, rhymes\, and hands-on fun! This is a wonderful time for preschoolers to practice listening\, interacting\, and imagining—together. Ages 2-6.
URL:https://readtalkplayeveryday.com/event/preschool-story-time-5/2027-11-03/
LOCATION:Beloit Public Library\, 605 Eclipse Blvd\, Beloit\, WI\, 53511\, United States
ATTACH;FMTTYPE=image/jpeg:https://readtalkplayeveryday.com/wp-content/uploads/LibCal-Graphics-PreschoolStoryTime.jpg
ORGANIZER;CN="Belot Public Library":MAILTO:pserve@beloitlibrary.org
END:VEVENT
BEGIN:VEVENT
DTSTART;TZID=America/Chicago:20271110T100000
DTEND;TZID=America/Chicago:20271110T110000
DTSTAMP:20260423T134140
CREATED:20251106T221822Z
LAST-MODIFIED:20251106T221822Z
UID:10000449-1825840800-1825844400@readtalkplayeveryday.com
SUMMARY:Preschool Story Time
DESCRIPTION:Explore a new theme every week through stories\, songs\, rhymes\, and hands-on fun! This is a wonderful time for preschoolers to practice listening\, interacting\, and imagining—together. Ages 2-6.
URL:https://readtalkplayeveryday.com/event/preschool-story-time-5/2027-11-10/
LOCATION:Beloit Public Library\, 605 Eclipse Blvd\, Beloit\, WI\, 53511\, United States
ATTACH;FMTTYPE=image/jpeg:https://readtalkplayeveryday.com/wp-content/uploads/LibCal-Graphics-PreschoolStoryTime.jpg
ORGANIZER;CN="Belot Public Library":MAILTO:pserve@beloitlibrary.org
END:VEVENT
BEGIN:VEVENT
DTSTART;TZID=America/Chicago:20271117T100000
DTEND;TZID=America/Chicago:20271117T110000
DTSTAMP:20260423T134140
CREATED:20251106T221822Z
LAST-MODIFIED:20251106T221822Z
UID:10000450-1826445600-1826449200@readtalkplayeveryday.com
SUMMARY:Preschool Story Time
DESCRIPTION:Explore a new theme every week through stories\, songs\, rhymes\, and hands-on fun! This is a wonderful time for preschoolers to practice listening\, interacting\, and imagining—together. Ages 2-6.
URL:https://readtalkplayeveryday.com/event/preschool-story-time-5/2027-11-17/
LOCATION:Beloit Public Library\, 605 Eclipse Blvd\, Beloit\, WI\, 53511\, United States
ATTACH;FMTTYPE=image/jpeg:https://readtalkplayeveryday.com/wp-content/uploads/LibCal-Graphics-PreschoolStoryTime.jpg
ORGANIZER;CN="Belot Public Library":MAILTO:pserve@beloitlibrary.org
END:VEVENT
BEGIN:VEVENT
DTSTART;TZID=America/Chicago:20271124T100000
DTEND;TZID=America/Chicago:20271124T110000
DTSTAMP:20260423T134140
CREATED:20251106T221822Z
LAST-MODIFIED:20251106T221822Z
UID:10000451-1827050400-1827054000@readtalkplayeveryday.com
SUMMARY:Preschool Story Time
DESCRIPTION:Explore a new theme every week through stories\, songs\, rhymes\, and hands-on fun! This is a wonderful time for preschoolers to practice listening\, interacting\, and imagining—together. Ages 2-6.
URL:https://readtalkplayeveryday.com/event/preschool-story-time-5/2027-11-24/
LOCATION:Beloit Public Library\, 605 Eclipse Blvd\, Beloit\, WI\, 53511\, United States
ATTACH;FMTTYPE=image/jpeg:https://readtalkplayeveryday.com/wp-content/uploads/LibCal-Graphics-PreschoolStoryTime.jpg
ORGANIZER;CN="Belot Public Library":MAILTO:pserve@beloitlibrary.org
END:VEVENT
BEGIN:VEVENT
DTSTART;TZID=America/Chicago:20271201T100000
DTEND;TZID=America/Chicago:20271201T110000
DTSTAMP:20260423T134140
CREATED:20251106T221822Z
LAST-MODIFIED:20251106T221822Z
UID:10000452-1827655200-1827658800@readtalkplayeveryday.com
SUMMARY:Preschool Story Time
DESCRIPTION:Explore a new theme every week through stories\, songs\, rhymes\, and hands-on fun! This is a wonderful time for preschoolers to practice listening\, interacting\, and imagining—together. Ages 2-6.
URL:https://readtalkplayeveryday.com/event/preschool-story-time-5/2027-12-01/
LOCATION:Beloit Public Library\, 605 Eclipse Blvd\, Beloit\, WI\, 53511\, United States
ATTACH;FMTTYPE=image/jpeg:https://readtalkplayeveryday.com/wp-content/uploads/LibCal-Graphics-PreschoolStoryTime.jpg
ORGANIZER;CN="Belot Public Library":MAILTO:pserve@beloitlibrary.org
END:VEVENT
BEGIN:VEVENT
DTSTART;TZID=America/Chicago:20271208T100000
DTEND;TZID=America/Chicago:20271208T110000
DTSTAMP:20260423T134140
CREATED:20251106T221822Z
LAST-MODIFIED:20251106T221822Z
UID:10000453-1828260000-1828263600@readtalkplayeveryday.com
SUMMARY:Preschool Story Time
DESCRIPTION:Explore a new theme every week through stories\, songs\, rhymes\, and hands-on fun! This is a wonderful time for preschoolers to practice listening\, interacting\, and imagining—together. Ages 2-6.
URL:https://readtalkplayeveryday.com/event/preschool-story-time-5/2027-12-08/
LOCATION:Beloit Public Library\, 605 Eclipse Blvd\, Beloit\, WI\, 53511\, United States
ATTACH;FMTTYPE=image/jpeg:https://readtalkplayeveryday.com/wp-content/uploads/LibCal-Graphics-PreschoolStoryTime.jpg
ORGANIZER;CN="Belot Public Library":MAILTO:pserve@beloitlibrary.org
END:VEVENT
BEGIN:VEVENT
DTSTART;TZID=America/Chicago:20271215T100000
DTEND;TZID=America/Chicago:20271215T110000
DTSTAMP:20260423T134140
CREATED:20251106T221822Z
LAST-MODIFIED:20251106T221822Z
UID:10000454-1828864800-1828868400@readtalkplayeveryday.com
SUMMARY:Preschool Story Time
DESCRIPTION:Explore a new theme every week through stories\, songs\, rhymes\, and hands-on fun! This is a wonderful time for preschoolers to practice listening\, interacting\, and imagining—together. Ages 2-6.
URL:https://readtalkplayeveryday.com/event/preschool-story-time-5/2027-12-15/
LOCATION:Beloit Public Library\, 605 Eclipse Blvd\, Beloit\, WI\, 53511\, United States
ATTACH;FMTTYPE=image/jpeg:https://readtalkplayeveryday.com/wp-content/uploads/LibCal-Graphics-PreschoolStoryTime.jpg
ORGANIZER;CN="Belot Public Library":MAILTO:pserve@beloitlibrary.org
END:VEVENT
BEGIN:VEVENT
DTSTART;TZID=America/Chicago:20271222T100000
DTEND;TZID=America/Chicago:20271222T110000
DTSTAMP:20260423T134140
CREATED:20251106T221822Z
LAST-MODIFIED:20251106T221822Z
UID:10000455-1829469600-1829473200@readtalkplayeveryday.com
SUMMARY:Preschool Story Time
DESCRIPTION:Explore a new theme every week through stories\, songs\, rhymes\, and hands-on fun! This is a wonderful time for preschoolers to practice listening\, interacting\, and imagining—together. Ages 2-6.
URL:https://readtalkplayeveryday.com/event/preschool-story-time-5/2027-12-22/
LOCATION:Beloit Public Library\, 605 Eclipse Blvd\, Beloit\, WI\, 53511\, United States
ATTACH;FMTTYPE=image/jpeg:https://readtalkplayeveryday.com/wp-content/uploads/LibCal-Graphics-PreschoolStoryTime.jpg
ORGANIZER;CN="Belot Public Library":MAILTO:pserve@beloitlibrary.org
END:VEVENT
BEGIN:VEVENT
DTSTART;TZID=America/Chicago:20271229T100000
DTEND;TZID=America/Chicago:20271229T110000
DTSTAMP:20260423T134140
CREATED:20251106T221822Z
LAST-MODIFIED:20251106T221822Z
UID:10000456-1830074400-1830078000@readtalkplayeveryday.com
SUMMARY:Preschool Story Time
DESCRIPTION:Explore a new theme every week through stories\, songs\, rhymes\, and hands-on fun! This is a wonderful time for preschoolers to practice listening\, interacting\, and imagining—together. Ages 2-6.
URL:https://readtalkplayeveryday.com/event/preschool-story-time-5/2027-12-29/
LOCATION:Beloit Public Library\, 605 Eclipse Blvd\, Beloit\, WI\, 53511\, United States
ATTACH;FMTTYPE=image/jpeg:https://readtalkplayeveryday.com/wp-content/uploads/LibCal-Graphics-PreschoolStoryTime.jpg
ORGANIZER;CN="Belot Public Library":MAILTO:pserve@beloitlibrary.org
END:VEVENT
BEGIN:VEVENT
DTSTART;TZID=America/Chicago:20280105T100000
DTEND;TZID=America/Chicago:20280105T110000
DTSTAMP:20260423T134140
CREATED:20251106T221822Z
LAST-MODIFIED:20251106T221822Z
UID:10000457-1830679200-1830682800@readtalkplayeveryday.com
SUMMARY:Preschool Story Time
DESCRIPTION:Explore a new theme every week through stories\, songs\, rhymes\, and hands-on fun! This is a wonderful time for preschoolers to practice listening\, interacting\, and imagining—together. Ages 2-6.
URL:https://readtalkplayeveryday.com/event/preschool-story-time-5/2028-01-05/
LOCATION:Beloit Public Library\, 605 Eclipse Blvd\, Beloit\, WI\, 53511\, United States
ATTACH;FMTTYPE=image/jpeg:https://readtalkplayeveryday.com/wp-content/uploads/LibCal-Graphics-PreschoolStoryTime.jpg
ORGANIZER;CN="Belot Public Library":MAILTO:pserve@beloitlibrary.org
END:VEVENT
BEGIN:VEVENT
DTSTART;TZID=America/Chicago:20280112T100000
DTEND;TZID=America/Chicago:20280112T110000
DTSTAMP:20260423T134140
CREATED:20251106T221822Z
LAST-MODIFIED:20251106T221822Z
UID:10000458-1831284000-1831287600@readtalkplayeveryday.com
SUMMARY:Preschool Story Time
DESCRIPTION:Explore a new theme every week through stories\, songs\, rhymes\, and hands-on fun! This is a wonderful time for preschoolers to practice listening\, interacting\, and imagining—together. Ages 2-6.
URL:https://readtalkplayeveryday.com/event/preschool-story-time-5/2028-01-12/
LOCATION:Beloit Public Library\, 605 Eclipse Blvd\, Beloit\, WI\, 53511\, United States
ATTACH;FMTTYPE=image/jpeg:https://readtalkplayeveryday.com/wp-content/uploads/LibCal-Graphics-PreschoolStoryTime.jpg
ORGANIZER;CN="Belot Public Library":MAILTO:pserve@beloitlibrary.org
END:VEVENT
BEGIN:VEVENT
DTSTART;TZID=America/Chicago:20280119T100000
DTEND;TZID=America/Chicago:20280119T110000
DTSTAMP:20260423T134140
CREATED:20251106T221822Z
LAST-MODIFIED:20251106T221822Z
UID:10000459-1831888800-1831892400@readtalkplayeveryday.com
SUMMARY:Preschool Story Time
DESCRIPTION:Explore a new theme every week through stories\, songs\, rhymes\, and hands-on fun! This is a wonderful time for preschoolers to practice listening\, interacting\, and imagining—together. Ages 2-6.
URL:https://readtalkplayeveryday.com/event/preschool-story-time-5/2028-01-19/
LOCATION:Beloit Public Library\, 605 Eclipse Blvd\, Beloit\, WI\, 53511\, United States
ATTACH;FMTTYPE=image/jpeg:https://readtalkplayeveryday.com/wp-content/uploads/LibCal-Graphics-PreschoolStoryTime.jpg
ORGANIZER;CN="Belot Public Library":MAILTO:pserve@beloitlibrary.org
END:VEVENT
BEGIN:VEVENT
DTSTART;TZID=America/Chicago:20280126T100000
DTEND;TZID=America/Chicago:20280126T110000
DTSTAMP:20260423T134140
CREATED:20251106T221822Z
LAST-MODIFIED:20251106T221822Z
UID:10000460-1832493600-1832497200@readtalkplayeveryday.com
SUMMARY:Preschool Story Time
DESCRIPTION:Explore a new theme every week through stories\, songs\, rhymes\, and hands-on fun! This is a wonderful time for preschoolers to practice listening\, interacting\, and imagining—together. Ages 2-6.
URL:https://readtalkplayeveryday.com/event/preschool-story-time-5/2028-01-26/
LOCATION:Beloit Public Library\, 605 Eclipse Blvd\, Beloit\, WI\, 53511\, United States
ATTACH;FMTTYPE=image/jpeg:https://readtalkplayeveryday.com/wp-content/uploads/LibCal-Graphics-PreschoolStoryTime.jpg
ORGANIZER;CN="Belot Public Library":MAILTO:pserve@beloitlibrary.org
END:VEVENT
BEGIN:VEVENT
DTSTART;TZID=America/Chicago:20280202T100000
DTEND;TZID=America/Chicago:20280202T110000
DTSTAMP:20260423T134140
CREATED:20251106T221822Z
LAST-MODIFIED:20251106T221822Z
UID:10000461-1833098400-1833102000@readtalkplayeveryday.com
SUMMARY:Preschool Story Time
DESCRIPTION:Explore a new theme every week through stories\, songs\, rhymes\, and hands-on fun! This is a wonderful time for preschoolers to practice listening\, interacting\, and imagining—together. Ages 2-6.
URL:https://readtalkplayeveryday.com/event/preschool-story-time-5/2028-02-02/
LOCATION:Beloit Public Library\, 605 Eclipse Blvd\, Beloit\, WI\, 53511\, United States
ATTACH;FMTTYPE=image/jpeg:https://readtalkplayeveryday.com/wp-content/uploads/LibCal-Graphics-PreschoolStoryTime.jpg
ORGANIZER;CN="Belot Public Library":MAILTO:pserve@beloitlibrary.org
END:VEVENT
BEGIN:VEVENT
DTSTART;TZID=America/Chicago:20280209T100000
DTEND;TZID=America/Chicago:20280209T110000
DTSTAMP:20260423T134140
CREATED:20251106T221822Z
LAST-MODIFIED:20251106T221822Z
UID:10000462-1833703200-1833706800@readtalkplayeveryday.com
SUMMARY:Preschool Story Time
DESCRIPTION:Explore a new theme every week through stories\, songs\, rhymes\, and hands-on fun! This is a wonderful time for preschoolers to practice listening\, interacting\, and imagining—together. Ages 2-6.
URL:https://readtalkplayeveryday.com/event/preschool-story-time-5/2028-02-09/
LOCATION:Beloit Public Library\, 605 Eclipse Blvd\, Beloit\, WI\, 53511\, United States
ATTACH;FMTTYPE=image/jpeg:https://readtalkplayeveryday.com/wp-content/uploads/LibCal-Graphics-PreschoolStoryTime.jpg
ORGANIZER;CN="Belot Public Library":MAILTO:pserve@beloitlibrary.org
END:VEVENT
BEGIN:VEVENT
DTSTART;TZID=America/Chicago:20280216T100000
DTEND;TZID=America/Chicago:20280216T110000
DTSTAMP:20260423T134140
CREATED:20251106T221822Z
LAST-MODIFIED:20251106T221822Z
UID:10000463-1834308000-1834311600@readtalkplayeveryday.com
SUMMARY:Preschool Story Time
DESCRIPTION:Explore a new theme every week through stories\, songs\, rhymes\, and hands-on fun! This is a wonderful time for preschoolers to practice listening\, interacting\, and imagining—together. Ages 2-6.
URL:https://readtalkplayeveryday.com/event/preschool-story-time-5/2028-02-16/
LOCATION:Beloit Public Library\, 605 Eclipse Blvd\, Beloit\, WI\, 53511\, United States
ATTACH;FMTTYPE=image/jpeg:https://readtalkplayeveryday.com/wp-content/uploads/LibCal-Graphics-PreschoolStoryTime.jpg
ORGANIZER;CN="Belot Public Library":MAILTO:pserve@beloitlibrary.org
END:VEVENT
BEGIN:VEVENT
DTSTART;TZID=America/Chicago:20280223T100000
DTEND;TZID=America/Chicago:20280223T110000
DTSTAMP:20260423T134140
CREATED:20251106T221822Z
LAST-MODIFIED:20251106T221822Z
UID:10000464-1834912800-1834916400@readtalkplayeveryday.com
SUMMARY:Preschool Story Time
DESCRIPTION:Explore a new theme every week through stories\, songs\, rhymes\, and hands-on fun! This is a wonderful time for preschoolers to practice listening\, interacting\, and imagining—together. Ages 2-6.
URL:https://readtalkplayeveryday.com/event/preschool-story-time-5/2028-02-23/
LOCATION:Beloit Public Library\, 605 Eclipse Blvd\, Beloit\, WI\, 53511\, United States
ATTACH;FMTTYPE=image/jpeg:https://readtalkplayeveryday.com/wp-content/uploads/LibCal-Graphics-PreschoolStoryTime.jpg
ORGANIZER;CN="Belot Public Library":MAILTO:pserve@beloitlibrary.org
END:VEVENT
BEGIN:VEVENT
DTSTART;TZID=America/Chicago:20280301T100000
DTEND;TZID=America/Chicago:20280301T110000
DTSTAMP:20260423T134140
CREATED:20251106T221822Z
LAST-MODIFIED:20251106T221822Z
UID:10000465-1835517600-1835521200@readtalkplayeveryday.com
SUMMARY:Preschool Story Time
DESCRIPTION:Explore a new theme every week through stories\, songs\, rhymes\, and hands-on fun! This is a wonderful time for preschoolers to practice listening\, interacting\, and imagining—together. Ages 2-6.
URL:https://readtalkplayeveryday.com/event/preschool-story-time-5/2028-03-01/
LOCATION:Beloit Public Library\, 605 Eclipse Blvd\, Beloit\, WI\, 53511\, United States
ATTACH;FMTTYPE=image/jpeg:https://readtalkplayeveryday.com/wp-content/uploads/LibCal-Graphics-PreschoolStoryTime.jpg
ORGANIZER;CN="Belot Public Library":MAILTO:pserve@beloitlibrary.org
END:VEVENT
BEGIN:VEVENT
DTSTART;TZID=America/Chicago:20280308T100000
DTEND;TZID=America/Chicago:20280308T110000
DTSTAMP:20260423T134140
CREATED:20251106T221822Z
LAST-MODIFIED:20251106T221822Z
UID:10000466-1836122400-1836126000@readtalkplayeveryday.com
SUMMARY:Preschool Story Time
DESCRIPTION:Explore a new theme every week through stories\, songs\, rhymes\, and hands-on fun! This is a wonderful time for preschoolers to practice listening\, interacting\, and imagining—together. Ages 2-6.
URL:https://readtalkplayeveryday.com/event/preschool-story-time-5/2028-03-08/
LOCATION:Beloit Public Library\, 605 Eclipse Blvd\, Beloit\, WI\, 53511\, United States
ATTACH;FMTTYPE=image/jpeg:https://readtalkplayeveryday.com/wp-content/uploads/LibCal-Graphics-PreschoolStoryTime.jpg
ORGANIZER;CN="Belot Public Library":MAILTO:pserve@beloitlibrary.org
END:VEVENT
BEGIN:VEVENT
DTSTART;TZID=America/Chicago:20280315T100000
DTEND;TZID=America/Chicago:20280315T110000
DTSTAMP:20260423T134140
CREATED:20251106T221822Z
LAST-MODIFIED:20251106T221822Z
UID:10000467-1836727200-1836730800@readtalkplayeveryday.com
SUMMARY:Preschool Story Time
DESCRIPTION:Explore a new theme every week through stories\, songs\, rhymes\, and hands-on fun! This is a wonderful time for preschoolers to practice listening\, interacting\, and imagining—together. Ages 2-6.
URL:https://readtalkplayeveryday.com/event/preschool-story-time-5/2028-03-15/
LOCATION:Beloit Public Library\, 605 Eclipse Blvd\, Beloit\, WI\, 53511\, United States
ATTACH;FMTTYPE=image/jpeg:https://readtalkplayeveryday.com/wp-content/uploads/LibCal-Graphics-PreschoolStoryTime.jpg
ORGANIZER;CN="Belot Public Library":MAILTO:pserve@beloitlibrary.org
END:VEVENT
BEGIN:VEVENT
DTSTART;TZID=America/Chicago:20280322T100000
DTEND;TZID=America/Chicago:20280322T110000
DTSTAMP:20260423T134140
CREATED:20251106T221822Z
LAST-MODIFIED:20251106T221822Z
UID:10000468-1837332000-1837335600@readtalkplayeveryday.com
SUMMARY:Preschool Story Time
DESCRIPTION:Explore a new theme every week through stories\, songs\, rhymes\, and hands-on fun! This is a wonderful time for preschoolers to practice listening\, interacting\, and imagining—together. Ages 2-6.
URL:https://readtalkplayeveryday.com/event/preschool-story-time-5/2028-03-22/
LOCATION:Beloit Public Library\, 605 Eclipse Blvd\, Beloit\, WI\, 53511\, United States
ATTACH;FMTTYPE=image/jpeg:https://readtalkplayeveryday.com/wp-content/uploads/LibCal-Graphics-PreschoolStoryTime.jpg
ORGANIZER;CN="Belot Public Library":MAILTO:pserve@beloitlibrary.org
END:VEVENT
END:VCALENDAR