BEGIN:VCALENDAR
VERSION:2.0
PRODID:-//Read Talk Play Everyday - ECPv6.15.20//NONSGML v1.0//EN
CALSCALE:GREGORIAN
METHOD:PUBLISH
X-WR-CALNAME:Read Talk Play Everyday
X-ORIGINAL-URL:https://readtalkplayeveryday.com
X-WR-CALDESC:Events for Read Talk Play Everyday
REFRESH-INTERVAL;VALUE=DURATION:PT1H
X-Robots-Tag:noindex
X-PUBLISHED-TTL:PT1H
BEGIN:VTIMEZONE
TZID:America/Chicago
BEGIN:DAYLIGHT
TZOFFSETFROM:-0600
TZOFFSETTO:-0500
TZNAME:CDT
DTSTART:20270314T080000
END:DAYLIGHT
BEGIN:STANDARD
TZOFFSETFROM:-0500
TZOFFSETTO:-0600
TZNAME:CST
DTSTART:20271107T070000
END:STANDARD
BEGIN:DAYLIGHT
TZOFFSETFROM:-0600
TZOFFSETTO:-0500
TZNAME:CDT
DTSTART:20280312T080000
END:DAYLIGHT
BEGIN:STANDARD
TZOFFSETFROM:-0500
TZOFFSETTO:-0600
TZNAME:CST
DTSTART:20281105T070000
END:STANDARD
BEGIN:DAYLIGHT
TZOFFSETFROM:-0600
TZOFFSETTO:-0500
TZNAME:CDT
DTSTART:20290311T080000
END:DAYLIGHT
BEGIN:STANDARD
TZOFFSETFROM:-0500
TZOFFSETTO:-0600
TZNAME:CST
DTSTART:20291104T070000
END:STANDARD
END:VTIMEZONE
BEGIN:VEVENT
DTSTART;TZID=America/Chicago:20280119T100000
DTEND;TZID=America/Chicago:20280119T110000
DTSTAMP:20260425T084710
CREATED:20251106T221822Z
LAST-MODIFIED:20251106T221822Z
UID:10000459-1831888800-1831892400@readtalkplayeveryday.com
SUMMARY:Preschool Story Time
DESCRIPTION:Explore a new theme every week through stories\, songs\, rhymes\, and hands-on fun! This is a wonderful time for preschoolers to practice listening\, interacting\, and imagining—together. Ages 2-6.
URL:https://readtalkplayeveryday.com/event/preschool-story-time-5/2028-01-19/
LOCATION:Beloit Public Library\, 605 Eclipse Blvd\, Beloit\, WI\, 53511\, United States
ATTACH;FMTTYPE=image/jpeg:https://readtalkplayeveryday.com/wp-content/uploads/LibCal-Graphics-PreschoolStoryTime.jpg
ORGANIZER;CN="Belot Public Library":MAILTO:pserve@beloitlibrary.org
END:VEVENT
BEGIN:VEVENT
DTSTART;TZID=America/Chicago:20280126T100000
DTEND;TZID=America/Chicago:20280126T110000
DTSTAMP:20260425T084710
CREATED:20251106T221822Z
LAST-MODIFIED:20251106T221822Z
UID:10000460-1832493600-1832497200@readtalkplayeveryday.com
SUMMARY:Preschool Story Time
DESCRIPTION:Explore a new theme every week through stories\, songs\, rhymes\, and hands-on fun! This is a wonderful time for preschoolers to practice listening\, interacting\, and imagining—together. Ages 2-6.
URL:https://readtalkplayeveryday.com/event/preschool-story-time-5/2028-01-26/
LOCATION:Beloit Public Library\, 605 Eclipse Blvd\, Beloit\, WI\, 53511\, United States
ATTACH;FMTTYPE=image/jpeg:https://readtalkplayeveryday.com/wp-content/uploads/LibCal-Graphics-PreschoolStoryTime.jpg
ORGANIZER;CN="Belot Public Library":MAILTO:pserve@beloitlibrary.org
END:VEVENT
BEGIN:VEVENT
DTSTART;TZID=America/Chicago:20280202T100000
DTEND;TZID=America/Chicago:20280202T110000
DTSTAMP:20260425T084710
CREATED:20251106T221822Z
LAST-MODIFIED:20251106T221822Z
UID:10000461-1833098400-1833102000@readtalkplayeveryday.com
SUMMARY:Preschool Story Time
DESCRIPTION:Explore a new theme every week through stories\, songs\, rhymes\, and hands-on fun! This is a wonderful time for preschoolers to practice listening\, interacting\, and imagining—together. Ages 2-6.
URL:https://readtalkplayeveryday.com/event/preschool-story-time-5/2028-02-02/
LOCATION:Beloit Public Library\, 605 Eclipse Blvd\, Beloit\, WI\, 53511\, United States
ATTACH;FMTTYPE=image/jpeg:https://readtalkplayeveryday.com/wp-content/uploads/LibCal-Graphics-PreschoolStoryTime.jpg
ORGANIZER;CN="Belot Public Library":MAILTO:pserve@beloitlibrary.org
END:VEVENT
BEGIN:VEVENT
DTSTART;TZID=America/Chicago:20280209T100000
DTEND;TZID=America/Chicago:20280209T110000
DTSTAMP:20260425T084710
CREATED:20251106T221822Z
LAST-MODIFIED:20251106T221822Z
UID:10000462-1833703200-1833706800@readtalkplayeveryday.com
SUMMARY:Preschool Story Time
DESCRIPTION:Explore a new theme every week through stories\, songs\, rhymes\, and hands-on fun! This is a wonderful time for preschoolers to practice listening\, interacting\, and imagining—together. Ages 2-6.
URL:https://readtalkplayeveryday.com/event/preschool-story-time-5/2028-02-09/
LOCATION:Beloit Public Library\, 605 Eclipse Blvd\, Beloit\, WI\, 53511\, United States
ATTACH;FMTTYPE=image/jpeg:https://readtalkplayeveryday.com/wp-content/uploads/LibCal-Graphics-PreschoolStoryTime.jpg
ORGANIZER;CN="Belot Public Library":MAILTO:pserve@beloitlibrary.org
END:VEVENT
BEGIN:VEVENT
DTSTART;TZID=America/Chicago:20280216T100000
DTEND;TZID=America/Chicago:20280216T110000
DTSTAMP:20260425T084710
CREATED:20251106T221822Z
LAST-MODIFIED:20251106T221822Z
UID:10000463-1834308000-1834311600@readtalkplayeveryday.com
SUMMARY:Preschool Story Time
DESCRIPTION:Explore a new theme every week through stories\, songs\, rhymes\, and hands-on fun! This is a wonderful time for preschoolers to practice listening\, interacting\, and imagining—together. Ages 2-6.
URL:https://readtalkplayeveryday.com/event/preschool-story-time-5/2028-02-16/
LOCATION:Beloit Public Library\, 605 Eclipse Blvd\, Beloit\, WI\, 53511\, United States
ATTACH;FMTTYPE=image/jpeg:https://readtalkplayeveryday.com/wp-content/uploads/LibCal-Graphics-PreschoolStoryTime.jpg
ORGANIZER;CN="Belot Public Library":MAILTO:pserve@beloitlibrary.org
END:VEVENT
BEGIN:VEVENT
DTSTART;TZID=America/Chicago:20280223T100000
DTEND;TZID=America/Chicago:20280223T110000
DTSTAMP:20260425T084710
CREATED:20251106T221822Z
LAST-MODIFIED:20251106T221822Z
UID:10000464-1834912800-1834916400@readtalkplayeveryday.com
SUMMARY:Preschool Story Time
DESCRIPTION:Explore a new theme every week through stories\, songs\, rhymes\, and hands-on fun! This is a wonderful time for preschoolers to practice listening\, interacting\, and imagining—together. Ages 2-6.
URL:https://readtalkplayeveryday.com/event/preschool-story-time-5/2028-02-23/
LOCATION:Beloit Public Library\, 605 Eclipse Blvd\, Beloit\, WI\, 53511\, United States
ATTACH;FMTTYPE=image/jpeg:https://readtalkplayeveryday.com/wp-content/uploads/LibCal-Graphics-PreschoolStoryTime.jpg
ORGANIZER;CN="Belot Public Library":MAILTO:pserve@beloitlibrary.org
END:VEVENT
BEGIN:VEVENT
DTSTART;TZID=America/Chicago:20280301T100000
DTEND;TZID=America/Chicago:20280301T110000
DTSTAMP:20260425T084710
CREATED:20251106T221822Z
LAST-MODIFIED:20251106T221822Z
UID:10000465-1835517600-1835521200@readtalkplayeveryday.com
SUMMARY:Preschool Story Time
DESCRIPTION:Explore a new theme every week through stories\, songs\, rhymes\, and hands-on fun! This is a wonderful time for preschoolers to practice listening\, interacting\, and imagining—together. Ages 2-6.
URL:https://readtalkplayeveryday.com/event/preschool-story-time-5/2028-03-01/
LOCATION:Beloit Public Library\, 605 Eclipse Blvd\, Beloit\, WI\, 53511\, United States
ATTACH;FMTTYPE=image/jpeg:https://readtalkplayeveryday.com/wp-content/uploads/LibCal-Graphics-PreschoolStoryTime.jpg
ORGANIZER;CN="Belot Public Library":MAILTO:pserve@beloitlibrary.org
END:VEVENT
BEGIN:VEVENT
DTSTART;TZID=America/Chicago:20280308T100000
DTEND;TZID=America/Chicago:20280308T110000
DTSTAMP:20260425T084710
CREATED:20251106T221822Z
LAST-MODIFIED:20251106T221822Z
UID:10000466-1836122400-1836126000@readtalkplayeveryday.com
SUMMARY:Preschool Story Time
DESCRIPTION:Explore a new theme every week through stories\, songs\, rhymes\, and hands-on fun! This is a wonderful time for preschoolers to practice listening\, interacting\, and imagining—together. Ages 2-6.
URL:https://readtalkplayeveryday.com/event/preschool-story-time-5/2028-03-08/
LOCATION:Beloit Public Library\, 605 Eclipse Blvd\, Beloit\, WI\, 53511\, United States
ATTACH;FMTTYPE=image/jpeg:https://readtalkplayeveryday.com/wp-content/uploads/LibCal-Graphics-PreschoolStoryTime.jpg
ORGANIZER;CN="Belot Public Library":MAILTO:pserve@beloitlibrary.org
END:VEVENT
BEGIN:VEVENT
DTSTART;TZID=America/Chicago:20280315T100000
DTEND;TZID=America/Chicago:20280315T110000
DTSTAMP:20260425T084710
CREATED:20251106T221822Z
LAST-MODIFIED:20251106T221822Z
UID:10000467-1836727200-1836730800@readtalkplayeveryday.com
SUMMARY:Preschool Story Time
DESCRIPTION:Explore a new theme every week through stories\, songs\, rhymes\, and hands-on fun! This is a wonderful time for preschoolers to practice listening\, interacting\, and imagining—together. Ages 2-6.
URL:https://readtalkplayeveryday.com/event/preschool-story-time-5/2028-03-15/
LOCATION:Beloit Public Library\, 605 Eclipse Blvd\, Beloit\, WI\, 53511\, United States
ATTACH;FMTTYPE=image/jpeg:https://readtalkplayeveryday.com/wp-content/uploads/LibCal-Graphics-PreschoolStoryTime.jpg
ORGANIZER;CN="Belot Public Library":MAILTO:pserve@beloitlibrary.org
END:VEVENT
BEGIN:VEVENT
DTSTART;TZID=America/Chicago:20280322T100000
DTEND;TZID=America/Chicago:20280322T110000
DTSTAMP:20260425T084710
CREATED:20251106T221822Z
LAST-MODIFIED:20251106T221822Z
UID:10000468-1837332000-1837335600@readtalkplayeveryday.com
SUMMARY:Preschool Story Time
DESCRIPTION:Explore a new theme every week through stories\, songs\, rhymes\, and hands-on fun! This is a wonderful time for preschoolers to practice listening\, interacting\, and imagining—together. Ages 2-6.
URL:https://readtalkplayeveryday.com/event/preschool-story-time-5/2028-03-22/
LOCATION:Beloit Public Library\, 605 Eclipse Blvd\, Beloit\, WI\, 53511\, United States
ATTACH;FMTTYPE=image/jpeg:https://readtalkplayeveryday.com/wp-content/uploads/LibCal-Graphics-PreschoolStoryTime.jpg
ORGANIZER;CN="Belot Public Library":MAILTO:pserve@beloitlibrary.org
END:VEVENT
BEGIN:VEVENT
DTSTART;TZID=America/Chicago:20280329T100000
DTEND;TZID=America/Chicago:20280329T110000
DTSTAMP:20260425T084710
CREATED:20251106T221822Z
LAST-MODIFIED:20251106T221822Z
UID:10000469-1837936800-1837940400@readtalkplayeveryday.com
SUMMARY:Preschool Story Time
DESCRIPTION:Explore a new theme every week through stories\, songs\, rhymes\, and hands-on fun! This is a wonderful time for preschoolers to practice listening\, interacting\, and imagining—together. Ages 2-6.
URL:https://readtalkplayeveryday.com/event/preschool-story-time-5/2028-03-29/
LOCATION:Beloit Public Library\, 605 Eclipse Blvd\, Beloit\, WI\, 53511\, United States
ATTACH;FMTTYPE=image/jpeg:https://readtalkplayeveryday.com/wp-content/uploads/LibCal-Graphics-PreschoolStoryTime.jpg
ORGANIZER;CN="Belot Public Library":MAILTO:pserve@beloitlibrary.org
END:VEVENT
BEGIN:VEVENT
DTSTART;TZID=America/Chicago:20280405T100000
DTEND;TZID=America/Chicago:20280405T110000
DTSTAMP:20260425T084710
CREATED:20251106T221822Z
LAST-MODIFIED:20251106T221822Z
UID:10000470-1838541600-1838545200@readtalkplayeveryday.com
SUMMARY:Preschool Story Time
DESCRIPTION:Explore a new theme every week through stories\, songs\, rhymes\, and hands-on fun! This is a wonderful time for preschoolers to practice listening\, interacting\, and imagining—together. Ages 2-6.
URL:https://readtalkplayeveryday.com/event/preschool-story-time-5/2028-04-05/
LOCATION:Beloit Public Library\, 605 Eclipse Blvd\, Beloit\, WI\, 53511\, United States
ATTACH;FMTTYPE=image/jpeg:https://readtalkplayeveryday.com/wp-content/uploads/LibCal-Graphics-PreschoolStoryTime.jpg
ORGANIZER;CN="Belot Public Library":MAILTO:pserve@beloitlibrary.org
END:VEVENT
BEGIN:VEVENT
DTSTART;TZID=America/Chicago:20280412T100000
DTEND;TZID=America/Chicago:20280412T110000
DTSTAMP:20260425T084710
CREATED:20251106T221822Z
LAST-MODIFIED:20251106T221822Z
UID:10000471-1839146400-1839150000@readtalkplayeveryday.com
SUMMARY:Preschool Story Time
DESCRIPTION:Explore a new theme every week through stories\, songs\, rhymes\, and hands-on fun! This is a wonderful time for preschoolers to practice listening\, interacting\, and imagining—together. Ages 2-6.
URL:https://readtalkplayeveryday.com/event/preschool-story-time-5/2028-04-12/
LOCATION:Beloit Public Library\, 605 Eclipse Blvd\, Beloit\, WI\, 53511\, United States
ATTACH;FMTTYPE=image/jpeg:https://readtalkplayeveryday.com/wp-content/uploads/LibCal-Graphics-PreschoolStoryTime.jpg
ORGANIZER;CN="Belot Public Library":MAILTO:pserve@beloitlibrary.org
END:VEVENT
BEGIN:VEVENT
DTSTART;TZID=America/Chicago:20280419T100000
DTEND;TZID=America/Chicago:20280419T110000
DTSTAMP:20260425T084710
CREATED:20251106T221822Z
LAST-MODIFIED:20251106T221822Z
UID:10000472-1839751200-1839754800@readtalkplayeveryday.com
SUMMARY:Preschool Story Time
DESCRIPTION:Explore a new theme every week through stories\, songs\, rhymes\, and hands-on fun! This is a wonderful time for preschoolers to practice listening\, interacting\, and imagining—together. Ages 2-6.
URL:https://readtalkplayeveryday.com/event/preschool-story-time-5/2028-04-19/
LOCATION:Beloit Public Library\, 605 Eclipse Blvd\, Beloit\, WI\, 53511\, United States
ATTACH;FMTTYPE=image/jpeg:https://readtalkplayeveryday.com/wp-content/uploads/LibCal-Graphics-PreschoolStoryTime.jpg
ORGANIZER;CN="Belot Public Library":MAILTO:pserve@beloitlibrary.org
END:VEVENT
BEGIN:VEVENT
DTSTART;TZID=America/Chicago:20280426T100000
DTEND;TZID=America/Chicago:20280426T110000
DTSTAMP:20260425T084710
CREATED:20251106T221822Z
LAST-MODIFIED:20251106T221822Z
UID:10000473-1840356000-1840359600@readtalkplayeveryday.com
SUMMARY:Preschool Story Time
DESCRIPTION:Explore a new theme every week through stories\, songs\, rhymes\, and hands-on fun! This is a wonderful time for preschoolers to practice listening\, interacting\, and imagining—together. Ages 2-6.
URL:https://readtalkplayeveryday.com/event/preschool-story-time-5/2028-04-26/
LOCATION:Beloit Public Library\, 605 Eclipse Blvd\, Beloit\, WI\, 53511\, United States
ATTACH;FMTTYPE=image/jpeg:https://readtalkplayeveryday.com/wp-content/uploads/LibCal-Graphics-PreschoolStoryTime.jpg
ORGANIZER;CN="Belot Public Library":MAILTO:pserve@beloitlibrary.org
END:VEVENT
BEGIN:VEVENT
DTSTART;TZID=America/Chicago:20280503T100000
DTEND;TZID=America/Chicago:20280503T110000
DTSTAMP:20260425T084710
CREATED:20251106T221822Z
LAST-MODIFIED:20251106T221822Z
UID:10000474-1840960800-1840964400@readtalkplayeveryday.com
SUMMARY:Preschool Story Time
DESCRIPTION:Explore a new theme every week through stories\, songs\, rhymes\, and hands-on fun! This is a wonderful time for preschoolers to practice listening\, interacting\, and imagining—together. Ages 2-6.
URL:https://readtalkplayeveryday.com/event/preschool-story-time-5/2028-05-03/
LOCATION:Beloit Public Library\, 605 Eclipse Blvd\, Beloit\, WI\, 53511\, United States
ATTACH;FMTTYPE=image/jpeg:https://readtalkplayeveryday.com/wp-content/uploads/LibCal-Graphics-PreschoolStoryTime.jpg
ORGANIZER;CN="Belot Public Library":MAILTO:pserve@beloitlibrary.org
END:VEVENT
BEGIN:VEVENT
DTSTART;TZID=America/Chicago:20280510T100000
DTEND;TZID=America/Chicago:20280510T110000
DTSTAMP:20260425T084710
CREATED:20251106T221822Z
LAST-MODIFIED:20251106T221822Z
UID:10000475-1841565600-1841569200@readtalkplayeveryday.com
SUMMARY:Preschool Story Time
DESCRIPTION:Explore a new theme every week through stories\, songs\, rhymes\, and hands-on fun! This is a wonderful time for preschoolers to practice listening\, interacting\, and imagining—together. Ages 2-6.
URL:https://readtalkplayeveryday.com/event/preschool-story-time-5/2028-05-10/
LOCATION:Beloit Public Library\, 605 Eclipse Blvd\, Beloit\, WI\, 53511\, United States
ATTACH;FMTTYPE=image/jpeg:https://readtalkplayeveryday.com/wp-content/uploads/LibCal-Graphics-PreschoolStoryTime.jpg
ORGANIZER;CN="Belot Public Library":MAILTO:pserve@beloitlibrary.org
END:VEVENT
BEGIN:VEVENT
DTSTART;TZID=America/Chicago:20280517T100000
DTEND;TZID=America/Chicago:20280517T110000
DTSTAMP:20260425T084710
CREATED:20251106T221822Z
LAST-MODIFIED:20251106T221822Z
UID:10000476-1842170400-1842174000@readtalkplayeveryday.com
SUMMARY:Preschool Story Time
DESCRIPTION:Explore a new theme every week through stories\, songs\, rhymes\, and hands-on fun! This is a wonderful time for preschoolers to practice listening\, interacting\, and imagining—together. Ages 2-6.
URL:https://readtalkplayeveryday.com/event/preschool-story-time-5/2028-05-17/
LOCATION:Beloit Public Library\, 605 Eclipse Blvd\, Beloit\, WI\, 53511\, United States
ATTACH;FMTTYPE=image/jpeg:https://readtalkplayeveryday.com/wp-content/uploads/LibCal-Graphics-PreschoolStoryTime.jpg
ORGANIZER;CN="Belot Public Library":MAILTO:pserve@beloitlibrary.org
END:VEVENT
BEGIN:VEVENT
DTSTART;TZID=America/Chicago:20280524T100000
DTEND;TZID=America/Chicago:20280524T110000
DTSTAMP:20260425T084710
CREATED:20251106T221822Z
LAST-MODIFIED:20251106T221822Z
UID:10000477-1842775200-1842778800@readtalkplayeveryday.com
SUMMARY:Preschool Story Time
DESCRIPTION:Explore a new theme every week through stories\, songs\, rhymes\, and hands-on fun! This is a wonderful time for preschoolers to practice listening\, interacting\, and imagining—together. Ages 2-6.
URL:https://readtalkplayeveryday.com/event/preschool-story-time-5/2028-05-24/
LOCATION:Beloit Public Library\, 605 Eclipse Blvd\, Beloit\, WI\, 53511\, United States
ATTACH;FMTTYPE=image/jpeg:https://readtalkplayeveryday.com/wp-content/uploads/LibCal-Graphics-PreschoolStoryTime.jpg
ORGANIZER;CN="Belot Public Library":MAILTO:pserve@beloitlibrary.org
END:VEVENT
BEGIN:VEVENT
DTSTART;TZID=America/Chicago:20280531T100000
DTEND;TZID=America/Chicago:20280531T110000
DTSTAMP:20260425T084710
CREATED:20251106T221822Z
LAST-MODIFIED:20251106T221822Z
UID:10000478-1843380000-1843383600@readtalkplayeveryday.com
SUMMARY:Preschool Story Time
DESCRIPTION:Explore a new theme every week through stories\, songs\, rhymes\, and hands-on fun! This is a wonderful time for preschoolers to practice listening\, interacting\, and imagining—together. Ages 2-6.
URL:https://readtalkplayeveryday.com/event/preschool-story-time-5/2028-05-31/
LOCATION:Beloit Public Library\, 605 Eclipse Blvd\, Beloit\, WI\, 53511\, United States
ATTACH;FMTTYPE=image/jpeg:https://readtalkplayeveryday.com/wp-content/uploads/LibCal-Graphics-PreschoolStoryTime.jpg
ORGANIZER;CN="Belot Public Library":MAILTO:pserve@beloitlibrary.org
END:VEVENT
BEGIN:VEVENT
DTSTART;TZID=America/Chicago:20280607T100000
DTEND;TZID=America/Chicago:20280607T110000
DTSTAMP:20260425T084710
CREATED:20251106T221822Z
LAST-MODIFIED:20251106T221822Z
UID:10000479-1843984800-1843988400@readtalkplayeveryday.com
SUMMARY:Preschool Story Time
DESCRIPTION:Explore a new theme every week through stories\, songs\, rhymes\, and hands-on fun! This is a wonderful time for preschoolers to practice listening\, interacting\, and imagining—together. Ages 2-6.
URL:https://readtalkplayeveryday.com/event/preschool-story-time-5/2028-06-07/
LOCATION:Beloit Public Library\, 605 Eclipse Blvd\, Beloit\, WI\, 53511\, United States
ATTACH;FMTTYPE=image/jpeg:https://readtalkplayeveryday.com/wp-content/uploads/LibCal-Graphics-PreschoolStoryTime.jpg
ORGANIZER;CN="Belot Public Library":MAILTO:pserve@beloitlibrary.org
END:VEVENT
BEGIN:VEVENT
DTSTART;TZID=America/Chicago:20280614T100000
DTEND;TZID=America/Chicago:20280614T110000
DTSTAMP:20260425T084710
CREATED:20251106T221822Z
LAST-MODIFIED:20251106T221822Z
UID:10000480-1844589600-1844593200@readtalkplayeveryday.com
SUMMARY:Preschool Story Time
DESCRIPTION:Explore a new theme every week through stories\, songs\, rhymes\, and hands-on fun! This is a wonderful time for preschoolers to practice listening\, interacting\, and imagining—together. Ages 2-6.
URL:https://readtalkplayeveryday.com/event/preschool-story-time-5/2028-06-14/
LOCATION:Beloit Public Library\, 605 Eclipse Blvd\, Beloit\, WI\, 53511\, United States
ATTACH;FMTTYPE=image/jpeg:https://readtalkplayeveryday.com/wp-content/uploads/LibCal-Graphics-PreschoolStoryTime.jpg
ORGANIZER;CN="Belot Public Library":MAILTO:pserve@beloitlibrary.org
END:VEVENT
BEGIN:VEVENT
DTSTART;TZID=America/Chicago:20280621T100000
DTEND;TZID=America/Chicago:20280621T110000
DTSTAMP:20260425T084710
CREATED:20251106T221822Z
LAST-MODIFIED:20251106T221822Z
UID:10000481-1845194400-1845198000@readtalkplayeveryday.com
SUMMARY:Preschool Story Time
DESCRIPTION:Explore a new theme every week through stories\, songs\, rhymes\, and hands-on fun! This is a wonderful time for preschoolers to practice listening\, interacting\, and imagining—together. Ages 2-6.
URL:https://readtalkplayeveryday.com/event/preschool-story-time-5/2028-06-21/
LOCATION:Beloit Public Library\, 605 Eclipse Blvd\, Beloit\, WI\, 53511\, United States
ATTACH;FMTTYPE=image/jpeg:https://readtalkplayeveryday.com/wp-content/uploads/LibCal-Graphics-PreschoolStoryTime.jpg
ORGANIZER;CN="Belot Public Library":MAILTO:pserve@beloitlibrary.org
END:VEVENT
BEGIN:VEVENT
DTSTART;TZID=America/Chicago:20280628T100000
DTEND;TZID=America/Chicago:20280628T110000
DTSTAMP:20260425T084710
CREATED:20251106T221822Z
LAST-MODIFIED:20251106T221822Z
UID:10000482-1845799200-1845802800@readtalkplayeveryday.com
SUMMARY:Preschool Story Time
DESCRIPTION:Explore a new theme every week through stories\, songs\, rhymes\, and hands-on fun! This is a wonderful time for preschoolers to practice listening\, interacting\, and imagining—together. Ages 2-6.
URL:https://readtalkplayeveryday.com/event/preschool-story-time-5/2028-06-28/
LOCATION:Beloit Public Library\, 605 Eclipse Blvd\, Beloit\, WI\, 53511\, United States
ATTACH;FMTTYPE=image/jpeg:https://readtalkplayeveryday.com/wp-content/uploads/LibCal-Graphics-PreschoolStoryTime.jpg
ORGANIZER;CN="Belot Public Library":MAILTO:pserve@beloitlibrary.org
END:VEVENT
BEGIN:VEVENT
DTSTART;TZID=America/Chicago:20280705T100000
DTEND;TZID=America/Chicago:20280705T110000
DTSTAMP:20260425T084710
CREATED:20251106T221822Z
LAST-MODIFIED:20251106T221822Z
UID:10000483-1846404000-1846407600@readtalkplayeveryday.com
SUMMARY:Preschool Story Time
DESCRIPTION:Explore a new theme every week through stories\, songs\, rhymes\, and hands-on fun! This is a wonderful time for preschoolers to practice listening\, interacting\, and imagining—together. Ages 2-6.
URL:https://readtalkplayeveryday.com/event/preschool-story-time-5/2028-07-05/
LOCATION:Beloit Public Library\, 605 Eclipse Blvd\, Beloit\, WI\, 53511\, United States
ATTACH;FMTTYPE=image/jpeg:https://readtalkplayeveryday.com/wp-content/uploads/LibCal-Graphics-PreschoolStoryTime.jpg
ORGANIZER;CN="Belot Public Library":MAILTO:pserve@beloitlibrary.org
END:VEVENT
BEGIN:VEVENT
DTSTART;TZID=America/Chicago:20280712T100000
DTEND;TZID=America/Chicago:20280712T110000
DTSTAMP:20260425T084710
CREATED:20251106T221822Z
LAST-MODIFIED:20251106T221822Z
UID:10000484-1847008800-1847012400@readtalkplayeveryday.com
SUMMARY:Preschool Story Time
DESCRIPTION:Explore a new theme every week through stories\, songs\, rhymes\, and hands-on fun! This is a wonderful time for preschoolers to practice listening\, interacting\, and imagining—together. Ages 2-6.
URL:https://readtalkplayeveryday.com/event/preschool-story-time-5/2028-07-12/
LOCATION:Beloit Public Library\, 605 Eclipse Blvd\, Beloit\, WI\, 53511\, United States
ATTACH;FMTTYPE=image/jpeg:https://readtalkplayeveryday.com/wp-content/uploads/LibCal-Graphics-PreschoolStoryTime.jpg
ORGANIZER;CN="Belot Public Library":MAILTO:pserve@beloitlibrary.org
END:VEVENT
BEGIN:VEVENT
DTSTART;TZID=America/Chicago:20280719T100000
DTEND;TZID=America/Chicago:20280719T110000
DTSTAMP:20260425T084710
CREATED:20251106T221822Z
LAST-MODIFIED:20251106T221822Z
UID:10000485-1847613600-1847617200@readtalkplayeveryday.com
SUMMARY:Preschool Story Time
DESCRIPTION:Explore a new theme every week through stories\, songs\, rhymes\, and hands-on fun! This is a wonderful time for preschoolers to practice listening\, interacting\, and imagining—together. Ages 2-6.
URL:https://readtalkplayeveryday.com/event/preschool-story-time-5/2028-07-19/
LOCATION:Beloit Public Library\, 605 Eclipse Blvd\, Beloit\, WI\, 53511\, United States
ATTACH;FMTTYPE=image/jpeg:https://readtalkplayeveryday.com/wp-content/uploads/LibCal-Graphics-PreschoolStoryTime.jpg
ORGANIZER;CN="Belot Public Library":MAILTO:pserve@beloitlibrary.org
END:VEVENT
BEGIN:VEVENT
DTSTART;TZID=America/Chicago:20280726T100000
DTEND;TZID=America/Chicago:20280726T110000
DTSTAMP:20260425T084710
CREATED:20251106T221822Z
LAST-MODIFIED:20251106T221822Z
UID:10000486-1848218400-1848222000@readtalkplayeveryday.com
SUMMARY:Preschool Story Time
DESCRIPTION:Explore a new theme every week through stories\, songs\, rhymes\, and hands-on fun! This is a wonderful time for preschoolers to practice listening\, interacting\, and imagining—together. Ages 2-6.
URL:https://readtalkplayeveryday.com/event/preschool-story-time-5/2028-07-26/
LOCATION:Beloit Public Library\, 605 Eclipse Blvd\, Beloit\, WI\, 53511\, United States
ATTACH;FMTTYPE=image/jpeg:https://readtalkplayeveryday.com/wp-content/uploads/LibCal-Graphics-PreschoolStoryTime.jpg
ORGANIZER;CN="Belot Public Library":MAILTO:pserve@beloitlibrary.org
END:VEVENT
BEGIN:VEVENT
DTSTART;TZID=America/Chicago:20280802T100000
DTEND;TZID=America/Chicago:20280802T110000
DTSTAMP:20260425T084710
CREATED:20251106T221822Z
LAST-MODIFIED:20251106T221822Z
UID:10000487-1848823200-1848826800@readtalkplayeveryday.com
SUMMARY:Preschool Story Time
DESCRIPTION:Explore a new theme every week through stories\, songs\, rhymes\, and hands-on fun! This is a wonderful time for preschoolers to practice listening\, interacting\, and imagining—together. Ages 2-6.
URL:https://readtalkplayeveryday.com/event/preschool-story-time-5/2028-08-02/
LOCATION:Beloit Public Library\, 605 Eclipse Blvd\, Beloit\, WI\, 53511\, United States
ATTACH;FMTTYPE=image/jpeg:https://readtalkplayeveryday.com/wp-content/uploads/LibCal-Graphics-PreschoolStoryTime.jpg
ORGANIZER;CN="Belot Public Library":MAILTO:pserve@beloitlibrary.org
END:VEVENT
BEGIN:VEVENT
DTSTART;TZID=America/Chicago:20280809T100000
DTEND;TZID=America/Chicago:20280809T110000
DTSTAMP:20260425T084710
CREATED:20251106T221822Z
LAST-MODIFIED:20251106T221822Z
UID:10000488-1849428000-1849431600@readtalkplayeveryday.com
SUMMARY:Preschool Story Time
DESCRIPTION:Explore a new theme every week through stories\, songs\, rhymes\, and hands-on fun! This is a wonderful time for preschoolers to practice listening\, interacting\, and imagining—together. Ages 2-6.
URL:https://readtalkplayeveryday.com/event/preschool-story-time-5/2028-08-09/
LOCATION:Beloit Public Library\, 605 Eclipse Blvd\, Beloit\, WI\, 53511\, United States
ATTACH;FMTTYPE=image/jpeg:https://readtalkplayeveryday.com/wp-content/uploads/LibCal-Graphics-PreschoolStoryTime.jpg
ORGANIZER;CN="Belot Public Library":MAILTO:pserve@beloitlibrary.org
END:VEVENT
END:VCALENDAR