BEGIN:VCALENDAR
VERSION:2.0
PRODID:-//Read Talk Play Everyday - ECPv6.15.20//NONSGML v1.0//EN
CALSCALE:GREGORIAN
METHOD:PUBLISH
X-ORIGINAL-URL:https://readtalkplayeveryday.com
X-WR-CALDESC:Events for Read Talk Play Everyday
REFRESH-INTERVAL;VALUE=DURATION:PT1H
X-Robots-Tag:noindex
X-PUBLISHED-TTL:PT1H
BEGIN:VTIMEZONE
TZID:America/Chicago
BEGIN:DAYLIGHT
TZOFFSETFROM:-0600
TZOFFSETTO:-0500
TZNAME:CDT
DTSTART:20250309T080000
END:DAYLIGHT
BEGIN:STANDARD
TZOFFSETFROM:-0500
TZOFFSETTO:-0600
TZNAME:CST
DTSTART:20251102T070000
END:STANDARD
BEGIN:DAYLIGHT
TZOFFSETFROM:-0600
TZOFFSETTO:-0500
TZNAME:CDT
DTSTART:20260308T080000
END:DAYLIGHT
BEGIN:STANDARD
TZOFFSETFROM:-0500
TZOFFSETTO:-0600
TZNAME:CST
DTSTART:20261101T070000
END:STANDARD
BEGIN:DAYLIGHT
TZOFFSETFROM:-0600
TZOFFSETTO:-0500
TZNAME:CDT
DTSTART:20270314T080000
END:DAYLIGHT
BEGIN:STANDARD
TZOFFSETFROM:-0500
TZOFFSETTO:-0600
TZNAME:CST
DTSTART:20271107T070000
END:STANDARD
END:VTIMEZONE
BEGIN:VEVENT
DTSTART;TZID=America/Chicago:20260313T100000
DTEND;TZID=America/Chicago:20260313T103000
DTSTAMP:20260420T093932
CREATED:20260202T215752Z
LAST-MODIFIED:20260202T215752Z
UID:10001372-1773396000-1773397800@readtalkplayeveryday.com
SUMMARY:Baby/Toddler Storytime
DESCRIPTION:Lapsit stories\, songs\, and fingerplays that help develop pre-reading skills. For babies 0-2 with a caregiver.
URL:https://readtalkplayeveryday.com/event/baby-toddler-storytime/2026-03-13/
LOCATION:Eager Free Public Library\, 39 W. Main Street\, Evansville\, WI\, 53536\, United States
ORGANIZER;CN="Eager Free Public Library":MAILTO:eagerfree@eagerfreelibrary.org
END:VEVENT
BEGIN:VEVENT
DTSTART;TZID=America/Chicago:20260312T093000
DTEND;TZID=America/Chicago:20260312T100000
DTSTAMP:20260420T093932
CREATED:20260121T210123Z
LAST-MODIFIED:20260121T210123Z
UID:10000620-1773307800-1773309600@readtalkplayeveryday.com
SUMMARY:Wiggle & Rhyme Storytime
DESCRIPTION:Join us for a lively\, interactive storytime featuring books\, songs\, action rhymes\, puppets and more. Each storytime incorporates the five practices of early literacy: READ\, WRITE\, TALK\, SING & PLAY. This session is perfect for toddlers and preschoolers with their caregivers. \nSame program offered at 9:30 and 10:30 a.m.\nDisclaimer(s)\nAccompanying Adults \nAn adult caregiver must accompany children at this program.\nNo Registration Required
URL:https://readtalkplayeveryday.com/event/wiggle-rhyme-storytime-9/2026-03-12/
LOCATION:Hedberg Public Library\, S. Main St.\, Janesville\, WI\, 53545\, United States
END:VEVENT
BEGIN:VEVENT
DTSTART;VALUE=DATE:20260312
DTEND;VALUE=DATE:20260313
DTSTAMP:20260420T093932
CREATED:20260128T220603Z
LAST-MODIFIED:20260202T220021Z
UID:10001308-1773273600-1773359999@readtalkplayeveryday.com
SUMMARY:Willow Womens Center Free Online Parenting Classes
DESCRIPTION:We offer online classes through the BrightCourse curriculum with access to over 150 evidence-based lessons\, covering a wide range of topics beyond pregnancy and delivery. We also offer Parenting Classes following the renowned Love & Logic curriculum\, proven to teach effective parenting skills for more than 40 years. \nRegister here: https://app.acuityscheduling.com/schedule/f8665e48 \nFacing an unplanned pregnancy can be a scary and uncertain time. You might be wondering whether you have what it takes to carry\, deliver\, and parent a child or whether adequate resources are available to support you as you face these realities before you feel ready. Willow Womens Center in Beloit\, WI\, is here to help. With various services\, including free parenting classes for women (and their partners) facing an unplanned pregnancy\, we can help you build and practice the skills you need to parent all of your children\, including those who haven’t been born yet. \nAfter learning of an unplanned pregnancy\, your life will forever be different\, no matter which option you choose moving forward. Willow Womens Center is dedicated to helping you make the best decision for your life and circumstances. We believe all women facing unplanned pregnancies should not be pressured into a decision because of fear of the unknown. Each person deserves access to the information and resources they need to make the most informed and empowered decision about their pregnancy without pressure or judgement. Part of our dedication to you is by equipping you with the skills you need to be successful in your pregnancy and parenting journey – whether you are a first-time mom or you already have children at home. This is why we offer a wide variety of classes that will meet your specific needs and will address all the stages and challenges that you might face. This is a great opportunity to raise healthy\, happy and successful children\, while decreasing your stress along the way!
URL:https://readtalkplayeveryday.com/event/willow-womens-center-free-online-parenting-classes/2026-03-12/
END:VEVENT
BEGIN:VEVENT
DTSTART;TZID=America/Chicago:20260311T103000
DTEND;TZID=America/Chicago:20260311T110000
DTSTAMP:20260420T093932
CREATED:20260204T213946Z
LAST-MODIFIED:20260204T213946Z
UID:10001384-1773225000-1773226800@readtalkplayeveryday.com
SUMMARY:Storybook Craft Series- Alphabet Trees
DESCRIPTION:Join us after story time as we make Alphabet Trees inspired by the book\, Chicka chicka boom boom.
URL:https://readtalkplayeveryday.com/event/storybook-craft-series-alphabet-trees/
LOCATION:Eager Free Public Library\, 39 W. Main Street\, Evansville\, WI\, 53536\, United States
ORGANIZER;CN="Eager Free Public Library":MAILTO:eagerfree@eagerfreelibrary.org
END:VEVENT
BEGIN:VEVENT
DTSTART;TZID=America/Chicago:20260311T103000
DTEND;TZID=America/Chicago:20260311T110000
DTSTAMP:20260420T093932
CREATED:20260126T220934Z
LAST-MODIFIED:20260126T220934Z
UID:10000964-1773225000-1773226800@readtalkplayeveryday.com
SUMMARY:Story Time
DESCRIPTION:Stories\, finger plays\, rhymes\, and songs!
URL:https://readtalkplayeveryday.com/event/story-time-2/2026-03-11/
LOCATION:Milton Public Library\, 430 E High St\, Milton\, Wisconsin\, 53563
ORGANIZER;CN="Milton Public Library":MAILTO:mpl@miltonpubliclibrary.org
END:VEVENT
BEGIN:VEVENT
DTSTART;TZID=America/Chicago:20260311T100000
DTEND;TZID=America/Chicago:20260311T110000
DTSTAMP:20260420T093932
CREATED:20251106T221822Z
LAST-MODIFIED:20251106T221822Z
UID:10000362-1773223200-1773226800@readtalkplayeveryday.com
SUMMARY:Preschool Story Time
DESCRIPTION:Explore a new theme every week through stories\, songs\, rhymes\, and hands-on fun! This is a wonderful time for preschoolers to practice listening\, interacting\, and imagining—together. Ages 2-6.
URL:https://readtalkplayeveryday.com/event/preschool-story-time-5/2026-03-11/
LOCATION:Beloit Public Library\, 605 Eclipse Blvd\, Beloit\, WI\, 53511\, United States
ATTACH;FMTTYPE=image/jpeg:https://readtalkplayeveryday.com/wp-content/uploads/LibCal-Graphics-PreschoolStoryTime.jpg
ORGANIZER;CN="Belot Public Library":MAILTO:pserve@beloitlibrary.org
END:VEVENT
BEGIN:VEVENT
DTSTART;TZID=America/Chicago:20260311T100000
DTEND;TZID=America/Chicago:20260311T103000
DTSTAMP:20260420T093932
CREATED:20260202T215811Z
LAST-MODIFIED:20260204T214029Z
UID:10001356-1773223200-1773225000@readtalkplayeveryday.com
SUMMARY:Storytime
DESCRIPTION:Stories\, songs\, and other early literacy activities that help develop pre-reading skills for children ages 2-5 with caregivers.
URL:https://readtalkplayeveryday.com/event/storytime-2/2026-03-11/
LOCATION:Eager Free Public Library\, 39 W. Main Street\, Evansville\, WI\, 53536\, United States
ORGANIZER;CN="Eager Free Public Library":MAILTO:eagerfree@eagerfreelibrary.org
END:VEVENT
BEGIN:VEVENT
DTSTART;TZID=America/Chicago:20260310T100000
DTEND;TZID=America/Chicago:20260310T110000
DTSTAMP:20260420T093932
CREATED:20260128T202028Z
LAST-MODIFIED:20260128T202028Z
UID:10001293-1773136800-1773140400@readtalkplayeveryday.com
SUMMARY:Storytime
DESCRIPTION:Bring your small human to the library for some fun stories\, songs\, and movement every Tuesday at 10am.
URL:https://readtalkplayeveryday.com/event/storytime/2026-03-10/
LOCATION:Edgerton Public Library\, 101 Albion Street\, Edgerton\, WI\, 53534\, United States
ORGANIZER;CN="Edgerton Public Library":MAILTO:smith.beth@edgertonpubliclibrary.org
END:VEVENT
BEGIN:VEVENT
DTSTART;TZID=America/Chicago:20260310T100000
DTEND;TZID=America/Chicago:20260310T103000
DTSTAMP:20260420T093932
CREATED:20260126T220806Z
LAST-MODIFIED:20260126T220843Z
UID:10000956-1773136800-1773138600@readtalkplayeveryday.com
SUMMARY:Stuffed Animal Yoga
DESCRIPTION:Bring your favorite stuffed animal and join us for a playful stuffed animal yoga session! For ages 5 & younger. Registration required: https://events.getlocalhop.com/stuffed-animal-yoga/event/XLbixKb3mJ/
URL:https://readtalkplayeveryday.com/event/stuffed-animal-yoga/
LOCATION:Milton Public Library\, 430 E High St\, Milton\, Wisconsin\, 53563
ORGANIZER;CN="Milton Public Library":MAILTO:mpl@miltonpubliclibrary.org
END:VEVENT
BEGIN:VEVENT
DTSTART;TZID=America/Chicago:20260310T093000
DTEND;TZID=America/Chicago:20260310T110000
DTSTAMP:20260420T093932
CREATED:20260202T215850Z
LAST-MODIFIED:20260202T215850Z
UID:10001347-1773135000-1773140400@readtalkplayeveryday.com
SUMMARY:Open Play Time
DESCRIPTION:Drop in for Open Play Time. Make new friends . Geared to ages 0-5 with caregiver. Older siblings are welcome.
URL:https://readtalkplayeveryday.com/event/open-play-time/2026-03-10/
LOCATION:Eager Free Public Library\, 39 W. Main Street\, Evansville\, WI\, 53536\, United States
ORGANIZER;CN="Eager Free Public Library":MAILTO:eagerfree@eagerfreelibrary.org
END:VEVENT
BEGIN:VEVENT
DTSTART;TZID=America/Chicago:20260309T173000
DTEND;TZID=America/Chicago:20260309T180000
DTSTAMP:20260420T093932
CREATED:20260126T195422Z
LAST-MODIFIED:20260126T195422Z
UID:10000701-1773077400-1773079200@readtalkplayeveryday.com
SUMMARY:Story Time
DESCRIPTION:Stories\, finger plays\, rhymes\, and songs!
URL:https://readtalkplayeveryday.com/event/story-time/2026-03-09/
LOCATION:Milton Public Library\, 430 E High St\, Milton\, Wisconsin\, 53563
END:VEVENT
BEGIN:VEVENT
DTSTART;TZID=America/Chicago:20260309T100000
DTEND;TZID=America/Chicago:20260309T110000
DTSTAMP:20260420T093932
CREATED:20251106T221855Z
LAST-MODIFIED:20251106T221855Z
UID:10000100-1773050400-1773054000@readtalkplayeveryday.com
SUMMARY:Music and Movement Story Time
DESCRIPTION:Start your week with a joyful burst of music and motion! We’ll sing\, dance\, wiggle\, and read together to build early literacy skills—while having a whole lot of fun. Perfect for little movers and shakers! For ages 2-6.
URL:https://readtalkplayeveryday.com/event/music-and-movement-story-time-4/2026-03-09/
LOCATION:Beloit Public Library\, 605 Eclipse Blvd\, Beloit\, WI\, 53511\, United States
ATTACH;FMTTYPE=image/jpeg:https://readtalkplayeveryday.com/wp-content/uploads/LibCal-Graphics-MusicAndMovement-1.jpg
END:VEVENT
BEGIN:VEVENT
DTSTART;TZID=America/Chicago:20260307T090000
DTEND;TZID=America/Chicago:20260307T233000
DTSTAMP:20260420T093932
CREATED:20260128T202053Z
LAST-MODIFIED:20260128T202053Z
UID:10001227-1772874000-1772926200@readtalkplayeveryday.com
SUMMARY:Beloit Winter Crafter & Farmers Market
DESCRIPTION:Join us for our Beloit WINTER Crafter & Farmers Market every Saturday November through April from 9 am to 12 pm.\nWe will have vendors inside\, food trucks outside\, and free family-friendly activities! Participating Vendors will be announced each week on our Beloit Farmers’ Market page and in the Beloit Winter Crafter & Farmers Market event. \nThank you to our sponsors for their support! \n2025 Sponsors:\nBeloit Daily News\, Educators Credit Union\, Geronimo Hospitality Group\, Hendricks Commercial Properties\, Iron Country\, Kerry\, Nowlan Law\, SSM Health\, Stateline Buzz\, Stateline Mental Health Services\, The Beat 92.3 FM & 98.9 FM\, Visit Beloit\, WCLO\, WJVL\nBucciferro Family McDonald’s\, Cornellier Fireworks\, First Community Credit Union\, International Flavors & Fragrances
URL:https://readtalkplayeveryday.com/event/beloit-winter-crafter-farmers-market/2026-03-07/
LOCATION:Downtown Beloit Association\, 557 E Grand Ave\, Beloit\, WI\, 53511\, United States
END:VEVENT
BEGIN:VEVENT
DTSTART;VALUE=DATE:20260307
DTEND;VALUE=DATE:20260308
DTSTAMP:20260420T093932
CREATED:20260128T220534Z
LAST-MODIFIED:20260128T220534Z
UID:10001325-1772841600-1772927999@readtalkplayeveryday.com
SUMMARY:Children's Wisconsin Triple P Free Parenting Online Class
DESCRIPTION:Children’s Wisconsin offers free resources for parents and caregivers with children birth to 16 years old. We use the Triple P – Positive Parenting Program. Triple P helps families grow strong relationships. You can use these parenting skills to: \nManage stress\nBuild new\, healthy habits\nSupport your child’s whole health \nRegister here: https://www.triplep-parenting.com/wi-en/triple-p/?itb=bdffc7973c9f8f88ab4effb397c59f92
URL:https://readtalkplayeveryday.com/event/childrens-wisconsin-triple-p-free-parenting-online-class/2026-03-07/
ORGANIZER;CN="Children's Wisconsin":MAILTO:TripleP@childrenswi.org
END:VEVENT
BEGIN:VEVENT
DTSTART;TZID=America/Chicago:20260306T100000
DTEND;TZID=America/Chicago:20260306T103000
DTSTAMP:20260420T093932
CREATED:20260202T215752Z
LAST-MODIFIED:20260202T215752Z
UID:10001371-1772791200-1772793000@readtalkplayeveryday.com
SUMMARY:Baby/Toddler Storytime
DESCRIPTION:Lapsit stories\, songs\, and fingerplays that help develop pre-reading skills. For babies 0-2 with a caregiver.
URL:https://readtalkplayeveryday.com/event/baby-toddler-storytime/2026-03-06/
LOCATION:Eager Free Public Library\, 39 W. Main Street\, Evansville\, WI\, 53536\, United States
ORGANIZER;CN="Eager Free Public Library":MAILTO:eagerfree@eagerfreelibrary.org
END:VEVENT
BEGIN:VEVENT
DTSTART;TZID=America/Chicago:20260305T093000
DTEND;TZID=America/Chicago:20260305T100000
DTSTAMP:20260420T093932
CREATED:20260121T210123Z
LAST-MODIFIED:20260121T210123Z
UID:10000619-1772703000-1772704800@readtalkplayeveryday.com
SUMMARY:Wiggle & Rhyme Storytime
DESCRIPTION:Join us for a lively\, interactive storytime featuring books\, songs\, action rhymes\, puppets and more. Each storytime incorporates the five practices of early literacy: READ\, WRITE\, TALK\, SING & PLAY. This session is perfect for toddlers and preschoolers with their caregivers. \nSame program offered at 9:30 and 10:30 a.m.\nDisclaimer(s)\nAccompanying Adults \nAn adult caregiver must accompany children at this program.\nNo Registration Required
URL:https://readtalkplayeveryday.com/event/wiggle-rhyme-storytime-9/2026-03-05/
LOCATION:Hedberg Public Library\, S. Main St.\, Janesville\, WI\, 53545\, United States
END:VEVENT
BEGIN:VEVENT
DTSTART;VALUE=DATE:20260305
DTEND;VALUE=DATE:20260306
DTSTAMP:20260420T093932
CREATED:20260128T220603Z
LAST-MODIFIED:20260202T220021Z
UID:10001307-1772668800-1772755199@readtalkplayeveryday.com
SUMMARY:Willow Womens Center Free Online Parenting Classes
DESCRIPTION:We offer online classes through the BrightCourse curriculum with access to over 150 evidence-based lessons\, covering a wide range of topics beyond pregnancy and delivery. We also offer Parenting Classes following the renowned Love & Logic curriculum\, proven to teach effective parenting skills for more than 40 years. \nRegister here: https://app.acuityscheduling.com/schedule/f8665e48 \nFacing an unplanned pregnancy can be a scary and uncertain time. You might be wondering whether you have what it takes to carry\, deliver\, and parent a child or whether adequate resources are available to support you as you face these realities before you feel ready. Willow Womens Center in Beloit\, WI\, is here to help. With various services\, including free parenting classes for women (and their partners) facing an unplanned pregnancy\, we can help you build and practice the skills you need to parent all of your children\, including those who haven’t been born yet. \nAfter learning of an unplanned pregnancy\, your life will forever be different\, no matter which option you choose moving forward. Willow Womens Center is dedicated to helping you make the best decision for your life and circumstances. We believe all women facing unplanned pregnancies should not be pressured into a decision because of fear of the unknown. Each person deserves access to the information and resources they need to make the most informed and empowered decision about their pregnancy without pressure or judgement. Part of our dedication to you is by equipping you with the skills you need to be successful in your pregnancy and parenting journey – whether you are a first-time mom or you already have children at home. This is why we offer a wide variety of classes that will meet your specific needs and will address all the stages and challenges that you might face. This is a great opportunity to raise healthy\, happy and successful children\, while decreasing your stress along the way!
URL:https://readtalkplayeveryday.com/event/willow-womens-center-free-online-parenting-classes/2026-03-05/
END:VEVENT
BEGIN:VEVENT
DTSTART;TZID=America/Chicago:20260304T170000
DTEND;TZID=America/Chicago:20260304T180000
DTSTAMP:20260420T093932
CREATED:20260302T192846Z
LAST-MODIFIED:20260302T192846Z
UID:10001385-1772643600-1772647200@readtalkplayeveryday.com
SUMMARY:Family Fun Interactive Sing-Along
DESCRIPTION:Enjoy an afternoon of music\, dancing and play – fun for all ages! Bring your friends and family. Come celebrate with us!
URL:https://readtalkplayeveryday.com/event/family-fun-interactive-sing-along-2/
LOCATION:Next Steps Center\, 825 Liberty Ave.\, Beloit\, 53511\, United States
ATTACH;FMTTYPE=image/jpeg:https://readtalkplayeveryday.com/wp-content/uploads/March-4th-Youth-UNite.jpg
ORGANIZER;CN="The Youth Unite":MAILTO:theyouthunite@gmail.com
END:VEVENT
BEGIN:VEVENT
DTSTART;TZID=America/Chicago:20260304T170000
DTEND;TZID=America/Chicago:20260304T180000
DTSTAMP:20260420T093932
CREATED:20260202T183846Z
LAST-MODIFIED:20260202T183846Z
UID:10001341-1772643600-1772647200@readtalkplayeveryday.com
SUMMARY:Growing Together: Pregnancy Social Hour
DESCRIPTION:A casual social hour for those who are pregnant to slow down\, connect with others in a similar season\, and feel supported.\nSnacks and drinks provided.\nFree and open to the community.\nRegistration encouraged: https://www.beloithealthsystem.org/services/northpointe-birth-center/events/
URL:https://readtalkplayeveryday.com/event/growing-together-pregnancy-social-hour/
LOCATION:NorthPointe Birth Center\, 5609 E. Rockton Rd.\, Roscoe\, IL\, 61073\, United States
END:VEVENT
BEGIN:VEVENT
DTSTART;TZID=America/Chicago:20260304T103000
DTEND;TZID=America/Chicago:20260304T110000
DTSTAMP:20260420T093932
CREATED:20260126T220934Z
LAST-MODIFIED:20260126T220934Z
UID:10000963-1772620200-1772622000@readtalkplayeveryday.com
SUMMARY:Story Time
DESCRIPTION:Stories\, finger plays\, rhymes\, and songs!
URL:https://readtalkplayeveryday.com/event/story-time-2/2026-03-04/
LOCATION:Milton Public Library\, 430 E High St\, Milton\, Wisconsin\, 53563
ORGANIZER;CN="Milton Public Library":MAILTO:mpl@miltonpubliclibrary.org
END:VEVENT
BEGIN:VEVENT
DTSTART;TZID=America/Chicago:20260304T100000
DTEND;TZID=America/Chicago:20260304T110000
DTSTAMP:20260420T093932
CREATED:20251106T221822Z
LAST-MODIFIED:20251106T221822Z
UID:10000361-1772618400-1772622000@readtalkplayeveryday.com
SUMMARY:Preschool Story Time
DESCRIPTION:Explore a new theme every week through stories\, songs\, rhymes\, and hands-on fun! This is a wonderful time for preschoolers to practice listening\, interacting\, and imagining—together. Ages 2-6.
URL:https://readtalkplayeveryday.com/event/preschool-story-time-5/2026-03-04/
LOCATION:Beloit Public Library\, 605 Eclipse Blvd\, Beloit\, WI\, 53511\, United States
ATTACH;FMTTYPE=image/jpeg:https://readtalkplayeveryday.com/wp-content/uploads/LibCal-Graphics-PreschoolStoryTime.jpg
ORGANIZER;CN="Belot Public Library":MAILTO:pserve@beloitlibrary.org
END:VEVENT
BEGIN:VEVENT
DTSTART;TZID=America/Chicago:20260304T100000
DTEND;TZID=America/Chicago:20260304T103000
DTSTAMP:20260420T093932
CREATED:20260202T215811Z
LAST-MODIFIED:20260204T214029Z
UID:10001355-1772618400-1772620200@readtalkplayeveryday.com
SUMMARY:Storytime
DESCRIPTION:Stories\, songs\, and other early literacy activities that help develop pre-reading skills for children ages 2-5 with caregivers.
URL:https://readtalkplayeveryday.com/event/storytime-2/2026-03-04/
LOCATION:Eager Free Public Library\, 39 W. Main Street\, Evansville\, WI\, 53536\, United States
ORGANIZER;CN="Eager Free Public Library":MAILTO:eagerfree@eagerfreelibrary.org
END:VEVENT
BEGIN:VEVENT
DTSTART;TZID=America/Chicago:20260303T100000
DTEND;TZID=America/Chicago:20260303T110000
DTSTAMP:20260420T093932
CREATED:20260128T202028Z
LAST-MODIFIED:20260128T202028Z
UID:10001292-1772532000-1772535600@readtalkplayeveryday.com
SUMMARY:Storytime
DESCRIPTION:Bring your small human to the library for some fun stories\, songs\, and movement every Tuesday at 10am.
URL:https://readtalkplayeveryday.com/event/storytime/2026-03-03/
LOCATION:Edgerton Public Library\, 101 Albion Street\, Edgerton\, WI\, 53534\, United States
ORGANIZER;CN="Edgerton Public Library":MAILTO:smith.beth@edgertonpubliclibrary.org
END:VEVENT
BEGIN:VEVENT
DTSTART;TZID=America/Chicago:20260303T093000
DTEND;TZID=America/Chicago:20260303T110000
DTSTAMP:20260420T093932
CREATED:20260202T215850Z
LAST-MODIFIED:20260202T215850Z
UID:10001346-1772530200-1772535600@readtalkplayeveryday.com
SUMMARY:Open Play Time
DESCRIPTION:Drop in for Open Play Time. Make new friends . Geared to ages 0-5 with caregiver. Older siblings are welcome.
URL:https://readtalkplayeveryday.com/event/open-play-time/2026-03-03/
LOCATION:Eager Free Public Library\, 39 W. Main Street\, Evansville\, WI\, 53536\, United States
ORGANIZER;CN="Eager Free Public Library":MAILTO:eagerfree@eagerfreelibrary.org
END:VEVENT
BEGIN:VEVENT
DTSTART;TZID=America/Chicago:20260302T193000
DTEND;TZID=America/Chicago:20260302T203000
DTSTAMP:20260420T093932
CREATED:20260128T201824Z
LAST-MODIFIED:20260128T201824Z
UID:10001287-1772479800-1772483400@readtalkplayeveryday.com
SUMMARY:March 2026 Full Moon Hike
DESCRIPTION:Led by naturalist David Bendlin\, this hike differs from other candlelight hikes as it is a quieter and more conditionally primitive; no bonfires\, hot chocolate or treats are provided and dogs are not allowed. The hike is free and open to the public\, but donations are appreciated. \nParticipants must be dressed appropriately for the weather and be prepared to hike on uncleared trails. As we walk\, we’ll listen for the calls of owls often heard in the woods at this time of year. \nThe hike will meet at the Big Hill Center\, 1201 Big Hill Court\, Beloit. This hike is sponsored by the Welty Environmental Center and the Rock County Conservationists
URL:https://readtalkplayeveryday.com/event/march-2026-full-moon-hike/
LOCATION:Big Hill Center\, 1201 Big Hill Court\, Beloit\, WI\, 53511\, United States
ORGANIZER;CN="Welty Center":MAILTO:info@weltycenter.org
END:VEVENT
BEGIN:VEVENT
DTSTART;TZID=America/Chicago:20260302T173000
DTEND;TZID=America/Chicago:20260302T180000
DTSTAMP:20260420T093932
CREATED:20260126T195422Z
LAST-MODIFIED:20260126T195422Z
UID:10000700-1772472600-1772474400@readtalkplayeveryday.com
SUMMARY:Story Time
DESCRIPTION:Stories\, finger plays\, rhymes\, and songs!
URL:https://readtalkplayeveryday.com/event/story-time/2026-03-02/
LOCATION:Milton Public Library\, 430 E High St\, Milton\, Wisconsin\, 53563
END:VEVENT
BEGIN:VEVENT
DTSTART;TZID=America/Chicago:20260302T100000
DTEND;TZID=America/Chicago:20260302T110000
DTSTAMP:20260420T093932
CREATED:20251106T221855Z
LAST-MODIFIED:20251106T221855Z
UID:10000099-1772445600-1772449200@readtalkplayeveryday.com
SUMMARY:Music and Movement Story Time
DESCRIPTION:Start your week with a joyful burst of music and motion! We’ll sing\, dance\, wiggle\, and read together to build early literacy skills—while having a whole lot of fun. Perfect for little movers and shakers! For ages 2-6.
URL:https://readtalkplayeveryday.com/event/music-and-movement-story-time-4/2026-03-02/
LOCATION:Beloit Public Library\, 605 Eclipse Blvd\, Beloit\, WI\, 53511\, United States
ATTACH;FMTTYPE=image/jpeg:https://readtalkplayeveryday.com/wp-content/uploads/LibCal-Graphics-MusicAndMovement-1.jpg
END:VEVENT
BEGIN:VEVENT
DTSTART;TZID=America/Chicago:20260228T153000
DTEND;TZID=America/Chicago:20260228T180000
DTSTAMP:20260420T093932
CREATED:20260126T220823Z
LAST-MODIFIED:20260126T220823Z
UID:10001219-1772292600-1772301600@readtalkplayeveryday.com
SUMMARY:Wild Re-Enchantment Wander
DESCRIPTION:Join us for a peaceful wander at The Confluence as we explore the changing early spring landscape. The Earth is thawing\, sap is flowing within the trees\, and seeds stir in the ground. After the welcome circle\, take mindful time alone to discover what is stirring and awakening within your own life. The afternoon will culminate at sunset with tea and group reflection. Please bring a journal and pen\, a mug\, and dress for the elements. This event has limited space to ensure an intimate experience. \nJessie Crow Mermel and Frank Langholf will be your guides. Learn more at wildreenchantment.com. \nNature At The Confluence is committed to providing affordable environmental education for our community. We invite you to choose the particiption fee that is most comfortable to you\, either $5\, $10\, or $15 per person.
URL:https://readtalkplayeveryday.com/event/wild-re-enchantment-wander/
LOCATION:Nature At The Confluence Environmental Learning Center and Campus\, 306 Dickop Street\, South Beloit\, IL\, 61080\, United States
ORGANIZER;CN="Nature At The Confluence":MAILTO:info@natureattheconfluence.com
END:VEVENT
BEGIN:VEVENT
DTSTART;TZID=America/Chicago:20260228T140000
DTEND;TZID=America/Chicago:20260228T160000
DTSTAMP:20260420T093932
CREATED:20260126T194707Z
LAST-MODIFIED:20260126T194707Z
UID:10000693-1772287200-1772294400@readtalkplayeveryday.com
SUMMARY:Lunar New Year
DESCRIPTION:Celebrate the year of the horse with a traditional lion dance presentation by the Zhong Yi Kung Fu Association of Madison. Learn about the traditions of this 15-day holiday celebrated around the world and try some traditional snacks.
URL:https://readtalkplayeveryday.com/event/lunar-new-year/
LOCATION:Hedberg Public Library\, S. Main St.\, Janesville\, WI\, 53545\, United States
END:VEVENT
BEGIN:VEVENT
DTSTART;TZID=America/Chicago:20260228T090000
DTEND;TZID=America/Chicago:20260228T233000
DTSTAMP:20260420T093932
CREATED:20260128T202053Z
LAST-MODIFIED:20260128T202053Z
UID:10001226-1772269200-1772321400@readtalkplayeveryday.com
SUMMARY:Beloit Winter Crafter & Farmers Market
DESCRIPTION:Join us for our Beloit WINTER Crafter & Farmers Market every Saturday November through April from 9 am to 12 pm.\nWe will have vendors inside\, food trucks outside\, and free family-friendly activities! Participating Vendors will be announced each week on our Beloit Farmers’ Market page and in the Beloit Winter Crafter & Farmers Market event. \nThank you to our sponsors for their support! \n2025 Sponsors:\nBeloit Daily News\, Educators Credit Union\, Geronimo Hospitality Group\, Hendricks Commercial Properties\, Iron Country\, Kerry\, Nowlan Law\, SSM Health\, Stateline Buzz\, Stateline Mental Health Services\, The Beat 92.3 FM & 98.9 FM\, Visit Beloit\, WCLO\, WJVL\nBucciferro Family McDonald’s\, Cornellier Fireworks\, First Community Credit Union\, International Flavors & Fragrances
URL:https://readtalkplayeveryday.com/event/beloit-winter-crafter-farmers-market/2026-02-28/
LOCATION:Downtown Beloit Association\, 557 E Grand Ave\, Beloit\, WI\, 53511\, United States
END:VEVENT
END:VCALENDAR