BEGIN:VCALENDAR
VERSION:2.0
PRODID:-//Read Talk Play Everyday - ECPv6.15.20//NONSGML v1.0//EN
CALSCALE:GREGORIAN
METHOD:PUBLISH
X-WR-CALNAME:Read Talk Play Everyday
X-ORIGINAL-URL:https://readtalkplayeveryday.com
X-WR-CALDESC:Events for Read Talk Play Everyday
REFRESH-INTERVAL;VALUE=DURATION:PT1H
X-Robots-Tag:noindex
X-PUBLISHED-TTL:PT1H
BEGIN:VTIMEZONE
TZID:America/Chicago
BEGIN:DAYLIGHT
TZOFFSETFROM:-0600
TZOFFSETTO:-0500
TZNAME:CDT
DTSTART:20270314T080000
END:DAYLIGHT
BEGIN:STANDARD
TZOFFSETFROM:-0500
TZOFFSETTO:-0600
TZNAME:CST
DTSTART:20271107T070000
END:STANDARD
BEGIN:DAYLIGHT
TZOFFSETFROM:-0600
TZOFFSETTO:-0500
TZNAME:CDT
DTSTART:20280312T080000
END:DAYLIGHT
BEGIN:STANDARD
TZOFFSETFROM:-0500
TZOFFSETTO:-0600
TZNAME:CST
DTSTART:20281105T070000
END:STANDARD
BEGIN:DAYLIGHT
TZOFFSETFROM:-0600
TZOFFSETTO:-0500
TZNAME:CDT
DTSTART:20290311T080000
END:DAYLIGHT
BEGIN:STANDARD
TZOFFSETFROM:-0500
TZOFFSETTO:-0600
TZNAME:CST
DTSTART:20291104T070000
END:STANDARD
END:VTIMEZONE
BEGIN:VEVENT
DTSTART;TZID=America/Chicago:20281106T100000
DTEND;TZID=America/Chicago:20281106T110000
DTSTAMP:20260422T110849
CREATED:20251106T221855Z
LAST-MODIFIED:20251106T221855Z
UID:10000239-1857117600-1857121200@readtalkplayeveryday.com
SUMMARY:Music and Movement Story Time
DESCRIPTION:Start your week with a joyful burst of music and motion! We’ll sing\, dance\, wiggle\, and read together to build early literacy skills—while having a whole lot of fun. Perfect for little movers and shakers! For ages 2-6.
URL:https://readtalkplayeveryday.com/event/music-and-movement-story-time-4/2028-11-06/
LOCATION:Beloit Public Library\, 605 Eclipse Blvd\, Beloit\, WI\, 53511\, United States
ATTACH;FMTTYPE=image/jpeg:https://readtalkplayeveryday.com/wp-content/uploads/LibCal-Graphics-MusicAndMovement-1.jpg
END:VEVENT
BEGIN:VEVENT
DTSTART;TZID=America/Chicago:20281106T173000
DTEND;TZID=America/Chicago:20281106T180000
DTSTAMP:20260422T110849
CREATED:20260126T195422Z
LAST-MODIFIED:20260126T195422Z
UID:10000840-1857144600-1857146400@readtalkplayeveryday.com
SUMMARY:Story Time
DESCRIPTION:Stories\, finger plays\, rhymes\, and songs!
URL:https://readtalkplayeveryday.com/event/story-time/2028-11-06/
LOCATION:Milton Public Library\, 430 E High St\, Milton\, Wisconsin\, 53563
END:VEVENT
BEGIN:VEVENT
DTSTART;TZID=America/Chicago:20281108T100000
DTEND;TZID=America/Chicago:20281108T110000
DTSTAMP:20260422T110849
CREATED:20251106T221822Z
LAST-MODIFIED:20251106T221822Z
UID:10000501-1857290400-1857294000@readtalkplayeveryday.com
SUMMARY:Preschool Story Time
DESCRIPTION:Explore a new theme every week through stories\, songs\, rhymes\, and hands-on fun! This is a wonderful time for preschoolers to practice listening\, interacting\, and imagining—together. Ages 2-6.
URL:https://readtalkplayeveryday.com/event/preschool-story-time-5/2028-11-08/
LOCATION:Beloit Public Library\, 605 Eclipse Blvd\, Beloit\, WI\, 53511\, United States
ATTACH;FMTTYPE=image/jpeg:https://readtalkplayeveryday.com/wp-content/uploads/LibCal-Graphics-PreschoolStoryTime.jpg
ORGANIZER;CN="Belot Public Library":MAILTO:pserve@beloitlibrary.org
END:VEVENT
BEGIN:VEVENT
DTSTART;TZID=America/Chicago:20281108T103000
DTEND;TZID=America/Chicago:20281108T110000
DTSTAMP:20260422T110849
CREATED:20260126T220934Z
LAST-MODIFIED:20260126T220934Z
UID:10001103-1857292200-1857294000@readtalkplayeveryday.com
SUMMARY:Story Time
DESCRIPTION:Stories\, finger plays\, rhymes\, and songs!
URL:https://readtalkplayeveryday.com/event/story-time-2/2028-11-08/
LOCATION:Milton Public Library\, 430 E High St\, Milton\, Wisconsin\, 53563
ORGANIZER;CN="Milton Public Library":MAILTO:mpl@miltonpubliclibrary.org
END:VEVENT
BEGIN:VEVENT
DTSTART;TZID=America/Chicago:20281113T100000
DTEND;TZID=America/Chicago:20281113T110000
DTSTAMP:20260422T110849
CREATED:20251106T221855Z
LAST-MODIFIED:20251106T221855Z
UID:10000240-1857722400-1857726000@readtalkplayeveryday.com
SUMMARY:Music and Movement Story Time
DESCRIPTION:Start your week with a joyful burst of music and motion! We’ll sing\, dance\, wiggle\, and read together to build early literacy skills—while having a whole lot of fun. Perfect for little movers and shakers! For ages 2-6.
URL:https://readtalkplayeveryday.com/event/music-and-movement-story-time-4/2028-11-13/
LOCATION:Beloit Public Library\, 605 Eclipse Blvd\, Beloit\, WI\, 53511\, United States
ATTACH;FMTTYPE=image/jpeg:https://readtalkplayeveryday.com/wp-content/uploads/LibCal-Graphics-MusicAndMovement-1.jpg
END:VEVENT
BEGIN:VEVENT
DTSTART;TZID=America/Chicago:20281113T173000
DTEND;TZID=America/Chicago:20281113T180000
DTSTAMP:20260422T110849
CREATED:20260126T195422Z
LAST-MODIFIED:20260126T195422Z
UID:10000841-1857749400-1857751200@readtalkplayeveryday.com
SUMMARY:Story Time
DESCRIPTION:Stories\, finger plays\, rhymes\, and songs!
URL:https://readtalkplayeveryday.com/event/story-time/2028-11-13/
LOCATION:Milton Public Library\, 430 E High St\, Milton\, Wisconsin\, 53563
END:VEVENT
BEGIN:VEVENT
DTSTART;TZID=America/Chicago:20281115T100000
DTEND;TZID=America/Chicago:20281115T110000
DTSTAMP:20260422T110849
CREATED:20251106T221822Z
LAST-MODIFIED:20251106T221822Z
UID:10000502-1857895200-1857898800@readtalkplayeveryday.com
SUMMARY:Preschool Story Time
DESCRIPTION:Explore a new theme every week through stories\, songs\, rhymes\, and hands-on fun! This is a wonderful time for preschoolers to practice listening\, interacting\, and imagining—together. Ages 2-6.
URL:https://readtalkplayeveryday.com/event/preschool-story-time-5/2028-11-15/
LOCATION:Beloit Public Library\, 605 Eclipse Blvd\, Beloit\, WI\, 53511\, United States
ATTACH;FMTTYPE=image/jpeg:https://readtalkplayeveryday.com/wp-content/uploads/LibCal-Graphics-PreschoolStoryTime.jpg
ORGANIZER;CN="Belot Public Library":MAILTO:pserve@beloitlibrary.org
END:VEVENT
BEGIN:VEVENT
DTSTART;TZID=America/Chicago:20281115T103000
DTEND;TZID=America/Chicago:20281115T110000
DTSTAMP:20260422T110849
CREATED:20260126T220934Z
LAST-MODIFIED:20260126T220934Z
UID:10001104-1857897000-1857898800@readtalkplayeveryday.com
SUMMARY:Story Time
DESCRIPTION:Stories\, finger plays\, rhymes\, and songs!
URL:https://readtalkplayeveryday.com/event/story-time-2/2028-11-15/
LOCATION:Milton Public Library\, 430 E High St\, Milton\, Wisconsin\, 53563
ORGANIZER;CN="Milton Public Library":MAILTO:mpl@miltonpubliclibrary.org
END:VEVENT
BEGIN:VEVENT
DTSTART;TZID=America/Chicago:20281120T100000
DTEND;TZID=America/Chicago:20281120T110000
DTSTAMP:20260422T110849
CREATED:20251106T221855Z
LAST-MODIFIED:20251106T221855Z
UID:10000241-1858327200-1858330800@readtalkplayeveryday.com
SUMMARY:Music and Movement Story Time
DESCRIPTION:Start your week with a joyful burst of music and motion! We’ll sing\, dance\, wiggle\, and read together to build early literacy skills—while having a whole lot of fun. Perfect for little movers and shakers! For ages 2-6.
URL:https://readtalkplayeveryday.com/event/music-and-movement-story-time-4/2028-11-20/
LOCATION:Beloit Public Library\, 605 Eclipse Blvd\, Beloit\, WI\, 53511\, United States
ATTACH;FMTTYPE=image/jpeg:https://readtalkplayeveryday.com/wp-content/uploads/LibCal-Graphics-MusicAndMovement-1.jpg
END:VEVENT
BEGIN:VEVENT
DTSTART;TZID=America/Chicago:20281120T173000
DTEND;TZID=America/Chicago:20281120T180000
DTSTAMP:20260422T110849
CREATED:20260126T195422Z
LAST-MODIFIED:20260126T195422Z
UID:10000842-1858354200-1858356000@readtalkplayeveryday.com
SUMMARY:Story Time
DESCRIPTION:Stories\, finger plays\, rhymes\, and songs!
URL:https://readtalkplayeveryday.com/event/story-time/2028-11-20/
LOCATION:Milton Public Library\, 430 E High St\, Milton\, Wisconsin\, 53563
END:VEVENT
BEGIN:VEVENT
DTSTART;TZID=America/Chicago:20281122T100000
DTEND;TZID=America/Chicago:20281122T110000
DTSTAMP:20260422T110849
CREATED:20251106T221822Z
LAST-MODIFIED:20251106T221822Z
UID:10000503-1858500000-1858503600@readtalkplayeveryday.com
SUMMARY:Preschool Story Time
DESCRIPTION:Explore a new theme every week through stories\, songs\, rhymes\, and hands-on fun! This is a wonderful time for preschoolers to practice listening\, interacting\, and imagining—together. Ages 2-6.
URL:https://readtalkplayeveryday.com/event/preschool-story-time-5/2028-11-22/
LOCATION:Beloit Public Library\, 605 Eclipse Blvd\, Beloit\, WI\, 53511\, United States
ATTACH;FMTTYPE=image/jpeg:https://readtalkplayeveryday.com/wp-content/uploads/LibCal-Graphics-PreschoolStoryTime.jpg
ORGANIZER;CN="Belot Public Library":MAILTO:pserve@beloitlibrary.org
END:VEVENT
BEGIN:VEVENT
DTSTART;TZID=America/Chicago:20281122T103000
DTEND;TZID=America/Chicago:20281122T110000
DTSTAMP:20260422T110849
CREATED:20260126T220934Z
LAST-MODIFIED:20260126T220934Z
UID:10001105-1858501800-1858503600@readtalkplayeveryday.com
SUMMARY:Story Time
DESCRIPTION:Stories\, finger plays\, rhymes\, and songs!
URL:https://readtalkplayeveryday.com/event/story-time-2/2028-11-22/
LOCATION:Milton Public Library\, 430 E High St\, Milton\, Wisconsin\, 53563
ORGANIZER;CN="Milton Public Library":MAILTO:mpl@miltonpubliclibrary.org
END:VEVENT
BEGIN:VEVENT
DTSTART;TZID=America/Chicago:20281127T100000
DTEND;TZID=America/Chicago:20281127T110000
DTSTAMP:20260422T110849
CREATED:20251106T221855Z
LAST-MODIFIED:20251106T221855Z
UID:10000242-1858932000-1858935600@readtalkplayeveryday.com
SUMMARY:Music and Movement Story Time
DESCRIPTION:Start your week with a joyful burst of music and motion! We’ll sing\, dance\, wiggle\, and read together to build early literacy skills—while having a whole lot of fun. Perfect for little movers and shakers! For ages 2-6.
URL:https://readtalkplayeveryday.com/event/music-and-movement-story-time-4/2028-11-27/
LOCATION:Beloit Public Library\, 605 Eclipse Blvd\, Beloit\, WI\, 53511\, United States
ATTACH;FMTTYPE=image/jpeg:https://readtalkplayeveryday.com/wp-content/uploads/LibCal-Graphics-MusicAndMovement-1.jpg
END:VEVENT
BEGIN:VEVENT
DTSTART;TZID=America/Chicago:20281127T173000
DTEND;TZID=America/Chicago:20281127T180000
DTSTAMP:20260422T110849
CREATED:20260126T195422Z
LAST-MODIFIED:20260126T195422Z
UID:10000843-1858959000-1858960800@readtalkplayeveryday.com
SUMMARY:Story Time
DESCRIPTION:Stories\, finger plays\, rhymes\, and songs!
URL:https://readtalkplayeveryday.com/event/story-time/2028-11-27/
LOCATION:Milton Public Library\, 430 E High St\, Milton\, Wisconsin\, 53563
END:VEVENT
BEGIN:VEVENT
DTSTART;TZID=America/Chicago:20281129T100000
DTEND;TZID=America/Chicago:20281129T110000
DTSTAMP:20260422T110849
CREATED:20251106T221822Z
LAST-MODIFIED:20251106T221822Z
UID:10000504-1859104800-1859108400@readtalkplayeveryday.com
SUMMARY:Preschool Story Time
DESCRIPTION:Explore a new theme every week through stories\, songs\, rhymes\, and hands-on fun! This is a wonderful time for preschoolers to practice listening\, interacting\, and imagining—together. Ages 2-6.
URL:https://readtalkplayeveryday.com/event/preschool-story-time-5/2028-11-29/
LOCATION:Beloit Public Library\, 605 Eclipse Blvd\, Beloit\, WI\, 53511\, United States
ATTACH;FMTTYPE=image/jpeg:https://readtalkplayeveryday.com/wp-content/uploads/LibCal-Graphics-PreschoolStoryTime.jpg
ORGANIZER;CN="Belot Public Library":MAILTO:pserve@beloitlibrary.org
END:VEVENT
BEGIN:VEVENT
DTSTART;TZID=America/Chicago:20281129T103000
DTEND;TZID=America/Chicago:20281129T110000
DTSTAMP:20260422T110849
CREATED:20260126T220934Z
LAST-MODIFIED:20260126T220934Z
UID:10001106-1859106600-1859108400@readtalkplayeveryday.com
SUMMARY:Story Time
DESCRIPTION:Stories\, finger plays\, rhymes\, and songs!
URL:https://readtalkplayeveryday.com/event/story-time-2/2028-11-29/
LOCATION:Milton Public Library\, 430 E High St\, Milton\, Wisconsin\, 53563
ORGANIZER;CN="Milton Public Library":MAILTO:mpl@miltonpubliclibrary.org
END:VEVENT
BEGIN:VEVENT
DTSTART;TZID=America/Chicago:20281204T100000
DTEND;TZID=America/Chicago:20281204T110000
DTSTAMP:20260422T110849
CREATED:20251106T221855Z
LAST-MODIFIED:20251106T221855Z
UID:10000243-1859536800-1859540400@readtalkplayeveryday.com
SUMMARY:Music and Movement Story Time
DESCRIPTION:Start your week with a joyful burst of music and motion! We’ll sing\, dance\, wiggle\, and read together to build early literacy skills—while having a whole lot of fun. Perfect for little movers and shakers! For ages 2-6.
URL:https://readtalkplayeveryday.com/event/music-and-movement-story-time-4/2028-12-04/
LOCATION:Beloit Public Library\, 605 Eclipse Blvd\, Beloit\, WI\, 53511\, United States
ATTACH;FMTTYPE=image/jpeg:https://readtalkplayeveryday.com/wp-content/uploads/LibCal-Graphics-MusicAndMovement-1.jpg
END:VEVENT
BEGIN:VEVENT
DTSTART;TZID=America/Chicago:20281204T173000
DTEND;TZID=America/Chicago:20281204T180000
DTSTAMP:20260422T110849
CREATED:20260126T195422Z
LAST-MODIFIED:20260126T195422Z
UID:10000844-1859563800-1859565600@readtalkplayeveryday.com
SUMMARY:Story Time
DESCRIPTION:Stories\, finger plays\, rhymes\, and songs!
URL:https://readtalkplayeveryday.com/event/story-time/2028-12-04/
LOCATION:Milton Public Library\, 430 E High St\, Milton\, Wisconsin\, 53563
END:VEVENT
BEGIN:VEVENT
DTSTART;TZID=America/Chicago:20281206T100000
DTEND;TZID=America/Chicago:20281206T110000
DTSTAMP:20260422T110849
CREATED:20251106T221822Z
LAST-MODIFIED:20251106T221822Z
UID:10000505-1859709600-1859713200@readtalkplayeveryday.com
SUMMARY:Preschool Story Time
DESCRIPTION:Explore a new theme every week through stories\, songs\, rhymes\, and hands-on fun! This is a wonderful time for preschoolers to practice listening\, interacting\, and imagining—together. Ages 2-6.
URL:https://readtalkplayeveryday.com/event/preschool-story-time-5/2028-12-06/
LOCATION:Beloit Public Library\, 605 Eclipse Blvd\, Beloit\, WI\, 53511\, United States
ATTACH;FMTTYPE=image/jpeg:https://readtalkplayeveryday.com/wp-content/uploads/LibCal-Graphics-PreschoolStoryTime.jpg
ORGANIZER;CN="Belot Public Library":MAILTO:pserve@beloitlibrary.org
END:VEVENT
BEGIN:VEVENT
DTSTART;TZID=America/Chicago:20281206T103000
DTEND;TZID=America/Chicago:20281206T110000
DTSTAMP:20260422T110849
CREATED:20260126T220934Z
LAST-MODIFIED:20260126T220934Z
UID:10001107-1859711400-1859713200@readtalkplayeveryday.com
SUMMARY:Story Time
DESCRIPTION:Stories\, finger plays\, rhymes\, and songs!
URL:https://readtalkplayeveryday.com/event/story-time-2/2028-12-06/
LOCATION:Milton Public Library\, 430 E High St\, Milton\, Wisconsin\, 53563
ORGANIZER;CN="Milton Public Library":MAILTO:mpl@miltonpubliclibrary.org
END:VEVENT
BEGIN:VEVENT
DTSTART;TZID=America/Chicago:20281211T100000
DTEND;TZID=America/Chicago:20281211T110000
DTSTAMP:20260422T110849
CREATED:20251106T221855Z
LAST-MODIFIED:20251106T221855Z
UID:10000244-1860141600-1860145200@readtalkplayeveryday.com
SUMMARY:Music and Movement Story Time
DESCRIPTION:Start your week with a joyful burst of music and motion! We’ll sing\, dance\, wiggle\, and read together to build early literacy skills—while having a whole lot of fun. Perfect for little movers and shakers! For ages 2-6.
URL:https://readtalkplayeveryday.com/event/music-and-movement-story-time-4/2028-12-11/
LOCATION:Beloit Public Library\, 605 Eclipse Blvd\, Beloit\, WI\, 53511\, United States
ATTACH;FMTTYPE=image/jpeg:https://readtalkplayeveryday.com/wp-content/uploads/LibCal-Graphics-MusicAndMovement-1.jpg
END:VEVENT
BEGIN:VEVENT
DTSTART;TZID=America/Chicago:20281211T173000
DTEND;TZID=America/Chicago:20281211T180000
DTSTAMP:20260422T110849
CREATED:20260126T195422Z
LAST-MODIFIED:20260126T195422Z
UID:10000845-1860168600-1860170400@readtalkplayeveryday.com
SUMMARY:Story Time
DESCRIPTION:Stories\, finger plays\, rhymes\, and songs!
URL:https://readtalkplayeveryday.com/event/story-time/2028-12-11/
LOCATION:Milton Public Library\, 430 E High St\, Milton\, Wisconsin\, 53563
END:VEVENT
BEGIN:VEVENT
DTSTART;TZID=America/Chicago:20281213T100000
DTEND;TZID=America/Chicago:20281213T110000
DTSTAMP:20260422T110849
CREATED:20251106T221822Z
LAST-MODIFIED:20251106T221822Z
UID:10000506-1860314400-1860318000@readtalkplayeveryday.com
SUMMARY:Preschool Story Time
DESCRIPTION:Explore a new theme every week through stories\, songs\, rhymes\, and hands-on fun! This is a wonderful time for preschoolers to practice listening\, interacting\, and imagining—together. Ages 2-6.
URL:https://readtalkplayeveryday.com/event/preschool-story-time-5/2028-12-13/
LOCATION:Beloit Public Library\, 605 Eclipse Blvd\, Beloit\, WI\, 53511\, United States
ATTACH;FMTTYPE=image/jpeg:https://readtalkplayeveryday.com/wp-content/uploads/LibCal-Graphics-PreschoolStoryTime.jpg
ORGANIZER;CN="Belot Public Library":MAILTO:pserve@beloitlibrary.org
END:VEVENT
BEGIN:VEVENT
DTSTART;TZID=America/Chicago:20281213T103000
DTEND;TZID=America/Chicago:20281213T110000
DTSTAMP:20260422T110849
CREATED:20260126T220934Z
LAST-MODIFIED:20260126T220934Z
UID:10001108-1860316200-1860318000@readtalkplayeveryday.com
SUMMARY:Story Time
DESCRIPTION:Stories\, finger plays\, rhymes\, and songs!
URL:https://readtalkplayeveryday.com/event/story-time-2/2028-12-13/
LOCATION:Milton Public Library\, 430 E High St\, Milton\, Wisconsin\, 53563
ORGANIZER;CN="Milton Public Library":MAILTO:mpl@miltonpubliclibrary.org
END:VEVENT
BEGIN:VEVENT
DTSTART;TZID=America/Chicago:20281218T100000
DTEND;TZID=America/Chicago:20281218T110000
DTSTAMP:20260422T110849
CREATED:20251106T221855Z
LAST-MODIFIED:20251106T221855Z
UID:10000245-1860746400-1860750000@readtalkplayeveryday.com
SUMMARY:Music and Movement Story Time
DESCRIPTION:Start your week with a joyful burst of music and motion! We’ll sing\, dance\, wiggle\, and read together to build early literacy skills—while having a whole lot of fun. Perfect for little movers and shakers! For ages 2-6.
URL:https://readtalkplayeveryday.com/event/music-and-movement-story-time-4/2028-12-18/
LOCATION:Beloit Public Library\, 605 Eclipse Blvd\, Beloit\, WI\, 53511\, United States
ATTACH;FMTTYPE=image/jpeg:https://readtalkplayeveryday.com/wp-content/uploads/LibCal-Graphics-MusicAndMovement-1.jpg
END:VEVENT
BEGIN:VEVENT
DTSTART;TZID=America/Chicago:20281218T173000
DTEND;TZID=America/Chicago:20281218T180000
DTSTAMP:20260422T110849
CREATED:20260126T195422Z
LAST-MODIFIED:20260126T195422Z
UID:10000846-1860773400-1860775200@readtalkplayeveryday.com
SUMMARY:Story Time
DESCRIPTION:Stories\, finger plays\, rhymes\, and songs!
URL:https://readtalkplayeveryday.com/event/story-time/2028-12-18/
LOCATION:Milton Public Library\, 430 E High St\, Milton\, Wisconsin\, 53563
END:VEVENT
BEGIN:VEVENT
DTSTART;TZID=America/Chicago:20281220T100000
DTEND;TZID=America/Chicago:20281220T110000
DTSTAMP:20260422T110849
CREATED:20251106T221822Z
LAST-MODIFIED:20251106T221822Z
UID:10000507-1860919200-1860922800@readtalkplayeveryday.com
SUMMARY:Preschool Story Time
DESCRIPTION:Explore a new theme every week through stories\, songs\, rhymes\, and hands-on fun! This is a wonderful time for preschoolers to practice listening\, interacting\, and imagining—together. Ages 2-6.
URL:https://readtalkplayeveryday.com/event/preschool-story-time-5/2028-12-20/
LOCATION:Beloit Public Library\, 605 Eclipse Blvd\, Beloit\, WI\, 53511\, United States
ATTACH;FMTTYPE=image/jpeg:https://readtalkplayeveryday.com/wp-content/uploads/LibCal-Graphics-PreschoolStoryTime.jpg
ORGANIZER;CN="Belot Public Library":MAILTO:pserve@beloitlibrary.org
END:VEVENT
BEGIN:VEVENT
DTSTART;TZID=America/Chicago:20281220T103000
DTEND;TZID=America/Chicago:20281220T110000
DTSTAMP:20260422T110849
CREATED:20260126T220934Z
LAST-MODIFIED:20260126T220934Z
UID:10001109-1860921000-1860922800@readtalkplayeveryday.com
SUMMARY:Story Time
DESCRIPTION:Stories\, finger plays\, rhymes\, and songs!
URL:https://readtalkplayeveryday.com/event/story-time-2/2028-12-20/
LOCATION:Milton Public Library\, 430 E High St\, Milton\, Wisconsin\, 53563
ORGANIZER;CN="Milton Public Library":MAILTO:mpl@miltonpubliclibrary.org
END:VEVENT
BEGIN:VEVENT
DTSTART;TZID=America/Chicago:20281225T100000
DTEND;TZID=America/Chicago:20281225T110000
DTSTAMP:20260422T110849
CREATED:20251106T221855Z
LAST-MODIFIED:20251106T221855Z
UID:10000246-1861351200-1861354800@readtalkplayeveryday.com
SUMMARY:Music and Movement Story Time
DESCRIPTION:Start your week with a joyful burst of music and motion! We’ll sing\, dance\, wiggle\, and read together to build early literacy skills—while having a whole lot of fun. Perfect for little movers and shakers! For ages 2-6.
URL:https://readtalkplayeveryday.com/event/music-and-movement-story-time-4/2028-12-25/
LOCATION:Beloit Public Library\, 605 Eclipse Blvd\, Beloit\, WI\, 53511\, United States
ATTACH;FMTTYPE=image/jpeg:https://readtalkplayeveryday.com/wp-content/uploads/LibCal-Graphics-MusicAndMovement-1.jpg
END:VEVENT
BEGIN:VEVENT
DTSTART;TZID=America/Chicago:20281225T173000
DTEND;TZID=America/Chicago:20281225T180000
DTSTAMP:20260422T110849
CREATED:20260126T195422Z
LAST-MODIFIED:20260126T195422Z
UID:10000847-1861378200-1861380000@readtalkplayeveryday.com
SUMMARY:Story Time
DESCRIPTION:Stories\, finger plays\, rhymes\, and songs!
URL:https://readtalkplayeveryday.com/event/story-time/2028-12-25/
LOCATION:Milton Public Library\, 430 E High St\, Milton\, Wisconsin\, 53563
END:VEVENT
END:VCALENDAR