BEGIN:VCALENDAR
VERSION:2.0
PRODID:-//Read Talk Play Everyday - ECPv6.15.20//NONSGML v1.0//EN
CALSCALE:GREGORIAN
METHOD:PUBLISH
X-WR-CALNAME:Read Talk Play Everyday
X-ORIGINAL-URL:https://readtalkplayeveryday.com
X-WR-CALDESC:Events for Read Talk Play Everyday
REFRESH-INTERVAL;VALUE=DURATION:PT1H
X-Robots-Tag:noindex
X-PUBLISHED-TTL:PT1H
BEGIN:VTIMEZONE
TZID:America/Chicago
BEGIN:DAYLIGHT
TZOFFSETFROM:-0600
TZOFFSETTO:-0500
TZNAME:CDT
DTSTART:20250309T080000
END:DAYLIGHT
BEGIN:STANDARD
TZOFFSETFROM:-0500
TZOFFSETTO:-0600
TZNAME:CST
DTSTART:20251102T070000
END:STANDARD
BEGIN:DAYLIGHT
TZOFFSETFROM:-0600
TZOFFSETTO:-0500
TZNAME:CDT
DTSTART:20260308T080000
END:DAYLIGHT
BEGIN:STANDARD
TZOFFSETFROM:-0500
TZOFFSETTO:-0600
TZNAME:CST
DTSTART:20261101T070000
END:STANDARD
BEGIN:DAYLIGHT
TZOFFSETFROM:-0600
TZOFFSETTO:-0500
TZNAME:CDT
DTSTART:20270314T080000
END:DAYLIGHT
BEGIN:STANDARD
TZOFFSETFROM:-0500
TZOFFSETTO:-0600
TZNAME:CST
DTSTART:20271107T070000
END:STANDARD
END:VTIMEZONE
BEGIN:VEVENT
DTSTART;TZID=America/Chicago:20261112T093000
DTEND;TZID=America/Chicago:20261112T100000
DTSTAMP:20260423T190322
CREATED:20260121T210123Z
LAST-MODIFIED:20260121T210123Z
UID:10000655-1794475800-1794477600@readtalkplayeveryday.com
SUMMARY:Wiggle & Rhyme Storytime
DESCRIPTION:Join us for a lively\, interactive storytime featuring books\, songs\, action rhymes\, puppets and more. Each storytime incorporates the five practices of early literacy: READ\, WRITE\, TALK\, SING & PLAY. This session is perfect for toddlers and preschoolers with their caregivers. \nSame program offered at 9:30 and 10:30 a.m.\nDisclaimer(s)\nAccompanying Adults \nAn adult caregiver must accompany children at this program.\nNo Registration Required
URL:https://readtalkplayeveryday.com/event/wiggle-rhyme-storytime-9/2026-11-12/
LOCATION:Hedberg Public Library\, S. Main St.\, Janesville\, WI\, 53545\, United States
END:VEVENT
BEGIN:VEVENT
DTSTART;TZID=America/Chicago:20261114T090000
DTEND;TZID=America/Chicago:20261114T123000
DTSTAMP:20260423T190322
CREATED:20260121T205808Z
LAST-MODIFIED:20260121T205808Z
UID:10000612-1794646800-1794659400@readtalkplayeveryday.com
SUMMARY:Child Birth Preparation Class
DESCRIPTION:Our free\, all-in-one program includes research-based\,\nup-to-date information for expectant parents. \nTopics include:\n• Understanding pregnancy and labor\n• A birth story\n• Comfort techniques\n• Understanding medical procedures\n• Cesarean birth\n• Intervention alternatives and non-medicated births\n• Postpartum care including breastfeeding basics\n• What to expect with immediate newborn care \nChoose from one of our every-other-month\,\n“Weekend Express” classes\, from 9 am – 12:30 pm\non Saturday. \nThe class is held in the Conference\nRooms on the Garden Level at SSM Health\nDean Medical Group – Janesville East. \nClass sizes may be limited. \nPlease call 608-373-8200 to sign up.
URL:https://readtalkplayeveryday.com/event/child-birth-preparation-class/2026-11-14/
LOCATION:SSM Health St. Mary’s Hospital Janesville\, 3400 E. Racine St.\, Janesville\, WI\, 53546\, United States
ATTACH;FMTTYPE=image/jpeg:https://readtalkplayeveryday.com/wp-content/uploads/2026-Flyer-1.jpg
END:VEVENT
BEGIN:VEVENT
DTSTART;TZID=America/Chicago:20261114T090000
DTEND;TZID=America/Chicago:20261114T233000
DTSTAMP:20260423T190322
CREATED:20260128T202053Z
LAST-MODIFIED:20260128T202053Z
UID:10001263-1794646800-1794699000@readtalkplayeveryday.com
SUMMARY:Beloit Winter Crafter & Farmers Market
DESCRIPTION:Join us for our Beloit WINTER Crafter & Farmers Market every Saturday November through April from 9 am to 12 pm.\nWe will have vendors inside\, food trucks outside\, and free family-friendly activities! Participating Vendors will be announced each week on our Beloit Farmers’ Market page and in the Beloit Winter Crafter & Farmers Market event. \nThank you to our sponsors for their support! \n2025 Sponsors:\nBeloit Daily News\, Educators Credit Union\, Geronimo Hospitality Group\, Hendricks Commercial Properties\, Iron Country\, Kerry\, Nowlan Law\, SSM Health\, Stateline Buzz\, Stateline Mental Health Services\, The Beat 92.3 FM & 98.9 FM\, Visit Beloit\, WCLO\, WJVL\nBucciferro Family McDonald’s\, Cornellier Fireworks\, First Community Credit Union\, International Flavors & Fragrances
URL:https://readtalkplayeveryday.com/event/beloit-winter-crafter-farmers-market/2026-11-14/
LOCATION:Downtown Beloit Association\, 557 E Grand Ave\, Beloit\, WI\, 53511\, United States
END:VEVENT
BEGIN:VEVENT
DTSTART;TZID=America/Chicago:20261116T100000
DTEND;TZID=America/Chicago:20261116T110000
DTSTAMP:20260423T190322
CREATED:20251106T221855Z
LAST-MODIFIED:20251106T221855Z
UID:10000136-1794823200-1794826800@readtalkplayeveryday.com
SUMMARY:Music and Movement Story Time
DESCRIPTION:Start your week with a joyful burst of music and motion! We’ll sing\, dance\, wiggle\, and read together to build early literacy skills—while having a whole lot of fun. Perfect for little movers and shakers! For ages 2-6.
URL:https://readtalkplayeveryday.com/event/music-and-movement-story-time-4/2026-11-16/
LOCATION:Beloit Public Library\, 605 Eclipse Blvd\, Beloit\, WI\, 53511\, United States
ATTACH;FMTTYPE=image/jpeg:https://readtalkplayeveryday.com/wp-content/uploads/LibCal-Graphics-MusicAndMovement-1.jpg
END:VEVENT
BEGIN:VEVENT
DTSTART;TZID=America/Chicago:20261116T173000
DTEND;TZID=America/Chicago:20261116T180000
DTSTAMP:20260423T190322
CREATED:20260126T195422Z
LAST-MODIFIED:20260126T195422Z
UID:10000737-1794850200-1794852000@readtalkplayeveryday.com
SUMMARY:Story Time
DESCRIPTION:Stories\, finger plays\, rhymes\, and songs!
URL:https://readtalkplayeveryday.com/event/story-time/2026-11-16/
LOCATION:Milton Public Library\, 430 E High St\, Milton\, Wisconsin\, 53563
END:VEVENT
BEGIN:VEVENT
DTSTART;TZID=America/Chicago:20261118T100000
DTEND;TZID=America/Chicago:20261118T110000
DTSTAMP:20260423T190322
CREATED:20251106T221822Z
LAST-MODIFIED:20251106T221822Z
UID:10000398-1794996000-1794999600@readtalkplayeveryday.com
SUMMARY:Preschool Story Time
DESCRIPTION:Explore a new theme every week through stories\, songs\, rhymes\, and hands-on fun! This is a wonderful time for preschoolers to practice listening\, interacting\, and imagining—together. Ages 2-6.
URL:https://readtalkplayeveryday.com/event/preschool-story-time-5/2026-11-18/
LOCATION:Beloit Public Library\, 605 Eclipse Blvd\, Beloit\, WI\, 53511\, United States
ATTACH;FMTTYPE=image/jpeg:https://readtalkplayeveryday.com/wp-content/uploads/LibCal-Graphics-PreschoolStoryTime.jpg
ORGANIZER;CN="Belot Public Library":MAILTO:pserve@beloitlibrary.org
END:VEVENT
BEGIN:VEVENT
DTSTART;TZID=America/Chicago:20261118T103000
DTEND;TZID=America/Chicago:20261118T110000
DTSTAMP:20260423T190322
CREATED:20260126T220934Z
LAST-MODIFIED:20260126T220934Z
UID:10001000-1794997800-1794999600@readtalkplayeveryday.com
SUMMARY:Story Time
DESCRIPTION:Stories\, finger plays\, rhymes\, and songs!
URL:https://readtalkplayeveryday.com/event/story-time-2/2026-11-18/
LOCATION:Milton Public Library\, 430 E High St\, Milton\, Wisconsin\, 53563
ORGANIZER;CN="Milton Public Library":MAILTO:mpl@miltonpubliclibrary.org
END:VEVENT
BEGIN:VEVENT
DTSTART;TZID=America/Chicago:20261119T093000
DTEND;TZID=America/Chicago:20261119T100000
DTSTAMP:20260423T190322
CREATED:20260121T210123Z
LAST-MODIFIED:20260121T210123Z
UID:10000656-1795080600-1795082400@readtalkplayeveryday.com
SUMMARY:Wiggle & Rhyme Storytime
DESCRIPTION:Join us for a lively\, interactive storytime featuring books\, songs\, action rhymes\, puppets and more. Each storytime incorporates the five practices of early literacy: READ\, WRITE\, TALK\, SING & PLAY. This session is perfect for toddlers and preschoolers with their caregivers. \nSame program offered at 9:30 and 10:30 a.m.\nDisclaimer(s)\nAccompanying Adults \nAn adult caregiver must accompany children at this program.\nNo Registration Required
URL:https://readtalkplayeveryday.com/event/wiggle-rhyme-storytime-9/2026-11-19/
LOCATION:Hedberg Public Library\, S. Main St.\, Janesville\, WI\, 53545\, United States
END:VEVENT
BEGIN:VEVENT
DTSTART;TZID=America/Chicago:20261121T090000
DTEND;TZID=America/Chicago:20261121T233000
DTSTAMP:20260423T190322
CREATED:20260128T202053Z
LAST-MODIFIED:20260128T202053Z
UID:10001264-1795251600-1795303800@readtalkplayeveryday.com
SUMMARY:Beloit Winter Crafter & Farmers Market
DESCRIPTION:Join us for our Beloit WINTER Crafter & Farmers Market every Saturday November through April from 9 am to 12 pm.\nWe will have vendors inside\, food trucks outside\, and free family-friendly activities! Participating Vendors will be announced each week on our Beloit Farmers’ Market page and in the Beloit Winter Crafter & Farmers Market event. \nThank you to our sponsors for their support! \n2025 Sponsors:\nBeloit Daily News\, Educators Credit Union\, Geronimo Hospitality Group\, Hendricks Commercial Properties\, Iron Country\, Kerry\, Nowlan Law\, SSM Health\, Stateline Buzz\, Stateline Mental Health Services\, The Beat 92.3 FM & 98.9 FM\, Visit Beloit\, WCLO\, WJVL\nBucciferro Family McDonald’s\, Cornellier Fireworks\, First Community Credit Union\, International Flavors & Fragrances
URL:https://readtalkplayeveryday.com/event/beloit-winter-crafter-farmers-market/2026-11-21/
LOCATION:Downtown Beloit Association\, 557 E Grand Ave\, Beloit\, WI\, 53511\, United States
END:VEVENT
BEGIN:VEVENT
DTSTART;TZID=America/Chicago:20261123T100000
DTEND;TZID=America/Chicago:20261123T110000
DTSTAMP:20260423T190322
CREATED:20251106T221855Z
LAST-MODIFIED:20251106T221855Z
UID:10000137-1795428000-1795431600@readtalkplayeveryday.com
SUMMARY:Music and Movement Story Time
DESCRIPTION:Start your week with a joyful burst of music and motion! We’ll sing\, dance\, wiggle\, and read together to build early literacy skills—while having a whole lot of fun. Perfect for little movers and shakers! For ages 2-6.
URL:https://readtalkplayeveryday.com/event/music-and-movement-story-time-4/2026-11-23/
LOCATION:Beloit Public Library\, 605 Eclipse Blvd\, Beloit\, WI\, 53511\, United States
ATTACH;FMTTYPE=image/jpeg:https://readtalkplayeveryday.com/wp-content/uploads/LibCal-Graphics-MusicAndMovement-1.jpg
END:VEVENT
BEGIN:VEVENT
DTSTART;TZID=America/Chicago:20261123T173000
DTEND;TZID=America/Chicago:20261123T180000
DTSTAMP:20260423T190322
CREATED:20260126T195422Z
LAST-MODIFIED:20260126T195422Z
UID:10000738-1795455000-1795456800@readtalkplayeveryday.com
SUMMARY:Story Time
DESCRIPTION:Stories\, finger plays\, rhymes\, and songs!
URL:https://readtalkplayeveryday.com/event/story-time/2026-11-23/
LOCATION:Milton Public Library\, 430 E High St\, Milton\, Wisconsin\, 53563
END:VEVENT
BEGIN:VEVENT
DTSTART;TZID=America/Chicago:20261125T100000
DTEND;TZID=America/Chicago:20261125T110000
DTSTAMP:20260423T190322
CREATED:20251106T221822Z
LAST-MODIFIED:20251106T221822Z
UID:10000399-1795600800-1795604400@readtalkplayeveryday.com
SUMMARY:Preschool Story Time
DESCRIPTION:Explore a new theme every week through stories\, songs\, rhymes\, and hands-on fun! This is a wonderful time for preschoolers to practice listening\, interacting\, and imagining—together. Ages 2-6.
URL:https://readtalkplayeveryday.com/event/preschool-story-time-5/2026-11-25/
LOCATION:Beloit Public Library\, 605 Eclipse Blvd\, Beloit\, WI\, 53511\, United States
ATTACH;FMTTYPE=image/jpeg:https://readtalkplayeveryday.com/wp-content/uploads/LibCal-Graphics-PreschoolStoryTime.jpg
ORGANIZER;CN="Belot Public Library":MAILTO:pserve@beloitlibrary.org
END:VEVENT
BEGIN:VEVENT
DTSTART;TZID=America/Chicago:20261125T103000
DTEND;TZID=America/Chicago:20261125T110000
DTSTAMP:20260423T190322
CREATED:20260126T220934Z
LAST-MODIFIED:20260126T220934Z
UID:10001001-1795602600-1795604400@readtalkplayeveryday.com
SUMMARY:Story Time
DESCRIPTION:Stories\, finger plays\, rhymes\, and songs!
URL:https://readtalkplayeveryday.com/event/story-time-2/2026-11-25/
LOCATION:Milton Public Library\, 430 E High St\, Milton\, Wisconsin\, 53563
ORGANIZER;CN="Milton Public Library":MAILTO:mpl@miltonpubliclibrary.org
END:VEVENT
BEGIN:VEVENT
DTSTART;TZID=America/Chicago:20261126T093000
DTEND;TZID=America/Chicago:20261126T100000
DTSTAMP:20260423T190322
CREATED:20260121T210123Z
LAST-MODIFIED:20260121T210123Z
UID:10000657-1795685400-1795687200@readtalkplayeveryday.com
SUMMARY:Wiggle & Rhyme Storytime
DESCRIPTION:Join us for a lively\, interactive storytime featuring books\, songs\, action rhymes\, puppets and more. Each storytime incorporates the five practices of early literacy: READ\, WRITE\, TALK\, SING & PLAY. This session is perfect for toddlers and preschoolers with their caregivers. \nSame program offered at 9:30 and 10:30 a.m.\nDisclaimer(s)\nAccompanying Adults \nAn adult caregiver must accompany children at this program.\nNo Registration Required
URL:https://readtalkplayeveryday.com/event/wiggle-rhyme-storytime-9/2026-11-26/
LOCATION:Hedberg Public Library\, S. Main St.\, Janesville\, WI\, 53545\, United States
END:VEVENT
BEGIN:VEVENT
DTSTART;TZID=America/Chicago:20261128T090000
DTEND;TZID=America/Chicago:20261128T233000
DTSTAMP:20260423T190322
CREATED:20260128T202053Z
LAST-MODIFIED:20260128T202053Z
UID:10001265-1795856400-1795908600@readtalkplayeveryday.com
SUMMARY:Beloit Winter Crafter & Farmers Market
DESCRIPTION:Join us for our Beloit WINTER Crafter & Farmers Market every Saturday November through April from 9 am to 12 pm.\nWe will have vendors inside\, food trucks outside\, and free family-friendly activities! Participating Vendors will be announced each week on our Beloit Farmers’ Market page and in the Beloit Winter Crafter & Farmers Market event. \nThank you to our sponsors for their support! \n2025 Sponsors:\nBeloit Daily News\, Educators Credit Union\, Geronimo Hospitality Group\, Hendricks Commercial Properties\, Iron Country\, Kerry\, Nowlan Law\, SSM Health\, Stateline Buzz\, Stateline Mental Health Services\, The Beat 92.3 FM & 98.9 FM\, Visit Beloit\, WCLO\, WJVL\nBucciferro Family McDonald’s\, Cornellier Fireworks\, First Community Credit Union\, International Flavors & Fragrances
URL:https://readtalkplayeveryday.com/event/beloit-winter-crafter-farmers-market/2026-11-28/
LOCATION:Downtown Beloit Association\, 557 E Grand Ave\, Beloit\, WI\, 53511\, United States
END:VEVENT
BEGIN:VEVENT
DTSTART;TZID=America/Chicago:20261130T100000
DTEND;TZID=America/Chicago:20261130T110000
DTSTAMP:20260423T190322
CREATED:20251106T221855Z
LAST-MODIFIED:20251106T221855Z
UID:10000138-1796032800-1796036400@readtalkplayeveryday.com
SUMMARY:Music and Movement Story Time
DESCRIPTION:Start your week with a joyful burst of music and motion! We’ll sing\, dance\, wiggle\, and read together to build early literacy skills—while having a whole lot of fun. Perfect for little movers and shakers! For ages 2-6.
URL:https://readtalkplayeveryday.com/event/music-and-movement-story-time-4/2026-11-30/
LOCATION:Beloit Public Library\, 605 Eclipse Blvd\, Beloit\, WI\, 53511\, United States
ATTACH;FMTTYPE=image/jpeg:https://readtalkplayeveryday.com/wp-content/uploads/LibCal-Graphics-MusicAndMovement-1.jpg
END:VEVENT
BEGIN:VEVENT
DTSTART;TZID=America/Chicago:20261130T173000
DTEND;TZID=America/Chicago:20261130T180000
DTSTAMP:20260423T190322
CREATED:20260126T195422Z
LAST-MODIFIED:20260126T195422Z
UID:10000739-1796059800-1796061600@readtalkplayeveryday.com
SUMMARY:Story Time
DESCRIPTION:Stories\, finger plays\, rhymes\, and songs!
URL:https://readtalkplayeveryday.com/event/story-time/2026-11-30/
LOCATION:Milton Public Library\, 430 E High St\, Milton\, Wisconsin\, 53563
END:VEVENT
BEGIN:VEVENT
DTSTART;TZID=America/Chicago:20261202T100000
DTEND;TZID=America/Chicago:20261202T110000
DTSTAMP:20260423T190322
CREATED:20251106T221822Z
LAST-MODIFIED:20251106T221822Z
UID:10000400-1796205600-1796209200@readtalkplayeveryday.com
SUMMARY:Preschool Story Time
DESCRIPTION:Explore a new theme every week through stories\, songs\, rhymes\, and hands-on fun! This is a wonderful time for preschoolers to practice listening\, interacting\, and imagining—together. Ages 2-6.
URL:https://readtalkplayeveryday.com/event/preschool-story-time-5/2026-12-02/
LOCATION:Beloit Public Library\, 605 Eclipse Blvd\, Beloit\, WI\, 53511\, United States
ATTACH;FMTTYPE=image/jpeg:https://readtalkplayeveryday.com/wp-content/uploads/LibCal-Graphics-PreschoolStoryTime.jpg
ORGANIZER;CN="Belot Public Library":MAILTO:pserve@beloitlibrary.org
END:VEVENT
BEGIN:VEVENT
DTSTART;TZID=America/Chicago:20261202T103000
DTEND;TZID=America/Chicago:20261202T110000
DTSTAMP:20260423T190322
CREATED:20260126T220934Z
LAST-MODIFIED:20260126T220934Z
UID:10001002-1796207400-1796209200@readtalkplayeveryday.com
SUMMARY:Story Time
DESCRIPTION:Stories\, finger plays\, rhymes\, and songs!
URL:https://readtalkplayeveryday.com/event/story-time-2/2026-12-02/
LOCATION:Milton Public Library\, 430 E High St\, Milton\, Wisconsin\, 53563
ORGANIZER;CN="Milton Public Library":MAILTO:mpl@miltonpubliclibrary.org
END:VEVENT
BEGIN:VEVENT
DTSTART;TZID=America/Chicago:20261203T093000
DTEND;TZID=America/Chicago:20261203T100000
DTSTAMP:20260423T190322
CREATED:20260121T210123Z
LAST-MODIFIED:20260121T210123Z
UID:10000658-1796290200-1796292000@readtalkplayeveryday.com
SUMMARY:Wiggle & Rhyme Storytime
DESCRIPTION:Join us for a lively\, interactive storytime featuring books\, songs\, action rhymes\, puppets and more. Each storytime incorporates the five practices of early literacy: READ\, WRITE\, TALK\, SING & PLAY. This session is perfect for toddlers and preschoolers with their caregivers. \nSame program offered at 9:30 and 10:30 a.m.\nDisclaimer(s)\nAccompanying Adults \nAn adult caregiver must accompany children at this program.\nNo Registration Required
URL:https://readtalkplayeveryday.com/event/wiggle-rhyme-storytime-9/2026-12-03/
LOCATION:Hedberg Public Library\, S. Main St.\, Janesville\, WI\, 53545\, United States
END:VEVENT
BEGIN:VEVENT
DTSTART;TZID=America/Chicago:20261205T090000
DTEND;TZID=America/Chicago:20261205T233000
DTSTAMP:20260423T190322
CREATED:20260128T202053Z
LAST-MODIFIED:20260128T202053Z
UID:10001266-1796461200-1796513400@readtalkplayeveryday.com
SUMMARY:Beloit Winter Crafter & Farmers Market
DESCRIPTION:Join us for our Beloit WINTER Crafter & Farmers Market every Saturday November through April from 9 am to 12 pm.\nWe will have vendors inside\, food trucks outside\, and free family-friendly activities! Participating Vendors will be announced each week on our Beloit Farmers’ Market page and in the Beloit Winter Crafter & Farmers Market event. \nThank you to our sponsors for their support! \n2025 Sponsors:\nBeloit Daily News\, Educators Credit Union\, Geronimo Hospitality Group\, Hendricks Commercial Properties\, Iron Country\, Kerry\, Nowlan Law\, SSM Health\, Stateline Buzz\, Stateline Mental Health Services\, The Beat 92.3 FM & 98.9 FM\, Visit Beloit\, WCLO\, WJVL\nBucciferro Family McDonald’s\, Cornellier Fireworks\, First Community Credit Union\, International Flavors & Fragrances
URL:https://readtalkplayeveryday.com/event/beloit-winter-crafter-farmers-market/2026-12-05/
LOCATION:Downtown Beloit Association\, 557 E Grand Ave\, Beloit\, WI\, 53511\, United States
END:VEVENT
BEGIN:VEVENT
DTSTART;TZID=America/Chicago:20261207T100000
DTEND;TZID=America/Chicago:20261207T110000
DTSTAMP:20260423T190322
CREATED:20251106T221855Z
LAST-MODIFIED:20251106T221855Z
UID:10000139-1796637600-1796641200@readtalkplayeveryday.com
SUMMARY:Music and Movement Story Time
DESCRIPTION:Start your week with a joyful burst of music and motion! We’ll sing\, dance\, wiggle\, and read together to build early literacy skills—while having a whole lot of fun. Perfect for little movers and shakers! For ages 2-6.
URL:https://readtalkplayeveryday.com/event/music-and-movement-story-time-4/2026-12-07/
LOCATION:Beloit Public Library\, 605 Eclipse Blvd\, Beloit\, WI\, 53511\, United States
ATTACH;FMTTYPE=image/jpeg:https://readtalkplayeveryday.com/wp-content/uploads/LibCal-Graphics-MusicAndMovement-1.jpg
END:VEVENT
BEGIN:VEVENT
DTSTART;TZID=America/Chicago:20261207T173000
DTEND;TZID=America/Chicago:20261207T180000
DTSTAMP:20260423T190322
CREATED:20260126T195422Z
LAST-MODIFIED:20260126T195422Z
UID:10000740-1796664600-1796666400@readtalkplayeveryday.com
SUMMARY:Story Time
DESCRIPTION:Stories\, finger plays\, rhymes\, and songs!
URL:https://readtalkplayeveryday.com/event/story-time/2026-12-07/
LOCATION:Milton Public Library\, 430 E High St\, Milton\, Wisconsin\, 53563
END:VEVENT
BEGIN:VEVENT
DTSTART;TZID=America/Chicago:20261209T100000
DTEND;TZID=America/Chicago:20261209T110000
DTSTAMP:20260423T190322
CREATED:20251106T221822Z
LAST-MODIFIED:20251106T221822Z
UID:10000401-1796810400-1796814000@readtalkplayeveryday.com
SUMMARY:Preschool Story Time
DESCRIPTION:Explore a new theme every week through stories\, songs\, rhymes\, and hands-on fun! This is a wonderful time for preschoolers to practice listening\, interacting\, and imagining—together. Ages 2-6.
URL:https://readtalkplayeveryday.com/event/preschool-story-time-5/2026-12-09/
LOCATION:Beloit Public Library\, 605 Eclipse Blvd\, Beloit\, WI\, 53511\, United States
ATTACH;FMTTYPE=image/jpeg:https://readtalkplayeveryday.com/wp-content/uploads/LibCal-Graphics-PreschoolStoryTime.jpg
ORGANIZER;CN="Belot Public Library":MAILTO:pserve@beloitlibrary.org
END:VEVENT
BEGIN:VEVENT
DTSTART;TZID=America/Chicago:20261209T103000
DTEND;TZID=America/Chicago:20261209T110000
DTSTAMP:20260423T190322
CREATED:20260126T220934Z
LAST-MODIFIED:20260126T220934Z
UID:10001003-1796812200-1796814000@readtalkplayeveryday.com
SUMMARY:Story Time
DESCRIPTION:Stories\, finger plays\, rhymes\, and songs!
URL:https://readtalkplayeveryday.com/event/story-time-2/2026-12-09/
LOCATION:Milton Public Library\, 430 E High St\, Milton\, Wisconsin\, 53563
ORGANIZER;CN="Milton Public Library":MAILTO:mpl@miltonpubliclibrary.org
END:VEVENT
BEGIN:VEVENT
DTSTART;TZID=America/Chicago:20261210T093000
DTEND;TZID=America/Chicago:20261210T100000
DTSTAMP:20260423T190322
CREATED:20260121T210123Z
LAST-MODIFIED:20260121T210123Z
UID:10000659-1796895000-1796896800@readtalkplayeveryday.com
SUMMARY:Wiggle & Rhyme Storytime
DESCRIPTION:Join us for a lively\, interactive storytime featuring books\, songs\, action rhymes\, puppets and more. Each storytime incorporates the five practices of early literacy: READ\, WRITE\, TALK\, SING & PLAY. This session is perfect for toddlers and preschoolers with their caregivers. \nSame program offered at 9:30 and 10:30 a.m.\nDisclaimer(s)\nAccompanying Adults \nAn adult caregiver must accompany children at this program.\nNo Registration Required
URL:https://readtalkplayeveryday.com/event/wiggle-rhyme-storytime-9/2026-12-10/
LOCATION:Hedberg Public Library\, S. Main St.\, Janesville\, WI\, 53545\, United States
END:VEVENT
BEGIN:VEVENT
DTSTART;TZID=America/Chicago:20261212T090000
DTEND;TZID=America/Chicago:20261212T233000
DTSTAMP:20260423T190322
CREATED:20260128T202053Z
LAST-MODIFIED:20260128T202053Z
UID:10001267-1797066000-1797118200@readtalkplayeveryday.com
SUMMARY:Beloit Winter Crafter & Farmers Market
DESCRIPTION:Join us for our Beloit WINTER Crafter & Farmers Market every Saturday November through April from 9 am to 12 pm.\nWe will have vendors inside\, food trucks outside\, and free family-friendly activities! Participating Vendors will be announced each week on our Beloit Farmers’ Market page and in the Beloit Winter Crafter & Farmers Market event. \nThank you to our sponsors for their support! \n2025 Sponsors:\nBeloit Daily News\, Educators Credit Union\, Geronimo Hospitality Group\, Hendricks Commercial Properties\, Iron Country\, Kerry\, Nowlan Law\, SSM Health\, Stateline Buzz\, Stateline Mental Health Services\, The Beat 92.3 FM & 98.9 FM\, Visit Beloit\, WCLO\, WJVL\nBucciferro Family McDonald’s\, Cornellier Fireworks\, First Community Credit Union\, International Flavors & Fragrances
URL:https://readtalkplayeveryday.com/event/beloit-winter-crafter-farmers-market/2026-12-12/
LOCATION:Downtown Beloit Association\, 557 E Grand Ave\, Beloit\, WI\, 53511\, United States
END:VEVENT
BEGIN:VEVENT
DTSTART;TZID=America/Chicago:20261214T100000
DTEND;TZID=America/Chicago:20261214T110000
DTSTAMP:20260423T190322
CREATED:20251106T221855Z
LAST-MODIFIED:20251106T221855Z
UID:10000140-1797242400-1797246000@readtalkplayeveryday.com
SUMMARY:Music and Movement Story Time
DESCRIPTION:Start your week with a joyful burst of music and motion! We’ll sing\, dance\, wiggle\, and read together to build early literacy skills—while having a whole lot of fun. Perfect for little movers and shakers! For ages 2-6.
URL:https://readtalkplayeveryday.com/event/music-and-movement-story-time-4/2026-12-14/
LOCATION:Beloit Public Library\, 605 Eclipse Blvd\, Beloit\, WI\, 53511\, United States
ATTACH;FMTTYPE=image/jpeg:https://readtalkplayeveryday.com/wp-content/uploads/LibCal-Graphics-MusicAndMovement-1.jpg
END:VEVENT
BEGIN:VEVENT
DTSTART;TZID=America/Chicago:20261214T173000
DTEND;TZID=America/Chicago:20261214T180000
DTSTAMP:20260423T190322
CREATED:20260126T195422Z
LAST-MODIFIED:20260126T195422Z
UID:10000741-1797269400-1797271200@readtalkplayeveryday.com
SUMMARY:Story Time
DESCRIPTION:Stories\, finger plays\, rhymes\, and songs!
URL:https://readtalkplayeveryday.com/event/story-time/2026-12-14/
LOCATION:Milton Public Library\, 430 E High St\, Milton\, Wisconsin\, 53563
END:VEVENT
BEGIN:VEVENT
DTSTART;TZID=America/Chicago:20261216T100000
DTEND;TZID=America/Chicago:20261216T110000
DTSTAMP:20260423T190322
CREATED:20251106T221822Z
LAST-MODIFIED:20251106T221822Z
UID:10000402-1797415200-1797418800@readtalkplayeveryday.com
SUMMARY:Preschool Story Time
DESCRIPTION:Explore a new theme every week through stories\, songs\, rhymes\, and hands-on fun! This is a wonderful time for preschoolers to practice listening\, interacting\, and imagining—together. Ages 2-6.
URL:https://readtalkplayeveryday.com/event/preschool-story-time-5/2026-12-16/
LOCATION:Beloit Public Library\, 605 Eclipse Blvd\, Beloit\, WI\, 53511\, United States
ATTACH;FMTTYPE=image/jpeg:https://readtalkplayeveryday.com/wp-content/uploads/LibCal-Graphics-PreschoolStoryTime.jpg
ORGANIZER;CN="Belot Public Library":MAILTO:pserve@beloitlibrary.org
END:VEVENT
END:VCALENDAR