BEGIN:VCALENDAR
VERSION:2.0
PRODID:-//Read Talk Play Everyday - ECPv6.15.20//NONSGML v1.0//EN
CALSCALE:GREGORIAN
METHOD:PUBLISH
X-ORIGINAL-URL:https://readtalkplayeveryday.com
X-WR-CALDESC:Events for Read Talk Play Everyday
REFRESH-INTERVAL;VALUE=DURATION:PT1H
X-Robots-Tag:noindex
X-PUBLISHED-TTL:PT1H
BEGIN:VTIMEZONE
TZID:America/Chicago
BEGIN:DAYLIGHT
TZOFFSETFROM:-0600
TZOFFSETTO:-0500
TZNAME:CDT
DTSTART:20250309T080000
END:DAYLIGHT
BEGIN:STANDARD
TZOFFSETFROM:-0500
TZOFFSETTO:-0600
TZNAME:CST
DTSTART:20251102T070000
END:STANDARD
BEGIN:DAYLIGHT
TZOFFSETFROM:-0600
TZOFFSETTO:-0500
TZNAME:CDT
DTSTART:20260308T080000
END:DAYLIGHT
BEGIN:STANDARD
TZOFFSETFROM:-0500
TZOFFSETTO:-0600
TZNAME:CST
DTSTART:20261101T070000
END:STANDARD
BEGIN:DAYLIGHT
TZOFFSETFROM:-0600
TZOFFSETTO:-0500
TZNAME:CDT
DTSTART:20270314T080000
END:DAYLIGHT
BEGIN:STANDARD
TZOFFSETFROM:-0500
TZOFFSETTO:-0600
TZNAME:CST
DTSTART:20271107T070000
END:STANDARD
END:VTIMEZONE
BEGIN:VEVENT
DTSTART;TZID=America/Chicago:20260709T093000
DTEND;TZID=America/Chicago:20260709T100000
DTSTAMP:20260420T212420
CREATED:20260121T210123Z
LAST-MODIFIED:20260121T210123Z
UID:10000637-1783589400-1783591200@readtalkplayeveryday.com
SUMMARY:Wiggle & Rhyme Storytime
DESCRIPTION:Join us for a lively\, interactive storytime featuring books\, songs\, action rhymes\, puppets and more. Each storytime incorporates the five practices of early literacy: READ\, WRITE\, TALK\, SING & PLAY. This session is perfect for toddlers and preschoolers with their caregivers. \nSame program offered at 9:30 and 10:30 a.m.\nDisclaimer(s)\nAccompanying Adults \nAn adult caregiver must accompany children at this program.\nNo Registration Required
URL:https://readtalkplayeveryday.com/event/wiggle-rhyme-storytime-9/2026-07-09/
LOCATION:Hedberg Public Library\, S. Main St.\, Janesville\, WI\, 53545\, United States
END:VEVENT
BEGIN:VEVENT
DTSTART;TZID=America/Chicago:20260711T090000
DTEND;TZID=America/Chicago:20260711T233000
DTSTAMP:20260420T212420
CREATED:20260128T202053Z
LAST-MODIFIED:20260128T202053Z
UID:10001245-1783760400-1783812600@readtalkplayeveryday.com
SUMMARY:Beloit Winter Crafter & Farmers Market
DESCRIPTION:Join us for our Beloit WINTER Crafter & Farmers Market every Saturday November through April from 9 am to 12 pm.\nWe will have vendors inside\, food trucks outside\, and free family-friendly activities! Participating Vendors will be announced each week on our Beloit Farmers’ Market page and in the Beloit Winter Crafter & Farmers Market event. \nThank you to our sponsors for their support! \n2025 Sponsors:\nBeloit Daily News\, Educators Credit Union\, Geronimo Hospitality Group\, Hendricks Commercial Properties\, Iron Country\, Kerry\, Nowlan Law\, SSM Health\, Stateline Buzz\, Stateline Mental Health Services\, The Beat 92.3 FM & 98.9 FM\, Visit Beloit\, WCLO\, WJVL\nBucciferro Family McDonald’s\, Cornellier Fireworks\, First Community Credit Union\, International Flavors & Fragrances
URL:https://readtalkplayeveryday.com/event/beloit-winter-crafter-farmers-market/2026-07-11/
LOCATION:Downtown Beloit Association\, 557 E Grand Ave\, Beloit\, WI\, 53511\, United States
END:VEVENT
BEGIN:VEVENT
DTSTART;TZID=America/Chicago:20260713T100000
DTEND;TZID=America/Chicago:20260713T110000
DTSTAMP:20260420T212420
CREATED:20251106T221855Z
LAST-MODIFIED:20251106T221855Z
UID:10000118-1783936800-1783940400@readtalkplayeveryday.com
SUMMARY:Music and Movement Story Time
DESCRIPTION:Start your week with a joyful burst of music and motion! We’ll sing\, dance\, wiggle\, and read together to build early literacy skills—while having a whole lot of fun. Perfect for little movers and shakers! For ages 2-6.
URL:https://readtalkplayeveryday.com/event/music-and-movement-story-time-4/2026-07-13/
LOCATION:Beloit Public Library\, 605 Eclipse Blvd\, Beloit\, WI\, 53511\, United States
ATTACH;FMTTYPE=image/jpeg:https://readtalkplayeveryday.com/wp-content/uploads/LibCal-Graphics-MusicAndMovement-1.jpg
END:VEVENT
BEGIN:VEVENT
DTSTART;TZID=America/Chicago:20260713T173000
DTEND;TZID=America/Chicago:20260713T180000
DTSTAMP:20260420T212420
CREATED:20260126T195422Z
LAST-MODIFIED:20260126T195422Z
UID:10000719-1783963800-1783965600@readtalkplayeveryday.com
SUMMARY:Story Time
DESCRIPTION:Stories\, finger plays\, rhymes\, and songs!
URL:https://readtalkplayeveryday.com/event/story-time/2026-07-13/
LOCATION:Milton Public Library\, 430 E High St\, Milton\, Wisconsin\, 53563
END:VEVENT
BEGIN:VEVENT
DTSTART;TZID=America/Chicago:20260715T100000
DTEND;TZID=America/Chicago:20260715T110000
DTSTAMP:20260420T212420
CREATED:20251106T221822Z
LAST-MODIFIED:20251106T221822Z
UID:10000380-1784109600-1784113200@readtalkplayeveryday.com
SUMMARY:Preschool Story Time
DESCRIPTION:Explore a new theme every week through stories\, songs\, rhymes\, and hands-on fun! This is a wonderful time for preschoolers to practice listening\, interacting\, and imagining—together. Ages 2-6.
URL:https://readtalkplayeveryday.com/event/preschool-story-time-5/2026-07-15/
LOCATION:Beloit Public Library\, 605 Eclipse Blvd\, Beloit\, WI\, 53511\, United States
ATTACH;FMTTYPE=image/jpeg:https://readtalkplayeveryday.com/wp-content/uploads/LibCal-Graphics-PreschoolStoryTime.jpg
ORGANIZER;CN="Belot Public Library":MAILTO:pserve@beloitlibrary.org
END:VEVENT
BEGIN:VEVENT
DTSTART;TZID=America/Chicago:20260715T103000
DTEND;TZID=America/Chicago:20260715T110000
DTSTAMP:20260420T212420
CREATED:20260126T220934Z
LAST-MODIFIED:20260126T220934Z
UID:10000982-1784111400-1784113200@readtalkplayeveryday.com
SUMMARY:Story Time
DESCRIPTION:Stories\, finger plays\, rhymes\, and songs!
URL:https://readtalkplayeveryday.com/event/story-time-2/2026-07-15/
LOCATION:Milton Public Library\, 430 E High St\, Milton\, Wisconsin\, 53563
ORGANIZER;CN="Milton Public Library":MAILTO:mpl@miltonpubliclibrary.org
END:VEVENT
BEGIN:VEVENT
DTSTART;TZID=America/Chicago:20260716T093000
DTEND;TZID=America/Chicago:20260716T100000
DTSTAMP:20260420T212420
CREATED:20260121T210123Z
LAST-MODIFIED:20260121T210123Z
UID:10000638-1784194200-1784196000@readtalkplayeveryday.com
SUMMARY:Wiggle & Rhyme Storytime
DESCRIPTION:Join us for a lively\, interactive storytime featuring books\, songs\, action rhymes\, puppets and more. Each storytime incorporates the five practices of early literacy: READ\, WRITE\, TALK\, SING & PLAY. This session is perfect for toddlers and preschoolers with their caregivers. \nSame program offered at 9:30 and 10:30 a.m.\nDisclaimer(s)\nAccompanying Adults \nAn adult caregiver must accompany children at this program.\nNo Registration Required
URL:https://readtalkplayeveryday.com/event/wiggle-rhyme-storytime-9/2026-07-16/
LOCATION:Hedberg Public Library\, S. Main St.\, Janesville\, WI\, 53545\, United States
END:VEVENT
BEGIN:VEVENT
DTSTART;TZID=America/Chicago:20260718T090000
DTEND;TZID=America/Chicago:20260718T233000
DTSTAMP:20260420T212420
CREATED:20260128T202053Z
LAST-MODIFIED:20260128T202053Z
UID:10001246-1784365200-1784417400@readtalkplayeveryday.com
SUMMARY:Beloit Winter Crafter & Farmers Market
DESCRIPTION:Join us for our Beloit WINTER Crafter & Farmers Market every Saturday November through April from 9 am to 12 pm.\nWe will have vendors inside\, food trucks outside\, and free family-friendly activities! Participating Vendors will be announced each week on our Beloit Farmers’ Market page and in the Beloit Winter Crafter & Farmers Market event. \nThank you to our sponsors for their support! \n2025 Sponsors:\nBeloit Daily News\, Educators Credit Union\, Geronimo Hospitality Group\, Hendricks Commercial Properties\, Iron Country\, Kerry\, Nowlan Law\, SSM Health\, Stateline Buzz\, Stateline Mental Health Services\, The Beat 92.3 FM & 98.9 FM\, Visit Beloit\, WCLO\, WJVL\nBucciferro Family McDonald’s\, Cornellier Fireworks\, First Community Credit Union\, International Flavors & Fragrances
URL:https://readtalkplayeveryday.com/event/beloit-winter-crafter-farmers-market/2026-07-18/
LOCATION:Downtown Beloit Association\, 557 E Grand Ave\, Beloit\, WI\, 53511\, United States
END:VEVENT
BEGIN:VEVENT
DTSTART;TZID=America/Chicago:20260720T100000
DTEND;TZID=America/Chicago:20260720T110000
DTSTAMP:20260420T212420
CREATED:20251106T221855Z
LAST-MODIFIED:20251106T221855Z
UID:10000119-1784541600-1784545200@readtalkplayeveryday.com
SUMMARY:Music and Movement Story Time
DESCRIPTION:Start your week with a joyful burst of music and motion! We’ll sing\, dance\, wiggle\, and read together to build early literacy skills—while having a whole lot of fun. Perfect for little movers and shakers! For ages 2-6.
URL:https://readtalkplayeveryday.com/event/music-and-movement-story-time-4/2026-07-20/
LOCATION:Beloit Public Library\, 605 Eclipse Blvd\, Beloit\, WI\, 53511\, United States
ATTACH;FMTTYPE=image/jpeg:https://readtalkplayeveryday.com/wp-content/uploads/LibCal-Graphics-MusicAndMovement-1.jpg
END:VEVENT
BEGIN:VEVENT
DTSTART;TZID=America/Chicago:20260720T173000
DTEND;TZID=America/Chicago:20260720T180000
DTSTAMP:20260420T212420
CREATED:20260126T195422Z
LAST-MODIFIED:20260126T195422Z
UID:10000720-1784568600-1784570400@readtalkplayeveryday.com
SUMMARY:Story Time
DESCRIPTION:Stories\, finger plays\, rhymes\, and songs!
URL:https://readtalkplayeveryday.com/event/story-time/2026-07-20/
LOCATION:Milton Public Library\, 430 E High St\, Milton\, Wisconsin\, 53563
END:VEVENT
BEGIN:VEVENT
DTSTART;TZID=America/Chicago:20260722T100000
DTEND;TZID=America/Chicago:20260722T110000
DTSTAMP:20260420T212420
CREATED:20251106T221822Z
LAST-MODIFIED:20251106T221822Z
UID:10000381-1784714400-1784718000@readtalkplayeveryday.com
SUMMARY:Preschool Story Time
DESCRIPTION:Explore a new theme every week through stories\, songs\, rhymes\, and hands-on fun! This is a wonderful time for preschoolers to practice listening\, interacting\, and imagining—together. Ages 2-6.
URL:https://readtalkplayeveryday.com/event/preschool-story-time-5/2026-07-22/
LOCATION:Beloit Public Library\, 605 Eclipse Blvd\, Beloit\, WI\, 53511\, United States
ATTACH;FMTTYPE=image/jpeg:https://readtalkplayeveryday.com/wp-content/uploads/LibCal-Graphics-PreschoolStoryTime.jpg
ORGANIZER;CN="Belot Public Library":MAILTO:pserve@beloitlibrary.org
END:VEVENT
BEGIN:VEVENT
DTSTART;TZID=America/Chicago:20260722T103000
DTEND;TZID=America/Chicago:20260722T110000
DTSTAMP:20260420T212420
CREATED:20260126T220934Z
LAST-MODIFIED:20260126T220934Z
UID:10000983-1784716200-1784718000@readtalkplayeveryday.com
SUMMARY:Story Time
DESCRIPTION:Stories\, finger plays\, rhymes\, and songs!
URL:https://readtalkplayeveryday.com/event/story-time-2/2026-07-22/
LOCATION:Milton Public Library\, 430 E High St\, Milton\, Wisconsin\, 53563
ORGANIZER;CN="Milton Public Library":MAILTO:mpl@miltonpubliclibrary.org
END:VEVENT
BEGIN:VEVENT
DTSTART;TZID=America/Chicago:20260723T093000
DTEND;TZID=America/Chicago:20260723T100000
DTSTAMP:20260420T212420
CREATED:20260121T210123Z
LAST-MODIFIED:20260121T210123Z
UID:10000639-1784799000-1784800800@readtalkplayeveryday.com
SUMMARY:Wiggle & Rhyme Storytime
DESCRIPTION:Join us for a lively\, interactive storytime featuring books\, songs\, action rhymes\, puppets and more. Each storytime incorporates the five practices of early literacy: READ\, WRITE\, TALK\, SING & PLAY. This session is perfect for toddlers and preschoolers with their caregivers. \nSame program offered at 9:30 and 10:30 a.m.\nDisclaimer(s)\nAccompanying Adults \nAn adult caregiver must accompany children at this program.\nNo Registration Required
URL:https://readtalkplayeveryday.com/event/wiggle-rhyme-storytime-9/2026-07-23/
LOCATION:Hedberg Public Library\, S. Main St.\, Janesville\, WI\, 53545\, United States
END:VEVENT
BEGIN:VEVENT
DTSTART;TZID=America/Chicago:20260725T090000
DTEND;TZID=America/Chicago:20260725T123000
DTSTAMP:20260420T212420
CREATED:20260121T205808Z
LAST-MODIFIED:20260121T205808Z
UID:10000610-1784970000-1784982600@readtalkplayeveryday.com
SUMMARY:Child Birth Preparation Class
DESCRIPTION:Our free\, all-in-one program includes research-based\,\nup-to-date information for expectant parents. \nTopics include:\n• Understanding pregnancy and labor\n• A birth story\n• Comfort techniques\n• Understanding medical procedures\n• Cesarean birth\n• Intervention alternatives and non-medicated births\n• Postpartum care including breastfeeding basics\n• What to expect with immediate newborn care \nChoose from one of our every-other-month\,\n“Weekend Express” classes\, from 9 am – 12:30 pm\non Saturday. \nThe class is held in the Conference\nRooms on the Garden Level at SSM Health\nDean Medical Group – Janesville East. \nClass sizes may be limited. \nPlease call 608-373-8200 to sign up.
URL:https://readtalkplayeveryday.com/event/child-birth-preparation-class/2026-07-25/
LOCATION:SSM Health St. Mary’s Hospital Janesville\, 3400 E. Racine St.\, Janesville\, WI\, 53546\, United States
ATTACH;FMTTYPE=image/jpeg:https://readtalkplayeveryday.com/wp-content/uploads/2026-Flyer-1.jpg
END:VEVENT
BEGIN:VEVENT
DTSTART;TZID=America/Chicago:20260725T090000
DTEND;TZID=America/Chicago:20260725T233000
DTSTAMP:20260420T212420
CREATED:20260128T202053Z
LAST-MODIFIED:20260128T202053Z
UID:10001247-1784970000-1785022200@readtalkplayeveryday.com
SUMMARY:Beloit Winter Crafter & Farmers Market
DESCRIPTION:Join us for our Beloit WINTER Crafter & Farmers Market every Saturday November through April from 9 am to 12 pm.\nWe will have vendors inside\, food trucks outside\, and free family-friendly activities! Participating Vendors will be announced each week on our Beloit Farmers’ Market page and in the Beloit Winter Crafter & Farmers Market event. \nThank you to our sponsors for their support! \n2025 Sponsors:\nBeloit Daily News\, Educators Credit Union\, Geronimo Hospitality Group\, Hendricks Commercial Properties\, Iron Country\, Kerry\, Nowlan Law\, SSM Health\, Stateline Buzz\, Stateline Mental Health Services\, The Beat 92.3 FM & 98.9 FM\, Visit Beloit\, WCLO\, WJVL\nBucciferro Family McDonald’s\, Cornellier Fireworks\, First Community Credit Union\, International Flavors & Fragrances
URL:https://readtalkplayeveryday.com/event/beloit-winter-crafter-farmers-market/2026-07-25/
LOCATION:Downtown Beloit Association\, 557 E Grand Ave\, Beloit\, WI\, 53511\, United States
END:VEVENT
BEGIN:VEVENT
DTSTART;TZID=America/Chicago:20260727T100000
DTEND;TZID=America/Chicago:20260727T110000
DTSTAMP:20260420T212420
CREATED:20251106T221855Z
LAST-MODIFIED:20251106T221855Z
UID:10000120-1785146400-1785150000@readtalkplayeveryday.com
SUMMARY:Music and Movement Story Time
DESCRIPTION:Start your week with a joyful burst of music and motion! We’ll sing\, dance\, wiggle\, and read together to build early literacy skills—while having a whole lot of fun. Perfect for little movers and shakers! For ages 2-6.
URL:https://readtalkplayeveryday.com/event/music-and-movement-story-time-4/2026-07-27/
LOCATION:Beloit Public Library\, 605 Eclipse Blvd\, Beloit\, WI\, 53511\, United States
ATTACH;FMTTYPE=image/jpeg:https://readtalkplayeveryday.com/wp-content/uploads/LibCal-Graphics-MusicAndMovement-1.jpg
END:VEVENT
BEGIN:VEVENT
DTSTART;TZID=America/Chicago:20260727T173000
DTEND;TZID=America/Chicago:20260727T180000
DTSTAMP:20260420T212420
CREATED:20260126T195422Z
LAST-MODIFIED:20260126T195422Z
UID:10000721-1785173400-1785175200@readtalkplayeveryday.com
SUMMARY:Story Time
DESCRIPTION:Stories\, finger plays\, rhymes\, and songs!
URL:https://readtalkplayeveryday.com/event/story-time/2026-07-27/
LOCATION:Milton Public Library\, 430 E High St\, Milton\, Wisconsin\, 53563
END:VEVENT
BEGIN:VEVENT
DTSTART;TZID=America/Chicago:20260729T100000
DTEND;TZID=America/Chicago:20260729T110000
DTSTAMP:20260420T212420
CREATED:20251106T221822Z
LAST-MODIFIED:20251106T221822Z
UID:10000382-1785319200-1785322800@readtalkplayeveryday.com
SUMMARY:Preschool Story Time
DESCRIPTION:Explore a new theme every week through stories\, songs\, rhymes\, and hands-on fun! This is a wonderful time for preschoolers to practice listening\, interacting\, and imagining—together. Ages 2-6.
URL:https://readtalkplayeveryday.com/event/preschool-story-time-5/2026-07-29/
LOCATION:Beloit Public Library\, 605 Eclipse Blvd\, Beloit\, WI\, 53511\, United States
ATTACH;FMTTYPE=image/jpeg:https://readtalkplayeveryday.com/wp-content/uploads/LibCal-Graphics-PreschoolStoryTime.jpg
ORGANIZER;CN="Belot Public Library":MAILTO:pserve@beloitlibrary.org
END:VEVENT
BEGIN:VEVENT
DTSTART;TZID=America/Chicago:20260729T103000
DTEND;TZID=America/Chicago:20260729T110000
DTSTAMP:20260420T212420
CREATED:20260126T220934Z
LAST-MODIFIED:20260126T220934Z
UID:10000984-1785321000-1785322800@readtalkplayeveryday.com
SUMMARY:Story Time
DESCRIPTION:Stories\, finger plays\, rhymes\, and songs!
URL:https://readtalkplayeveryday.com/event/story-time-2/2026-07-29/
LOCATION:Milton Public Library\, 430 E High St\, Milton\, Wisconsin\, 53563
ORGANIZER;CN="Milton Public Library":MAILTO:mpl@miltonpubliclibrary.org
END:VEVENT
BEGIN:VEVENT
DTSTART;TZID=America/Chicago:20260730T093000
DTEND;TZID=America/Chicago:20260730T100000
DTSTAMP:20260420T212420
CREATED:20260121T210123Z
LAST-MODIFIED:20260121T210123Z
UID:10000640-1785403800-1785405600@readtalkplayeveryday.com
SUMMARY:Wiggle & Rhyme Storytime
DESCRIPTION:Join us for a lively\, interactive storytime featuring books\, songs\, action rhymes\, puppets and more. Each storytime incorporates the five practices of early literacy: READ\, WRITE\, TALK\, SING & PLAY. This session is perfect for toddlers and preschoolers with their caregivers. \nSame program offered at 9:30 and 10:30 a.m.\nDisclaimer(s)\nAccompanying Adults \nAn adult caregiver must accompany children at this program.\nNo Registration Required
URL:https://readtalkplayeveryday.com/event/wiggle-rhyme-storytime-9/2026-07-30/
LOCATION:Hedberg Public Library\, S. Main St.\, Janesville\, WI\, 53545\, United States
END:VEVENT
BEGIN:VEVENT
DTSTART;TZID=America/Chicago:20260801T090000
DTEND;TZID=America/Chicago:20260801T233000
DTSTAMP:20260420T212420
CREATED:20260128T202053Z
LAST-MODIFIED:20260128T202053Z
UID:10001248-1785574800-1785627000@readtalkplayeveryday.com
SUMMARY:Beloit Winter Crafter & Farmers Market
DESCRIPTION:Join us for our Beloit WINTER Crafter & Farmers Market every Saturday November through April from 9 am to 12 pm.\nWe will have vendors inside\, food trucks outside\, and free family-friendly activities! Participating Vendors will be announced each week on our Beloit Farmers’ Market page and in the Beloit Winter Crafter & Farmers Market event. \nThank you to our sponsors for their support! \n2025 Sponsors:\nBeloit Daily News\, Educators Credit Union\, Geronimo Hospitality Group\, Hendricks Commercial Properties\, Iron Country\, Kerry\, Nowlan Law\, SSM Health\, Stateline Buzz\, Stateline Mental Health Services\, The Beat 92.3 FM & 98.9 FM\, Visit Beloit\, WCLO\, WJVL\nBucciferro Family McDonald’s\, Cornellier Fireworks\, First Community Credit Union\, International Flavors & Fragrances
URL:https://readtalkplayeveryday.com/event/beloit-winter-crafter-farmers-market/2026-08-01/
LOCATION:Downtown Beloit Association\, 557 E Grand Ave\, Beloit\, WI\, 53511\, United States
END:VEVENT
BEGIN:VEVENT
DTSTART;TZID=America/Chicago:20260803T100000
DTEND;TZID=America/Chicago:20260803T110000
DTSTAMP:20260420T212420
CREATED:20251106T221855Z
LAST-MODIFIED:20251106T221855Z
UID:10000121-1785751200-1785754800@readtalkplayeveryday.com
SUMMARY:Music and Movement Story Time
DESCRIPTION:Start your week with a joyful burst of music and motion! We’ll sing\, dance\, wiggle\, and read together to build early literacy skills—while having a whole lot of fun. Perfect for little movers and shakers! For ages 2-6.
URL:https://readtalkplayeveryday.com/event/music-and-movement-story-time-4/2026-08-03/
LOCATION:Beloit Public Library\, 605 Eclipse Blvd\, Beloit\, WI\, 53511\, United States
ATTACH;FMTTYPE=image/jpeg:https://readtalkplayeveryday.com/wp-content/uploads/LibCal-Graphics-MusicAndMovement-1.jpg
END:VEVENT
BEGIN:VEVENT
DTSTART;TZID=America/Chicago:20260803T173000
DTEND;TZID=America/Chicago:20260803T180000
DTSTAMP:20260420T212420
CREATED:20260126T195422Z
LAST-MODIFIED:20260126T195422Z
UID:10000722-1785778200-1785780000@readtalkplayeveryday.com
SUMMARY:Story Time
DESCRIPTION:Stories\, finger plays\, rhymes\, and songs!
URL:https://readtalkplayeveryday.com/event/story-time/2026-08-03/
LOCATION:Milton Public Library\, 430 E High St\, Milton\, Wisconsin\, 53563
END:VEVENT
BEGIN:VEVENT
DTSTART;TZID=America/Chicago:20260805T100000
DTEND;TZID=America/Chicago:20260805T110000
DTSTAMP:20260420T212420
CREATED:20251106T221822Z
LAST-MODIFIED:20251106T221822Z
UID:10000383-1785924000-1785927600@readtalkplayeveryday.com
SUMMARY:Preschool Story Time
DESCRIPTION:Explore a new theme every week through stories\, songs\, rhymes\, and hands-on fun! This is a wonderful time for preschoolers to practice listening\, interacting\, and imagining—together. Ages 2-6.
URL:https://readtalkplayeveryday.com/event/preschool-story-time-5/2026-08-05/
LOCATION:Beloit Public Library\, 605 Eclipse Blvd\, Beloit\, WI\, 53511\, United States
ATTACH;FMTTYPE=image/jpeg:https://readtalkplayeveryday.com/wp-content/uploads/LibCal-Graphics-PreschoolStoryTime.jpg
ORGANIZER;CN="Belot Public Library":MAILTO:pserve@beloitlibrary.org
END:VEVENT
BEGIN:VEVENT
DTSTART;TZID=America/Chicago:20260805T103000
DTEND;TZID=America/Chicago:20260805T110000
DTSTAMP:20260420T212420
CREATED:20260126T220934Z
LAST-MODIFIED:20260126T220934Z
UID:10000985-1785925800-1785927600@readtalkplayeveryday.com
SUMMARY:Story Time
DESCRIPTION:Stories\, finger plays\, rhymes\, and songs!
URL:https://readtalkplayeveryday.com/event/story-time-2/2026-08-05/
LOCATION:Milton Public Library\, 430 E High St\, Milton\, Wisconsin\, 53563
ORGANIZER;CN="Milton Public Library":MAILTO:mpl@miltonpubliclibrary.org
END:VEVENT
BEGIN:VEVENT
DTSTART;TZID=America/Chicago:20260806T093000
DTEND;TZID=America/Chicago:20260806T100000
DTSTAMP:20260420T212420
CREATED:20260121T210123Z
LAST-MODIFIED:20260121T210123Z
UID:10000641-1786008600-1786010400@readtalkplayeveryday.com
SUMMARY:Wiggle & Rhyme Storytime
DESCRIPTION:Join us for a lively\, interactive storytime featuring books\, songs\, action rhymes\, puppets and more. Each storytime incorporates the five practices of early literacy: READ\, WRITE\, TALK\, SING & PLAY. This session is perfect for toddlers and preschoolers with their caregivers. \nSame program offered at 9:30 and 10:30 a.m.\nDisclaimer(s)\nAccompanying Adults \nAn adult caregiver must accompany children at this program.\nNo Registration Required
URL:https://readtalkplayeveryday.com/event/wiggle-rhyme-storytime-9/2026-08-06/
LOCATION:Hedberg Public Library\, S. Main St.\, Janesville\, WI\, 53545\, United States
END:VEVENT
BEGIN:VEVENT
DTSTART;TZID=America/Chicago:20260808T090000
DTEND;TZID=America/Chicago:20260808T233000
DTSTAMP:20260420T212420
CREATED:20260128T202053Z
LAST-MODIFIED:20260128T202053Z
UID:10001249-1786179600-1786231800@readtalkplayeveryday.com
SUMMARY:Beloit Winter Crafter & Farmers Market
DESCRIPTION:Join us for our Beloit WINTER Crafter & Farmers Market every Saturday November through April from 9 am to 12 pm.\nWe will have vendors inside\, food trucks outside\, and free family-friendly activities! Participating Vendors will be announced each week on our Beloit Farmers’ Market page and in the Beloit Winter Crafter & Farmers Market event. \nThank you to our sponsors for their support! \n2025 Sponsors:\nBeloit Daily News\, Educators Credit Union\, Geronimo Hospitality Group\, Hendricks Commercial Properties\, Iron Country\, Kerry\, Nowlan Law\, SSM Health\, Stateline Buzz\, Stateline Mental Health Services\, The Beat 92.3 FM & 98.9 FM\, Visit Beloit\, WCLO\, WJVL\nBucciferro Family McDonald’s\, Cornellier Fireworks\, First Community Credit Union\, International Flavors & Fragrances
URL:https://readtalkplayeveryday.com/event/beloit-winter-crafter-farmers-market/2026-08-08/
LOCATION:Downtown Beloit Association\, 557 E Grand Ave\, Beloit\, WI\, 53511\, United States
END:VEVENT
BEGIN:VEVENT
DTSTART;TZID=America/Chicago:20260810T100000
DTEND;TZID=America/Chicago:20260810T110000
DTSTAMP:20260420T212420
CREATED:20251106T221855Z
LAST-MODIFIED:20251106T221855Z
UID:10000122-1786356000-1786359600@readtalkplayeveryday.com
SUMMARY:Music and Movement Story Time
DESCRIPTION:Start your week with a joyful burst of music and motion! We’ll sing\, dance\, wiggle\, and read together to build early literacy skills—while having a whole lot of fun. Perfect for little movers and shakers! For ages 2-6.
URL:https://readtalkplayeveryday.com/event/music-and-movement-story-time-4/2026-08-10/
LOCATION:Beloit Public Library\, 605 Eclipse Blvd\, Beloit\, WI\, 53511\, United States
ATTACH;FMTTYPE=image/jpeg:https://readtalkplayeveryday.com/wp-content/uploads/LibCal-Graphics-MusicAndMovement-1.jpg
END:VEVENT
BEGIN:VEVENT
DTSTART;TZID=America/Chicago:20260810T173000
DTEND;TZID=America/Chicago:20260810T180000
DTSTAMP:20260420T212420
CREATED:20260126T195422Z
LAST-MODIFIED:20260126T195422Z
UID:10000723-1786383000-1786384800@readtalkplayeveryday.com
SUMMARY:Story Time
DESCRIPTION:Stories\, finger plays\, rhymes\, and songs!
URL:https://readtalkplayeveryday.com/event/story-time/2026-08-10/
LOCATION:Milton Public Library\, 430 E High St\, Milton\, Wisconsin\, 53563
END:VEVENT
BEGIN:VEVENT
DTSTART;TZID=America/Chicago:20260812T100000
DTEND;TZID=America/Chicago:20260812T110000
DTSTAMP:20260420T212420
CREATED:20251106T221822Z
LAST-MODIFIED:20251106T221822Z
UID:10000384-1786528800-1786532400@readtalkplayeveryday.com
SUMMARY:Preschool Story Time
DESCRIPTION:Explore a new theme every week through stories\, songs\, rhymes\, and hands-on fun! This is a wonderful time for preschoolers to practice listening\, interacting\, and imagining—together. Ages 2-6.
URL:https://readtalkplayeveryday.com/event/preschool-story-time-5/2026-08-12/
LOCATION:Beloit Public Library\, 605 Eclipse Blvd\, Beloit\, WI\, 53511\, United States
ATTACH;FMTTYPE=image/jpeg:https://readtalkplayeveryday.com/wp-content/uploads/LibCal-Graphics-PreschoolStoryTime.jpg
ORGANIZER;CN="Belot Public Library":MAILTO:pserve@beloitlibrary.org
END:VEVENT
END:VCALENDAR